BEGIN:VCALENDAR
VERSION:2.0
PRODID:-//EZFacility.com, Inc.//EZL 2.5.5.28621
BEGIN:VEVENT
UID:15996259@ezleagues.ezfacility.com
DTSTAMP:20260426T033732Z
CREATED:20260426T033732Z
DTSTART:20241027T173000Z
DTEND:20241027T181500Z
LOCATION:FIELD
CONTACT:Johnny
SUMMARY:Park Strikers VS. 07 FC
DESCRIPTION:League Name: COED CALM 1 - FALL 2\nGame Type: Regular\nGame Sta
 tus: Complete\nHome Team: Park Strikers\nAway Team: 07 FC\nHome Score: 6\n
 Away Score: 3
END:VEVENT
BEGIN:VEVENT
UID:15996243@ezleagues.ezfacility.com
DTSTAMP:20260426T033732Z
CREATED:20260426T033732Z
DTSTART:20241103T174500Z
DTEND:20241103T183000Z
LOCATION:FIELD
CONTACT:
SUMMARY:Practice Squad VS. Park Strikers
DESCRIPTION:League Name: COED CALM 1 - FALL 2\nGame Type: Regular\nGame Sta
 tus: Complete\nHome Team: Practice Squad\nAway Team: Park Strikers\nHome S
 core: 7\nAway Score: 6
END:VEVENT
BEGIN:VEVENT
UID:15996247@ezleagues.ezfacility.com
DTSTAMP:20260426T033732Z
CREATED:20260426T033732Z
DTSTART:20241110T170000Z
DTEND:20241110T174500Z
LOCATION:FIELD
CONTACT:Johnny
SUMMARY:Atletico - Medina VS. Park Strikers
DESCRIPTION:League Name: COED CALM 1 - FALL 2\nGame Type: Regular\nGame Sta
 tus: Complete\nHome Team: Atletico - Medina\nAway Team: Park Strikers\nHom
 e Score: 11\nAway Score: 4
END:VEVENT
BEGIN:VEVENT
UID:15996251@ezleagues.ezfacility.com
DTSTAMP:20260426T033732Z
CREATED:20260426T033732Z
DTSTART:20241117T191500Z
DTEND:20241117T200000Z
LOCATION:FIELD
CONTACT:Johnny
SUMMARY:Cherry Chupacabras VS. Park Strikers
DESCRIPTION:League Name: COED CALM 1 - FALL 2\nGame Type: Regular\nGame Sta
 tus: Complete\nHome Team: Cherry Chupacabras\nAway Team: Park Strikers\nHo
 me Score: 6\nAway Score: 0
END:VEVENT
BEGIN:VEVENT
UID:15996255@ezleagues.ezfacility.com
DTSTAMP:20260426T033732Z
CREATED:20260426T033732Z
DTSTART:20241124T183000Z
DTEND:20241124T191500Z
LOCATION:FIELD
CONTACT:Johnny
SUMMARY:Texas Bank FC VS. Park Strikers
DESCRIPTION:League Name: COED CALM 1 - FALL 2\nGame Type: Regular\nGame Sta
 tus: Complete\nHome Team: Texas Bank FC\nAway Team: Park Strikers\nHome Sc
 ore: 3\nAway Score: 0
END:VEVENT
BEGIN:VEVENT
UID:15996238@ezleagues.ezfacility.com
DTSTAMP:20260426T033732Z
CREATED:20260426T033732Z
DTSTART:20241201T170000Z
DTEND:20241201T174500Z
LOCATION:FIELD
CONTACT:Johnny
SUMMARY:Park Strikers VS. Santos FC
DESCRIPTION:League Name: COED CALM 1 - FALL 2\nGame Type: Regular\nGame Sta
 tus: Complete\nHome Team: Park Strikers\nAway Team: Santos FC\nHome Score:
  5\nAway Score: 11
END:VEVENT
BEGIN:VEVENT
UID:15996265@ezleagues.ezfacility.com
DTSTAMP:20260426T033732Z
CREATED:20260426T033732Z
DTSTART:20241208T174500Z
DTEND:20241208T183000Z
LOCATION:FIELD
CONTACT:Johnny
SUMMARY:Park Strikers VS. The Replacements
DESCRIPTION:League Name: COED CALM 1 - FALL 2\nGame Type: Regular\nGame Sta
 tus: Complete\nHome Team: Park Strikers\nAway Team: The Replacements\nHome
  Score: 0\nAway Score: 11
END:VEVENT
BEGIN:VEVENT
UID:15996271@ezleagues.ezfacility.com
DTSTAMP:20260426T033732Z
CREATED:20260426T033732Z
DTSTART:20241215T174500Z
DTEND:20241215T183000Z
LOCATION:FIELD
CONTACT:
SUMMARY:Park Strikers VS. Big Barcelona
DESCRIPTION:League Name: COED CALM 1 - FALL 2\nGame Type: Regular\nGame Sta
 tus: Complete\nHome Team: Park Strikers\nAway Team: Big Barcelona\nHome Sc
 ore: 2\nAway Score: 10
END:VEVENT
END:VCALENDAR
