BEGIN:VCALENDAR
VERSION:2.0
PRODID:-//EZFacility.com, Inc.//EZL 2.5.5.28621
BEGIN:VEVENT
UID:15995326@ezleagues.ezfacility.com
DTSTAMP:20260426T034957Z
CREATED:20260426T034957Z
DTSTART:20241025T030000Z
DTEND:20241025T040000Z
LOCATION:West Field 
CONTACT:Komodi
SUMMARY:FCKC VS. The TFA's
DESCRIPTION:League Name: Winter I 2024 Thursday Coed - Hamm's Division\nGam
 e Type: Regular\nGame Status: Complete\nHome Team: FCKC\nAway Team: The TF
 A's\nHome Score: 11\nAway Score: 4
END:VEVENT
BEGIN:VEVENT
UID:15995328@ezleagues.ezfacility.com
DTSTAMP:20260426T034957Z
CREATED:20260426T034957Z
DTSTART:20241101T030000Z
DTEND:20241101T040000Z
LOCATION:West Field 
CONTACT:Padilla
SUMMARY:FCKC VS. Popspurs
DESCRIPTION:League Name: Winter I 2024 Thursday Coed - Hamm's Division\nGam
 e Type: Regular\nGame Status: Complete\nHome Team: FCKC\nAway Team: Popspu
 rs\nHome Score: 11\nAway Score: 3
END:VEVENT
BEGIN:VEVENT
UID:15995329@ezleagues.ezfacility.com
DTSTAMP:20260426T034957Z
CREATED:20260426T034957Z
DTSTART:20241108T040000Z
DTEND:20241108T050000Z
LOCATION:East Field
CONTACT:Vonk
SUMMARY:Don't Show Up VS. FCKC
DESCRIPTION:League Name: Winter I 2024 Thursday Coed - Hamm's Division\nGam
 e Type: Regular\nGame Status: Complete\nHome Team: Don't Show Up\nAway Tea
 m: FCKC\nHome Score: 10\nAway Score: 4
END:VEVENT
BEGIN:VEVENT
UID:15995349@ezleagues.ezfacility.com
DTSTAMP:20260426T034957Z
CREATED:20260426T034957Z
DTSTART:20241115T040000Z
DTEND:20241115T050000Z
LOCATION:East Field
CONTACT:Musa
SUMMARY:FCKC VS. Balls in Your Face
DESCRIPTION:League Name: Winter I 2024 Thursday Coed - Hamm's Division\nGam
 e Type: Regular\nGame Status: Complete\nHome Team: FCKC\nAway Team: Balls 
 in Your Face\nHome Score: 14\nAway Score: 10
END:VEVENT
END:VCALENDAR
