BEGIN:VCALENDAR
VERSION:2.0
PRODID:-//EZFacility.com, Inc.//EZL 2.5.5.28621
BEGIN:VEVENT
UID:16010105@ezleagues.ezfacility.com
DTSTAMP:20260426T034804Z
CREATED:20260426T034804Z
DTSTART:20241026T151500Z
DTEND:20241026T160000Z
LOCATION:Field/Court B
CONTACT:
SUMMARY:SSFC Thunder 16 JP - 2 VS. Coed 17/16 Avalanche AA
DESCRIPTION:League Name: Boys 2016 Futsal\nGame Type: Regular\nGame Status:
  Complete\nHome Team: SSFC Thunder 16 JP - 2\nAway Team: Coed 17/16 Avalan
 che AA\nHome Score: 3\nAway Score: 0
END:VEVENT
BEGIN:VEVENT
UID:16010100@ezleagues.ezfacility.com
DTSTAMP:20260426T034804Z
CREATED:20260426T034804Z
DTSTART:20241102T192000Z
DTEND:20241102T200500Z
LOCATION:Field/Court C
CONTACT:
SUMMARY:Coed 17/16 Avalanche AA VS. Utah Avalanche Boys 16 Blue SL
DESCRIPTION:League Name: Boys 2016 Futsal\nGame Type: Regular\nGame Status:
  Complete\nHome Team: Coed 17/16 Avalanche AA\nAway Team: Utah Avalanche B
 oys 16 Blue SL\nHome Score: 5\nAway Score: 1
END:VEVENT
BEGIN:VEVENT
UID:16010109@ezleagues.ezfacility.com
DTSTAMP:20260426T034804Z
CREATED:20260426T034804Z
DTSTART:20241109T153000Z
DTEND:20241109T161500Z
LOCATION:Field/Court B
CONTACT:
SUMMARY:Avalanche Boys White 16 SL (U9) VS. Coed 17/16 Avalanche AA
DESCRIPTION:League Name: Boys 2016 Futsal\nGame Type: Regular\nGame Status:
  Complete\nHome Team: Avalanche Boys White 16 SL (U9)\nAway Team: Coed 17/
 16 Avalanche AA\nHome Score: 7\nAway Score: 3
END:VEVENT
BEGIN:VEVENT
UID:16010112@ezleagues.ezfacility.com
DTSTAMP:20260426T034804Z
CREATED:20260426T034804Z
DTSTART:20241116T161500Z
DTEND:20241116T170000Z
LOCATION:Field/Court B
CONTACT:
SUMMARY:Coed 17/16 Avalanche AA VS. SSFC Thunder 16 JP - 1
DESCRIPTION:League Name: Boys 2016 Futsal\nGame Type: Regular\nGame Status:
  Complete\nHome Team: Coed 17/16 Avalanche AA\nAway Team: SSFC Thunder 16 
 JP - 1\nHome Score: 4\nAway Score: 15
END:VEVENT
BEGIN:VEVENT
UID:16010118@ezleagues.ezfacility.com
DTSTAMP:20260426T034804Z
CREATED:20260426T034804Z
DTSTART:20241130T153000Z
DTEND:20241130T161500Z
LOCATION:Field/Court B
CONTACT:
SUMMARY:Avalanche 2016 Girls White SL - CB VS. Coed 17/16 Avalanche AA
DESCRIPTION:League Name: Boys 2016 Futsal\nGame Type: Regular\nGame Status:
  Complete\nHome Team: Avalanche 2016 Girls White SL - CB\nAway Team: Coed 
 17/16 Avalanche AA\nHome Score: 8\nAway Score: 6
END:VEVENT
BEGIN:VEVENT
UID:16010123@ezleagues.ezfacility.com
DTSTAMP:20260426T034804Z
CREATED:20260426T034804Z
DTSTART:20241207T161500Z
DTEND:20241207T170000Z
LOCATION:Field/Court B
CONTACT:
SUMMARY:Coed 17/16 Avalanche AA VS. CFC B16 Red RH
DESCRIPTION:League Name: Boys 2016 Futsal\nGame Type: Regular\nGame Status:
  Complete\nHome Team: Coed 17/16 Avalanche AA\nAway Team: CFC B16 Red RH\n
 Home Score: 0\nAway Score: 14
END:VEVENT
BEGIN:VEVENT
UID:16010128@ezleagues.ezfacility.com
DTSTAMP:20260426T034804Z
CREATED:20260426T034804Z
DTSTART:20241214T180500Z
DTEND:20241214T185000Z
LOCATION:Field/Court D
CONTACT:
SUMMARY:Utah Avalanche Boys 16 Blue SL VS. Coed 17/16 Avalanche AA
DESCRIPTION:League Name: Boys 2016 Futsal\nGame Type: Regular\nGame Status:
  Complete\nHome Team: Utah Avalanche Boys 16 Blue SL\nAway Team: Coed 17/1
 6 Avalanche AA\nHome Score: 6\nAway Score: 0
END:VEVENT
BEGIN:VEVENT
UID:16010133@ezleagues.ezfacility.com
DTSTAMP:20260426T034804Z
CREATED:20260426T034804Z
DTSTART:20241221T193500Z
DTEND:20241221T202000Z
LOCATION:Field/Court C
CONTACT:
SUMMARY:Coed 17/16 Avalanche AA VS. SSFC Thunder 16 JP - 2
DESCRIPTION:League Name: Boys 2016 Futsal\nGame Type: Regular\nGame Status:
  Complete\nHome Team: Coed 17/16 Avalanche AA\nAway Team: SSFC Thunder 16 
 JP - 2\nHome Score: 6\nAway Score: 12
END:VEVENT
END:VCALENDAR
