BEGIN:VCALENDAR
VERSION:2.0
PRODID:-//EZFacility.com, Inc.//EZL 2.5.5.28621
BEGIN:VEVENT
UID:16010102@ezleagues.ezfacility.com
DTSTAMP:20260424T203449Z
CREATED:20260424T203449Z
DTSTART:20241026T170500Z
DTEND:20241026T175000Z
LOCATION:Field/Court C
CONTACT:
SUMMARY:Avalanche Boys White 16 SL (U9) VS. SSFC Thunder 16 JP - 1
DESCRIPTION:League Name: Boys 2016 Futsal\nGame Type: Regular\nGame Status:
  Complete\nHome Team: Avalanche Boys White 16 SL (U9)\nAway Team: SSFC Thu
 nder 16 JP - 1\nHome Score: 0\nAway Score: 3
END:VEVENT
BEGIN:VEVENT
UID:16010099@ezleagues.ezfacility.com
DTSTAMP:20260424T203449Z
CREATED:20260424T203449Z
DTSTART:20241102T143000Z
DTEND:20241102T151500Z
LOCATION:Field/Court B
CONTACT:
SUMMARY:Avalanche Boys White 16 SL (U9) VS. SSFC Thunder 16 JP - 1
DESCRIPTION:League Name: Boys 2016 Futsal\nGame Type: Regular\nGame Status:
  Complete\nHome Team: Avalanche Boys White 16 SL (U9)\nAway Team: SSFC Thu
 nder 16 JP - 1\nHome Score: 2\nAway Score: 5
END:VEVENT
BEGIN:VEVENT
UID:16010112@ezleagues.ezfacility.com
DTSTAMP:20260424T203449Z
CREATED:20260424T203449Z
DTSTART:20241116T161500Z
DTEND:20241116T170000Z
LOCATION:Field/Court B
CONTACT:
SUMMARY:Coed 17/16 Avalanche AA VS. SSFC Thunder 16 JP - 1
DESCRIPTION:League Name: Boys 2016 Futsal\nGame Type: Regular\nGame Status:
  Complete\nHome Team: Coed 17/16 Avalanche AA\nAway Team: SSFC Thunder 16 
 JP - 1\nHome Score: 4\nAway Score: 15
END:VEVENT
BEGIN:VEVENT
UID:16010117@ezleagues.ezfacility.com
DTSTAMP:20260424T203449Z
CREATED:20260424T203449Z
DTSTART:20241123T202000Z
DTEND:20241123T210500Z
LOCATION:Field/Court C
CONTACT:
SUMMARY:SSFC Thunder 16 JP - 1 VS. CFC B16 Red RH
DESCRIPTION:League Name: Boys 2016 Futsal\nGame Type: Regular\nGame Status:
  Complete\nHome Team: SSFC Thunder 16 JP - 1\nAway Team: CFC B16 Red RH\nH
 ome Score: 7\nAway Score: 5
END:VEVENT
BEGIN:VEVENT
UID:16010121@ezleagues.ezfacility.com
DTSTAMP:20260424T203449Z
CREATED:20260424T203449Z
DTSTART:20241130T202000Z
DTEND:20241130T210500Z
LOCATION:Field/Court C
CONTACT:
SUMMARY:SSFC Thunder 16 JP - 1 VS. Utah Avalanche Boys 16 Blue SL
DESCRIPTION:League Name: Boys 2016 Futsal\nGame Type: Regular\nGame Status:
  Complete\nHome Team: SSFC Thunder 16 JP - 1\nAway Team: Utah Avalanche Bo
 ys 16 Blue SL\nHome Score: 2\nAway Score: 1
END:VEVENT
BEGIN:VEVENT
UID:16010124@ezleagues.ezfacility.com
DTSTAMP:20260424T203449Z
CREATED:20260424T203449Z
DTSTART:20241207T202000Z
DTEND:20241207T210500Z
LOCATION:Field/Court D
CONTACT:
SUMMARY:SSFC Thunder 16 JP - 2 VS. SSFC Thunder 16 JP - 1
DESCRIPTION:League Name: Boys 2016 Futsal\nGame Type: Regular\nGame Status:
  Complete\nHome Team: SSFC Thunder 16 JP - 2\nAway Team: SSFC Thunder 16 J
 P - 1\nHome Score: 3\nAway Score: 3
END:VEVENT
BEGIN:VEVENT
UID:16010127@ezleagues.ezfacility.com
DTSTAMP:20260424T203449Z
CREATED:20260424T203449Z
DTSTART:20241214T161500Z
DTEND:20241214T170000Z
LOCATION:Field/Court B
CONTACT:
SUMMARY:SSFC Thunder 16 JP - 1 VS. Avalanche Boys White 16 SL (U9)
DESCRIPTION:League Name: Boys 2016 Futsal\nGame Type: Regular\nGame Status:
  Complete\nHome Team: SSFC Thunder 16 JP - 1\nAway Team: Avalanche Boys Wh
 ite 16 SL (U9)\nHome Score: 12\nAway Score: 2
END:VEVENT
BEGIN:VEVENT
UID:16010130@ezleagues.ezfacility.com
DTSTAMP:20260424T203449Z
CREATED:20260424T203449Z
DTSTART:20241221T202000Z
DTEND:20241221T210500Z
LOCATION:Field/Court D
CONTACT:
SUMMARY:SSFC Thunder 16 JP - 1 VS. Avalanche 2016 Girls White SL - CB
DESCRIPTION:League Name: Boys 2016 Futsal\nGame Type: Regular\nGame Status:
  Complete\nHome Team: SSFC Thunder 16 JP - 1\nAway Team: Avalanche 2016 Gi
 rls White SL - CB\nHome Score: 9\nAway Score: 2
END:VEVENT
END:VCALENDAR
