BEGIN:VCALENDAR
VERSION:2.0
PRODID:-//EZFacility.com, Inc.//EZL 2.5.5.28621
BEGIN:VEVENT
UID:16017149@ezleagues.ezfacility.com
DTSTAMP:20260424T044025Z
CREATED:20260424T044025Z
DTSTART:20241124T210000Z
DTEND:20241124T214000Z
LOCATION:Soccer Field (half field) 2
CONTACT:
SUMMARY:EPSC U15 Blue 2010 VS. FC1974 U15 Boys Select 2010
DESCRIPTION:League Name: YISL - 2010 U15 Boys\nGame Type: Regular\nGame Sta
 tus: Complete\nHome Team: EPSC U15 Blue 2010\nAway Team: FC1974 U15 Boys S
 elect 2010\nHome Score: 0\nAway Score: 3
END:VEVENT
BEGIN:VEVENT
UID:16017150@ezleagues.ezfacility.com
DTSTAMP:20260424T044025Z
CREATED:20260424T044025Z
DTSTART:20241124T223000Z
DTEND:20241124T231000Z
LOCATION:Soccer Field (half field) 2
CONTACT:
SUMMARY:FC1974 U15 Boys Select 2010 VS. FCX 2011/10 U15B Black
DESCRIPTION:League Name: YISL - 2010 U15 Boys\nGame Type: Regular\nGame Sta
 tus: Complete\nHome Team: FC1974 U15 Boys Select 2010\nAway Team: FCX 2011
 /10 U15B Black\nHome Score: 5\nAway Score: 2
END:VEVENT
END:VCALENDAR
