BEGIN:VCALENDAR
VERSION:2.0
PRODID:-//EZFacility.com, Inc.//EZL 2.5.5.28621
BEGIN:VEVENT
UID:16045222@ezleagues.ezfacility.com
DTSTAMP:20260423T054025Z
CREATED:20260423T054025Z
DTSTART:20241116T230000Z
DTEND:20241117T000000Z
LOCATION:7v7 1
CONTACT:
SUMMARY:13 Girls Black Joe 3 VS. 13 Boys White Katie 2
DESCRIPTION:League Name: MI Burn 7v7 Champions League Red Division 10 Teams
 \nGame Type: Regular\nGame Status: Pending\nHome Team: 13 Girls Black Joe 
 3\nAway Team: 13 Boys White Katie 2\n
END:VEVENT
BEGIN:VEVENT
UID:16045230@ezleagues.ezfacility.com
DTSTAMP:20260423T054025Z
CREATED:20260423T054025Z
DTSTART:20241123T210000Z
DTEND:20241123T220000Z
LOCATION:7v7 1
CONTACT:
SUMMARY:13 Girls Black Joe 2 VS. 13 Girls Black Joe 3
DESCRIPTION:League Name: MI Burn 7v7 Champions League Red Division 10 Teams
 \nGame Type: Regular\nGame Status: Pending\nHome Team: 13 Girls Black Joe 
 2\nAway Team: 13 Girls Black Joe 3\n
END:VEVENT
BEGIN:VEVENT
UID:16045242@ezleagues.ezfacility.com
DTSTAMP:20260423T054025Z
CREATED:20260423T054025Z
DTSTART:20241130T190000Z
DTEND:20241130T200000Z
LOCATION:7v7 1
CONTACT:
SUMMARY:13 Girls Black Joe 3 VS. 13 Boys White Katie 1
DESCRIPTION:League Name: MI Burn 7v7 Champions League Red Division 10 Teams
 \nGame Type: Regular\nGame Status: Pending\nHome Team: 13 Girls Black Joe 
 3\nAway Team: 13 Boys White Katie 1\n
END:VEVENT
BEGIN:VEVENT
UID:16045278@ezleagues.ezfacility.com
DTSTAMP:20260423T054025Z
CREATED:20260423T054025Z
DTSTART:20241201T180000Z
DTEND:20241201T190000Z
LOCATION:7v7 1
CONTACT:
SUMMARY:13 Boys White Katie 2 VS. 13 Girls Black Joe 3
DESCRIPTION:League Name: MI Burn 7v7 Champions League Red Division 10 Teams
 \nGame Type: Regular\nGame Status: Pending\nHome Team: 13 Boys White Katie
  2\nAway Team: 13 Girls Black Joe 3\n
END:VEVENT
BEGIN:VEVENT
UID:16045249@ezleagues.ezfacility.com
DTSTAMP:20260423T054025Z
CREATED:20260423T054025Z
DTSTART:20241207T230000Z
DTEND:20241208T000000Z
LOCATION:7v7 1
CONTACT:
SUMMARY:13 Girls Black Joe 3 VS. 13 Boys White Katie 2
DESCRIPTION:League Name: MI Burn 7v7 Champions League Red Division 10 Teams
 \nGame Type: Regular\nGame Status: Pending\nHome Team: 13 Girls Black Joe 
 3\nAway Team: 13 Boys White Katie 2\n
END:VEVENT
BEGIN:VEVENT
UID:16045259@ezleagues.ezfacility.com
DTSTAMP:20260423T054025Z
CREATED:20260423T054025Z
DTSTART:20241214T220000Z
DTEND:20241214T230000Z
LOCATION:7v7 1
CONTACT:
SUMMARY:14 Boys Black Ehab  VS. 13 Girls Black Joe 3
DESCRIPTION:League Name: MI Burn 7v7 Champions League Red Division 10 Teams
 \nGame Type: Regular\nGame Status: Pending\nHome Team: 14 Boys Black Ehab 
 \nAway Team: 13 Girls Black Joe 3\n
END:VEVENT
END:VCALENDAR
