BEGIN:VCALENDAR
VERSION:2.0
PRODID:-//EZFacility.com, Inc.//EZL 2.5.5.28621
BEGIN:VEVENT
UID:16045221@ezleagues.ezfacility.com
DTSTAMP:20260425T013407Z
CREATED:20260425T013407Z
DTSTART:20241116T220000Z
DTEND:20241116T230000Z
LOCATION:7v7 1
CONTACT:
SUMMARY:13 Girls Black Joe 1 VS. 14 Boys Black Ehab 
DESCRIPTION:League Name: MI Burn 7v7 Champions League Red Division 10 Teams
 \nGame Type: Regular\nGame Status: Pending\nHome Team: 13 Girls Black Joe 
 1\nAway Team: 14 Boys Black Ehab \n
END:VEVENT
BEGIN:VEVENT
UID:16045229@ezleagues.ezfacility.com
DTSTAMP:20260425T013407Z
CREATED:20260425T013407Z
DTSTART:20241123T003000Z
DTEND:20241123T013000Z
LOCATION:7v7 1
CONTACT:
SUMMARY:11 Boys Gold Jeremy VS. 14 Boys Black Ehab 
DESCRIPTION:League Name: MI Burn 7v7 Champions League Red Division 10 Teams
 \nGame Type: Regular\nGame Status: Pending\nHome Team: 11 Boys Gold Jeremy
 \nAway Team: 14 Boys Black Ehab \n
END:VEVENT
BEGIN:VEVENT
UID:16045232@ezleagues.ezfacility.com
DTSTAMP:20260425T013407Z
CREATED:20260425T013407Z
DTSTART:20241123T210000Z
DTEND:20241123T220000Z
LOCATION:7v7 2
CONTACT:
SUMMARY:13 Boys White Katie 2 VS. 14 Boys Black Ehab 
DESCRIPTION:League Name: MI Burn 7v7 Champions League Red Division 10 Teams
 \nGame Type: Regular\nGame Status: Pending\nHome Team: 13 Boys White Katie
  2\nAway Team: 14 Boys Black Ehab \n
END:VEVENT
BEGIN:VEVENT
UID:16045239@ezleagues.ezfacility.com
DTSTAMP:20260425T013407Z
CREATED:20260425T013407Z
DTSTART:20241130T200000Z
DTEND:20241130T210000Z
LOCATION:7v7 1
CONTACT:
SUMMARY:14 Boys Black Ehab  VS. 13 Girls Black Joe 2
DESCRIPTION:League Name: MI Burn 7v7 Champions League Red Division 10 Teams
 \nGame Type: Regular\nGame Status: Pending\nHome Team: 14 Boys Black Ehab 
 \nAway Team: 13 Girls Black Joe 2\n
END:VEVENT
BEGIN:VEVENT
UID:16045277@ezleagues.ezfacility.com
DTSTAMP:20260425T013407Z
CREATED:20260425T013407Z
DTSTART:20241201T190000Z
DTEND:20241201T200000Z
LOCATION:7v7 1
CONTACT:
SUMMARY:14 Boys Black Ehab  VS. 13 Girls Black Joe 2
DESCRIPTION:League Name: MI Burn 7v7 Champions League Red Division 10 Teams
 \nGame Type: Regular\nGame Status: Pending\nHome Team: 14 Boys Black Ehab 
 \nAway Team: 13 Girls Black Joe 2\n
END:VEVENT
BEGIN:VEVENT
UID:16045250@ezleagues.ezfacility.com
DTSTAMP:20260425T013407Z
CREATED:20260425T013407Z
DTSTART:20241207T220000Z
DTEND:20241207T230000Z
LOCATION:7v7 1
CONTACT:
SUMMARY:13 Girls Black Joe 2 VS. 14 Boys Black Ehab 
DESCRIPTION:League Name: MI Burn 7v7 Champions League Red Division 10 Teams
 \nGame Type: Regular\nGame Status: Pending\nHome Team: 13 Girls Black Joe 
 2\nAway Team: 14 Boys Black Ehab \n
END:VEVENT
BEGIN:VEVENT
UID:16045259@ezleagues.ezfacility.com
DTSTAMP:20260425T013407Z
CREATED:20260425T013407Z
DTSTART:20241214T220000Z
DTEND:20241214T230000Z
LOCATION:7v7 1
CONTACT:
SUMMARY:14 Boys Black Ehab  VS. 13 Girls Black Joe 3
DESCRIPTION:League Name: MI Burn 7v7 Champions League Red Division 10 Teams
 \nGame Type: Regular\nGame Status: Pending\nHome Team: 14 Boys Black Ehab 
 \nAway Team: 13 Girls Black Joe 3\n
END:VEVENT
END:VCALENDAR
