BEGIN:VCALENDAR
VERSION:2.0
PRODID:-//EZFacility.com, Inc.//EZL 2.5.5.28621
BEGIN:VEVENT
UID:16004388@ezleagues.ezfacility.com
DTSTAMP:20260426T034919Z
CREATED:20260426T034919Z
DTSTART:20241109T204000Z
DTEND:20241109T213000Z
LOCATION:Rossford Dome FF Field 1
CONTACT:
SUMMARY:Vikings-Evergreen VS. Raiders-Jackson
DESCRIPTION:League Name: 2024 Dome NFL Boys Winter Flag Football 3/4 Grade\
 nGame Type: Regular\nGame Status: Complete\nHome Team: Vikings-Evergreen\n
 Away Team: Raiders-Jackson\nHome Score: 6\nAway Score: 25
END:VEVENT
BEGIN:VEVENT
UID:16004452@ezleagues.ezfacility.com
DTSTAMP:20260426T034919Z
CREATED:20260426T034919Z
DTSTART:20241110T195000Z
DTEND:20241110T204000Z
LOCATION:Rossford Dome FF Field 3
CONTACT:
SUMMARY:Vikings-Evergreen VS. Packers-Hefner
DESCRIPTION:League Name: 2024 Dome NFL Boys Winter Flag Football 3/4 Grade\
 nGame Type: Regular\nGame Status: Complete\nHome Team: Vikings-Evergreen\n
 Away Team: Packers-Hefner\nHome Score: 40\nAway Score: 0
END:VEVENT
BEGIN:VEVENT
UID:16004420@ezleagues.ezfacility.com
DTSTAMP:20260426T034919Z
CREATED:20260426T034919Z
DTSTART:20241123T172000Z
DTEND:20241123T181000Z
LOCATION:Rossford Dome FF Field 3
CONTACT:
SUMMARY:Bears-Blanchong VS. Vikings-Evergreen
DESCRIPTION:League Name: 2024 Dome NFL Boys Winter Flag Football 3/4 Grade\
 nGame Type: Regular\nGame Status: Complete\nHome Team: Bears-Blanchong\nAw
 ay Team: Vikings-Evergreen\nHome Score: 12\nAway Score: 47
END:VEVENT
BEGIN:VEVENT
UID:16004437@ezleagues.ezfacility.com
DTSTAMP:20260426T034919Z
CREATED:20260426T034919Z
DTSTART:20241130T154000Z
DTEND:20241130T163000Z
LOCATION:Rossford Dome FF Field 1
CONTACT:
SUMMARY:Vikings-Evergreen VS. Ravens-Alvarez
DESCRIPTION:League Name: 2024 Dome NFL Boys Winter Flag Football 3/4 Grade\
 nGame Type: Regular\nGame Status: Complete\nHome Team: Vikings-Evergreen\n
 Away Team: Ravens-Alvarez\nHome Score: 20\nAway Score: 26
END:VEVENT
BEGIN:VEVENT
UID:16004395@ezleagues.ezfacility.com
DTSTAMP:20260426T034919Z
CREATED:20260426T034919Z
DTSTART:20241214T231000Z
DTEND:20241215T000000Z
LOCATION:Rossford Dome FF Field 1
CONTACT:
SUMMARY:Vikings-Evergreen VS. Lions-Angel 
DESCRIPTION:League Name: 2024 Dome NFL Boys Winter Flag Football 3/4 Grade\
 nGame Type: Regular\nGame Status: Complete\nHome Team: Vikings-Evergreen\n
 Away Team: Lions-Angel \nHome Score: 32\nAway Score: 6
END:VEVENT
BEGIN:VEVENT
UID:16004372@ezleagues.ezfacility.com
DTSTAMP:20260426T034919Z
CREATED:20260426T034919Z
DTSTART:20241215T223000Z
DTEND:20241215T232000Z
LOCATION:Rossford Dome FF Field 1
CONTACT:
SUMMARY:Vikings-Evergreen VS. Bengals-Martinez
DESCRIPTION:League Name: 2024 Dome NFL Boys Winter Flag Football 3/4 Grade\
 nGame Type: Regular\nGame Status: Complete\nHome Team: Vikings-Evergreen\n
 Away Team: Bengals-Martinez\nHome Score: 19\nAway Score: 28
END:VEVENT
END:VCALENDAR
