BEGIN:VCALENDAR
VERSION:2.0
PRODID:-//EZFacility.com, Inc.//EZL 2.5.5.28621
BEGIN:VEVENT
UID:16007959@ezleagues.ezfacility.com
DTSTAMP:20260424T135322Z
CREATED:20260424T135322Z
DTSTART:20241107T084500Z
DTEND:20241107T092500Z
LOCATION: 002 Maracana
CONTACT:Corey 
SUMMARY:Up the Bats VS. The No-Hopers
DESCRIPTION:League Name: SUMMER LEAGUES 24/25 Thursday Over 35s 7s\nGame Ty
 pe: Regular\nGame Status: Complete\nHome Team: Up the Bats\nAway Team: The
  No-Hopers\nHome Score: 10\nAway Score: 0
END:VEVENT
BEGIN:VEVENT
UID:16007968@ezleagues.ezfacility.com
DTSTAMP:20260424T135322Z
CREATED:20260424T135322Z
DTSTART:20241121T040000Z
DTEND:20241121T044000Z
LOCATION: 002 Maracana
CONTACT:AA
SUMMARY:Boca Seniors VS. The No-Hopers
DESCRIPTION:League Name: SUMMER LEAGUES 24/25 Thursday Over 35s 7s\nGame Ty
 pe: Regular\nGame Status: Complete\nHome Team: Boca Seniors\nAway Team: Th
 e No-Hopers\nHome Score: 10\nAway Score: 0
END:VEVENT
BEGIN:VEVENT
UID:16007976@ezleagues.ezfacility.com
DTSTAMP:20260424T135322Z
CREATED:20260424T135322Z
DTSTART:20241205T084500Z
DTEND:20241205T092500Z
LOCATION: 001 Wembley Stadium
CONTACT:Greg
SUMMARY:Pretzels VS. The No-Hopers
DESCRIPTION:League Name: SUMMER LEAGUES 24/25 Thursday Over 35s 7s\nGame Ty
 pe: Regular\nGame Status: Complete\nHome Team: Pretzels\nAway Team: The No
 -Hopers\nHome Score: 10\nAway Score: 0
END:VEVENT
BEGIN:VEVENT
UID:16007980@ezleagues.ezfacility.com
DTSTAMP:20260424T135322Z
CREATED:20260424T135322Z
DTSTART:20241212T071500Z
DTEND:20241212T075500Z
LOCATION: 002 Maracana
CONTACT:Corey 
SUMMARY:The No-Hopers VS. Berkeley Drunks
DESCRIPTION:League Name: SUMMER LEAGUES 24/25 Thursday Over 35s 7s\nGame Ty
 pe: Regular\nGame Status: Complete\nHome Team: The No-Hopers\nAway Team: B
 erkeley Drunks\nHome Score: 0\nAway Score: 3
END:VEVENT
BEGIN:VEVENT
UID:16007986@ezleagues.ezfacility.com
DTSTAMP:20260424T135322Z
CREATED:20260424T135322Z
DTSTART:20241219T080000Z
DTEND:20241219T084000Z
LOCATION: 001 Wembley Stadium
CONTACT:Greg
SUMMARY:The No-Hopers VS. Diego's 
DESCRIPTION:League Name: SUMMER LEAGUES 24/25 Thursday Over 35s 7s\nGame Ty
 pe: Regular\nGame Status: Complete\nHome Team: The No-Hopers\nAway Team: D
 iego's \nHome Score: 6\nAway Score: 5
END:VEVENT
BEGIN:VEVENT
UID:16008004@ezleagues.ezfacility.com
DTSTAMP:20260424T135322Z
CREATED:20260424T135322Z
DTSTART:20250109T084500Z
DTEND:20250109T092500Z
LOCATION: 001 Wembley Stadium
CONTACT:Greg
SUMMARY:The No-Hopers VS. Up the Bats
DESCRIPTION:League Name: SUMMER LEAGUES 24/25 Thursday Over 35s 7s\nGame Ty
 pe: Regular\nGame Status: Complete\nHome Team: The No-Hopers\nAway Team: U
 p the Bats\nHome Score: 2\nAway Score: 15
END:VEVENT
BEGIN:VEVENT
UID:16008009@ezleagues.ezfacility.com
DTSTAMP:20260424T135322Z
CREATED:20260424T135322Z
DTSTART:20250116T084500Z
DTEND:20250116T092500Z
LOCATION: 002 Maracana
CONTACT:Greg
SUMMARY:IOS OVER 45S  VS. The No-Hopers
DESCRIPTION:League Name: SUMMER LEAGUES 24/25 Thursday Over 35s 7s\nGame Ty
 pe: Regular\nGame Status: Complete\nHome Team: IOS OVER 45S \nAway Team: T
 he No-Hopers\nHome Score: 7\nAway Score: 2
END:VEVENT
BEGIN:VEVENT
UID:16008013@ezleagues.ezfacility.com
DTSTAMP:20260424T135322Z
CREATED:20260424T135322Z
DTSTART:20250123T093000Z
DTEND:20250123T101000Z
LOCATION: 001 Wembley Stadium
CONTACT:Greg
SUMMARY:Boca Seniors VS. The No-Hopers
DESCRIPTION:League Name: SUMMER LEAGUES 24/25 Thursday Over 35s 7s\nGame Ty
 pe: Regular\nGame Status: Complete\nHome Team: Boca Seniors\nAway Team: Th
 e No-Hopers\nHome Score: 7\nAway Score: 4
END:VEVENT
BEGIN:VEVENT
UID:16008017@ezleagues.ezfacility.com
DTSTAMP:20260424T135322Z
CREATED:20260424T135322Z
DTSTART:20250130T071500Z
DTEND:20250130T075500Z
LOCATION: 001 Wembley Stadium
CONTACT:Greg
SUMMARY:IOS OVER 35S VS. The No-Hopers
DESCRIPTION:League Name: SUMMER LEAGUES 24/25 Thursday Over 35s 7s\nGame Ty
 pe: Regular\nGame Status: Complete\nHome Team: IOS OVER 35S\nAway Team: Th
 e No-Hopers\nHome Score: 8\nAway Score: 0
END:VEVENT
BEGIN:VEVENT
UID:16007992@ezleagues.ezfacility.com
DTSTAMP:20260424T135322Z
CREATED:20260424T135322Z
DTSTART:20250206T093000Z
DTEND:20250206T101000Z
LOCATION: 002 Maracana
CONTACT:Corey 
SUMMARY:Bombers Ball's VS. The No-Hopers
DESCRIPTION:League Name: SUMMER LEAGUES 24/25 Thursday Over 35s 7s\nGame Ty
 pe: Regular\nGame Status: Complete\nHome Team: Bombers Ball's\nAway Team: 
 The No-Hopers\nHome Score: 8\nAway Score: 0
END:VEVENT
BEGIN:VEVENT
UID:16007998@ezleagues.ezfacility.com
DTSTAMP:20260424T135322Z
CREATED:20260424T135322Z
DTSTART:20250213T093000Z
DTEND:20250213T101000Z
LOCATION: 002 Maracana
CONTACT:
SUMMARY:The No-Hopers VS. It's Spraining Men
DESCRIPTION:League Name: SUMMER LEAGUES 24/25 Thursday Over 35s 7s\nGame Ty
 pe: Regular\nGame Status: Complete\nHome Team: The No-Hopers\nAway Team: I
 t's Spraining Men\nHome Score: 4\nAway Score: 4
END:VEVENT
BEGIN:VEVENT
UID:16176218@ezleagues.ezfacility.com
DTSTAMP:20260424T135322Z
CREATED:20260424T135322Z
DTSTART:20250220T071500Z
DTEND:20250220T075500Z
LOCATION: 001 Wembley Stadium
CONTACT:Greg
SUMMARY:It's Spraining Men VS. The No-Hopers
DESCRIPTION:League Name: SUMMER LEAGUES 24/25 Thursday Over 35s 7s\nGame Ty
 pe: Postseason\nGame Status: Complete\nHome Team: It's Spraining Men\nAway
  Team: The No-Hopers\nHome Score: 1\nAway Score: 2
END:VEVENT
END:VCALENDAR
