BEGIN:VCALENDAR
VERSION:2.0
PRODID:-//EZFacility.com, Inc.//EZL 2.5.5.28621
BEGIN:VEVENT
UID:16008448@ezleagues.ezfacility.com
DTSTAMP:20260424T082523Z
CREATED:20260424T082523Z
DTSTART:20241102T190000Z
DTEND:20241102T200000Z
LOCATION:Large Field 1
CONTACT:
SUMMARY:CNYFC VS. MVSC Comets
DESCRIPTION:League Name: Elevate CNY Fall Soccer 2024-U12 Girls\nGame Type:
  Regular\nGame Status: Complete\nHome Team: CNYFC\nAway Team: MVSC Comets\
 nHome Score: 0\nAway Score: 12
END:VEVENT
BEGIN:VEVENT
UID:16008452@ezleagues.ezfacility.com
DTSTAMP:20260424T082523Z
CREATED:20260424T082523Z
DTSTART:20241109T210000Z
DTEND:20241109T220000Z
LOCATION:Large Field 1
CONTACT:
SUMMARY:United Elite Krajisnik VS. MVSC Comets
DESCRIPTION:League Name: Elevate CNY Fall Soccer 2024-U12 Girls\nGame Type:
  Regular\nGame Status: Complete\nHome Team: United Elite Krajisnik\nAway T
 eam: MVSC Comets\nHome Score: 3\nAway Score: 4
END:VEVENT
BEGIN:VEVENT
UID:16008456@ezleagues.ezfacility.com
DTSTAMP:20260424T082523Z
CREATED:20260424T082523Z
DTSTART:20241116T220000Z
DTEND:20241116T230000Z
LOCATION:Large Field 1
CONTACT:
SUMMARY:Rising Stars VS. MVSC Comets
DESCRIPTION:League Name: Elevate CNY Fall Soccer 2024-U12 Girls\nGame Type:
  Regular\nGame Status: Complete\nHome Team: Rising Stars\nAway Team: MVSC 
 Comets\nHome Score: 0\nAway Score: 2
END:VEVENT
BEGIN:VEVENT
UID:16008459@ezleagues.ezfacility.com
DTSTAMP:20260424T082523Z
CREATED:20260424T082523Z
DTSTART:20241207T003000Z
DTEND:20241207T013000Z
LOCATION:Large Field 1
CONTACT:
SUMMARY:MVSC Comets VS. MVSC BLAZE
DESCRIPTION:League Name: Elevate CNY Fall Soccer 2024-U12 Girls\nGame Type:
  Regular\nGame Status: Complete\nHome Team: MVSC Comets\nAway Team: MVSC B
 LAZE\nHome Score: 4\nAway Score: 1
END:VEVENT
BEGIN:VEVENT
UID:16008463@ezleagues.ezfacility.com
DTSTAMP:20260424T082523Z
CREATED:20260424T082523Z
DTSTART:20241207T210000Z
DTEND:20241207T220000Z
LOCATION:Large Field 1
CONTACT:
SUMMARY:MVSC Comets VS. CNYFC
DESCRIPTION:League Name: Elevate CNY Fall Soccer 2024-U12 Girls\nGame Type:
  Regular\nGame Status: Complete\nHome Team: MVSC Comets\nAway Team: CNYFC\
 nHome Score: 7\nAway Score: 0
END:VEVENT
BEGIN:VEVENT
UID:16008467@ezleagues.ezfacility.com
DTSTAMP:20260424T082523Z
CREATED:20260424T082523Z
DTSTART:20241214T210000Z
DTEND:20241214T220000Z
LOCATION:Large Field 1
CONTACT:
SUMMARY:MVSC Comets VS. United Elite Krajisnik
DESCRIPTION:League Name: Elevate CNY Fall Soccer 2024-U12 Girls\nGame Type:
  Regular\nGame Status: Complete\nHome Team: MVSC Comets\nAway Team: United
  Elite Krajisnik\nHome Score: 3\nAway Score: 3
END:VEVENT
BEGIN:VEVENT
UID:16008471@ezleagues.ezfacility.com
DTSTAMP:20260424T082523Z
CREATED:20260424T082523Z
DTSTART:20241221T210000Z
DTEND:20241221T220000Z
LOCATION:Large Field 1
CONTACT:
SUMMARY:MVSC Comets VS. MVSC BLAZE
DESCRIPTION:League Name: Elevate CNY Fall Soccer 2024-U12 Girls\nGame Type:
  Regular\nGame Status: Complete\nHome Team: MVSC Comets\nAway Team: MVSC B
 LAZE\nHome Score: 3\nAway Score: 0
END:VEVENT
BEGIN:VEVENT
UID:16008474@ezleagues.ezfacility.com
DTSTAMP:20260424T082523Z
CREATED:20260424T082523Z
DTSTART:20241228T220000Z
DTEND:20241228T230000Z
LOCATION:Large Field 1
CONTACT:
SUMMARY:Rising Stars VS. MVSC Comets
DESCRIPTION:League Name: Elevate CNY Fall Soccer 2024-U12 Girls\nGame Type:
  Regular\nGame Status: Complete\nHome Team: Rising Stars\nAway Team: MVSC 
 Comets\nHome Score: 2\nAway Score: 5
END:VEVENT
BEGIN:VEVENT
UID:16008476@ezleagues.ezfacility.com
DTSTAMP:20260424T082523Z
CREATED:20260424T082523Z
DTSTART:20250104T200000Z
DTEND:20250104T210000Z
LOCATION:Large Field 1
CONTACT:
SUMMARY:Oneida Manta Rays VS. MVSC Comets
DESCRIPTION:League Name: Elevate CNY Fall Soccer 2024-U12 Girls\nGame Type:
  Regular\nGame Status: Complete\nHome Team: Oneida Manta Rays\nAway Team: 
 MVSC Comets\nHome Score: 0\nAway Score: 7
END:VEVENT
BEGIN:VEVENT
UID:16008461@ezleagues.ezfacility.com
DTSTAMP:20260424T082523Z
CREATED:20260424T082523Z
DTSTART:20250111T200000Z
DTEND:20250111T210000Z
LOCATION:Large Field 1
CONTACT:
SUMMARY:MVSC Comets VS. Oneida Manta Rays
DESCRIPTION:League Name: Elevate CNY Fall Soccer 2024-U12 Girls\nGame Type:
  Regular\nGame Status: Complete\nHome Team: MVSC Comets\nAway Team: Oneida
  Manta Rays\nHome Score: 7\nAway Score: 0
END:VEVENT
END:VCALENDAR
