BEGIN:VCALENDAR
VERSION:2.0
PRODID:-//EZFacility.com, Inc.//EZL 2.5.5.28621
BEGIN:VEVENT
UID:16008487@ezleagues.ezfacility.com
DTSTAMP:20260424T043954Z
CREATED:20260424T043954Z
DTSTART:20241102T140000Z
DTEND:20241102T150000Z
LOCATION:Large Field 2
CONTACT:
SUMMARY:CNYFC VS. Coliseum/ Danielle Kohlbrenner
DESCRIPTION:League Name: Elevate CNY Fall Soccer 2024-U10 Boys\nGame Type: 
 Regular\nGame Status: Complete\nHome Team: CNYFC\nAway Team: Coliseum/ Dan
 ielle Kohlbrenner\nHome Score: 2\nAway Score: 5
END:VEVENT
BEGIN:VEVENT
UID:16008492@ezleagues.ezfacility.com
DTSTAMP:20260424T043954Z
CREATED:20260424T043954Z
DTSTART:20241109T140000Z
DTEND:20241109T150000Z
LOCATION:Large Field 2
CONTACT:
SUMMARY:CNYFC VS. MVSC Blizzard
DESCRIPTION:League Name: Elevate CNY Fall Soccer 2024-U10 Boys\nGame Type: 
 Regular\nGame Status: Complete\nHome Team: CNYFC\nAway Team: MVSC Blizzard
 \nHome Score: 9\nAway Score: 1
END:VEVENT
BEGIN:VEVENT
UID:16008497@ezleagues.ezfacility.com
DTSTAMP:20260424T043954Z
CREATED:20260424T043954Z
DTSTART:20241116T160000Z
DTEND:20241116T170000Z
LOCATION:Large Field 2
CONTACT:
SUMMARY:CNYFC VS. Sauquoit Will Scherer
DESCRIPTION:League Name: Elevate CNY Fall Soccer 2024-U10 Boys\nGame Type: 
 Regular\nGame Status: Complete\nHome Team: CNYFC\nAway Team: Sauquoit Will
  Scherer\nHome Score: 25\nAway Score: 0
END:VEVENT
BEGIN:VEVENT
UID:16008502@ezleagues.ezfacility.com
DTSTAMP:20260424T043954Z
CREATED:20260424T043954Z
DTSTART:20241123T140000Z
DTEND:20241123T150000Z
LOCATION:Large Field 2
CONTACT:
SUMMARY:CNYFC VS. United Elite Krajisnik Blue
DESCRIPTION:League Name: Elevate CNY Fall Soccer 2024-U10 Boys\nGame Type: 
 Regular\nGame Status: Complete\nHome Team: CNYFC\nAway Team: United Elite 
 Krajisnik Blue\nHome Score: 1\nAway Score: 7
END:VEVENT
BEGIN:VEVENT
UID:16008512@ezleagues.ezfacility.com
DTSTAMP:20260424T043954Z
CREATED:20260424T043954Z
DTSTART:20241207T160000Z
DTEND:20241207T170000Z
LOCATION:Large Field 2
CONTACT:
SUMMARY:Spartans SC VS. CNYFC
DESCRIPTION:League Name: Elevate CNY Fall Soccer 2024-U10 Boys\nGame Type: 
 Regular\nGame Status: Complete\nHome Team: Spartans SC\nAway Team: CNYFC\n
 Home Score: 2\nAway Score: 8
END:VEVENT
BEGIN:VEVENT
UID:16008517@ezleagues.ezfacility.com
DTSTAMP:20260424T043954Z
CREATED:20260424T043954Z
DTSTART:20241214T170000Z
DTEND:20241214T180000Z
LOCATION:Large Field 2
CONTACT:
SUMMARY:MVSC Lightning VS. CNYFC
DESCRIPTION:League Name: Elevate CNY Fall Soccer 2024-U10 Boys\nGame Type: 
 Regular\nGame Status: Complete\nHome Team: MVSC Lightning\nAway Team: CNYF
 C\nHome Score: 0\nAway Score: 9
END:VEVENT
BEGIN:VEVENT
UID:16008522@ezleagues.ezfacility.com
DTSTAMP:20260424T043954Z
CREATED:20260424T043954Z
DTSTART:20241221T130000Z
DTEND:20241221T140000Z
LOCATION:Large Field 2
CONTACT:
SUMMARY:Krajisnik SC VS. CNYFC
DESCRIPTION:League Name: Elevate CNY Fall Soccer 2024-U10 Boys\nGame Type: 
 Regular\nGame Status: Complete\nHome Team: Krajisnik SC\nAway Team: CNYFC\
 nHome Score: 4\nAway Score: 3
END:VEVENT
BEGIN:VEVENT
UID:16008527@ezleagues.ezfacility.com
DTSTAMP:20260424T043954Z
CREATED:20260424T043954Z
DTSTART:20241228T160000Z
DTEND:20241228T170000Z
LOCATION:Large Field 2
CONTACT:
SUMMARY:Coliseum VS. CNYFC
DESCRIPTION:League Name: Elevate CNY Fall Soccer 2024-U10 Boys\nGame Type: 
 Regular\nGame Status: Complete\nHome Team: Coliseum\nAway Team: CNYFC\nHom
 e Score: 11\nAway Score: 2
END:VEVENT
BEGIN:VEVENT
UID:16008532@ezleagues.ezfacility.com
DTSTAMP:20260424T043954Z
CREATED:20260424T043954Z
DTSTART:20250104T150000Z
DTEND:20250104T160000Z
LOCATION:Large Field 2
CONTACT:
SUMMARY:Coliseum/ Danielle Kohlbrenner VS. CNYFC
DESCRIPTION:League Name: Elevate CNY Fall Soccer 2024-U10 Boys\nGame Type: 
 Regular\nGame Status: Complete\nHome Team: Coliseum/ Danielle Kohlbrenner\
 nAway Team: CNYFC\nHome Score: 5\nAway Score: 4
END:VEVENT
BEGIN:VEVENT
UID:16008507@ezleagues.ezfacility.com
DTSTAMP:20260424T043954Z
CREATED:20260424T043954Z
DTSTART:20250111T140000Z
DTEND:20250111T150000Z
LOCATION:Large Field 2
CONTACT:
SUMMARY:CNYFC VS. United Elite Krajisnik Silver
DESCRIPTION:League Name: Elevate CNY Fall Soccer 2024-U10 Boys\nGame Type: 
 Regular\nGame Status: Complete\nHome Team: CNYFC\nAway Team: United Elite 
 Krajisnik Silver\nHome Score: 12\nAway Score: 0
END:VEVENT
END:VCALENDAR
