BEGIN:VCALENDAR
VERSION:2.0
PRODID:-//EZFacility.com, Inc.//EZL 2.5.5.28621
BEGIN:VEVENT
UID:16008488@ezleagues.ezfacility.com
DTSTAMP:20260422T210525Z
CREATED:20260422T210525Z
DTSTART:20241102T220000Z
DTEND:20241102T230000Z
LOCATION:Large Field 1
CONTACT:
SUMMARY:MVSC Blizzard VS. Coliseum
DESCRIPTION:League Name: Elevate CNY Fall Soccer 2024-U10 Boys\nGame Type: 
 Regular\nGame Status: Complete\nHome Team: MVSC Blizzard\nAway Team: Colis
 eum\nHome Score: 0\nAway Score: 12
END:VEVENT
BEGIN:VEVENT
UID:16008494@ezleagues.ezfacility.com
DTSTAMP:20260422T210525Z
CREATED:20260422T210525Z
DTSTART:20241109T130000Z
DTEND:20241109T140000Z
LOCATION:Large Field 2
CONTACT:
SUMMARY:Coliseum VS. United Elite Krajisnik Blue
DESCRIPTION:League Name: Elevate CNY Fall Soccer 2024-U10 Boys\nGame Type: 
 Regular\nGame Status: Complete\nHome Team: Coliseum\nAway Team: United Eli
 te Krajisnik Blue\nHome Score: 2\nAway Score: 4
END:VEVENT
BEGIN:VEVENT
UID:16008500@ezleagues.ezfacility.com
DTSTAMP:20260422T210525Z
CREATED:20260422T210525Z
DTSTART:20241116T130000Z
DTEND:20241116T140000Z
LOCATION:Large Field 2
CONTACT:
SUMMARY:Coliseum VS. Spartans SC
DESCRIPTION:League Name: Elevate CNY Fall Soccer 2024-U10 Boys\nGame Type: 
 Regular\nGame Status: Complete\nHome Team: Coliseum\nAway Team: Spartans S
 C\nHome Score: 10\nAway Score: 0
END:VEVENT
BEGIN:VEVENT
UID:16008506@ezleagues.ezfacility.com
DTSTAMP:20260422T210525Z
CREATED:20260422T210525Z
DTSTART:20241123T170000Z
DTEND:20241123T180000Z
LOCATION:Large Field 2
CONTACT:
SUMMARY:Coliseum VS. Krajisnik SC
DESCRIPTION:League Name: Elevate CNY Fall Soccer 2024-U10 Boys\nGame Type: 
 Regular\nGame Status: Complete\nHome Team: Coliseum\nAway Team: Krajisnik 
 SC\nHome Score: 10\nAway Score: 1
END:VEVENT
BEGIN:VEVENT
UID:16008515@ezleagues.ezfacility.com
DTSTAMP:20260422T210525Z
CREATED:20260422T210525Z
DTSTART:20241207T130000Z
DTEND:20241207T140000Z
LOCATION:Large Field 2
CONTACT:
SUMMARY:Sauquoit Will Scherer VS. Coliseum
DESCRIPTION:League Name: Elevate CNY Fall Soccer 2024-U10 Boys\nGame Type: 
 Regular\nGame Status: Complete\nHome Team: Sauquoit Will Scherer\nAway Tea
 m: Coliseum\nHome Score: 0\nAway Score: 26
END:VEVENT
BEGIN:VEVENT
UID:16008519@ezleagues.ezfacility.com
DTSTAMP:20260422T210525Z
CREATED:20260422T210525Z
DTSTART:20241214T140000Z
DTEND:20241214T150000Z
LOCATION:Large Field 2
CONTACT:
SUMMARY:United Elite Krajisnik Silver VS. Coliseum
DESCRIPTION:League Name: Elevate CNY Fall Soccer 2024-U10 Boys\nGame Type: 
 Regular\nGame Status: Complete\nHome Team: United Elite Krajisnik Silver\n
 Away Team: Coliseum\nHome Score: 1\nAway Score: 11
END:VEVENT
BEGIN:VEVENT
UID:16008523@ezleagues.ezfacility.com
DTSTAMP:20260422T210525Z
CREATED:20260422T210525Z
DTSTART:20241221T150000Z
DTEND:20241221T160000Z
LOCATION:Large Field 2
CONTACT:
SUMMARY:MVSC Lightning VS. Coliseum
DESCRIPTION:League Name: Elevate CNY Fall Soccer 2024-U10 Boys\nGame Type: 
 Regular\nGame Status: Complete\nHome Team: MVSC Lightning\nAway Team: Coli
 seum\nHome Score: 0\nAway Score: 14
END:VEVENT
BEGIN:VEVENT
UID:16008527@ezleagues.ezfacility.com
DTSTAMP:20260422T210525Z
CREATED:20260422T210525Z
DTSTART:20241228T160000Z
DTEND:20241228T170000Z
LOCATION:Large Field 2
CONTACT:
SUMMARY:Coliseum VS. CNYFC
DESCRIPTION:League Name: Elevate CNY Fall Soccer 2024-U10 Boys\nGame Type: 
 Regular\nGame Status: Complete\nHome Team: Coliseum\nAway Team: CNYFC\nHom
 e Score: 11\nAway Score: 2
END:VEVENT
BEGIN:VEVENT
UID:16008533@ezleagues.ezfacility.com
DTSTAMP:20260422T210525Z
CREATED:20260422T210525Z
DTSTART:20250104T130000Z
DTEND:20250104T140000Z
LOCATION:Large Field 2
CONTACT:
SUMMARY:Coliseum VS. MVSC Blizzard
DESCRIPTION:League Name: Elevate CNY Fall Soccer 2024-U10 Boys\nGame Type: 
 Regular\nGame Status: Complete\nHome Team: Coliseum\nAway Team: MVSC Blizz
 ard\nHome Score: 22\nAway Score: 3
END:VEVENT
BEGIN:VEVENT
UID:16008511@ezleagues.ezfacility.com
DTSTAMP:20260422T210525Z
CREATED:20260422T210525Z
DTSTART:20250111T170000Z
DTEND:20250111T180000Z
LOCATION:Large Field 2
CONTACT:
SUMMARY:Coliseum/ Danielle Kohlbrenner VS. Coliseum
DESCRIPTION:League Name: Elevate CNY Fall Soccer 2024-U10 Boys\nGame Type: 
 Regular\nGame Status: Complete\nHome Team: Coliseum/ Danielle Kohlbrenner\
 nAway Team: Coliseum\nHome Score: 0\nAway Score: 0
END:VEVENT
END:VCALENDAR
