BEGIN:VCALENDAR
VERSION:2.0
PRODID:-//EZFacility.com, Inc.//EZL 2.5.5.28621
BEGIN:VEVENT
UID:16008651@ezleagues.ezfacility.com
DTSTAMP:20260421T214038Z
CREATED:20260421T214038Z
DTSTART:20241102T230000Z
DTEND:20241103T000000Z
LOCATION:Large Field 2
CONTACT:
SUMMARY:United Elite Krajisnik VS. MVSC Inferno
DESCRIPTION:League Name: Elevate CNY Fall Soccer 2024-U14 Girls\nGame Type:
  Regular\nGame Status: Complete\nHome Team: United Elite Krajisnik\nAway T
 eam: MVSC Inferno\nHome Score: 4\nAway Score: 3
END:VEVENT
BEGIN:VEVENT
UID:16008653@ezleagues.ezfacility.com
DTSTAMP:20260421T214038Z
CREATED:20260421T214038Z
DTSTART:20241109T230000Z
DTEND:20241110T000000Z
LOCATION:Large Field 2
CONTACT:
SUMMARY:United Elite Krajisnik VS. MVSC Hurricanes
DESCRIPTION:League Name: Elevate CNY Fall Soccer 2024-U14 Girls\nGame Type:
  Regular\nGame Status: Complete\nHome Team: United Elite Krajisnik\nAway T
 eam: MVSC Hurricanes\nHome Score: 0\nAway Score: 10
END:VEVENT
BEGIN:VEVENT
UID:16008655@ezleagues.ezfacility.com
DTSTAMP:20260421T214038Z
CREATED:20260421T214038Z
DTSTART:20241116T220000Z
DTEND:20241116T230000Z
LOCATION:Large Field 2
CONTACT:
SUMMARY:Coliseum Strikers VS. United Elite Krajisnik
DESCRIPTION:League Name: Elevate CNY Fall Soccer 2024-U14 Girls\nGame Type:
  Regular\nGame Status: Complete\nHome Team: Coliseum Strikers\nAway Team: 
 United Elite Krajisnik\nHome Score: 5\nAway Score: 0
END:VEVENT
BEGIN:VEVENT
UID:16008659@ezleagues.ezfacility.com
DTSTAMP:20260421T214038Z
CREATED:20260421T214038Z
DTSTART:20241123T220000Z
DTEND:20241123T230000Z
LOCATION:Large Field 2
CONTACT:
SUMMARY:CNY TWISTERS VS. United Elite Krajisnik
DESCRIPTION:League Name: Elevate CNY Fall Soccer 2024-U14 Girls\nGame Type:
  Regular\nGame Status: Complete\nHome Team: CNY TWISTERS\nAway Team: Unite
 d Elite Krajisnik\nHome Score: 3\nAway Score: 2
END:VEVENT
BEGIN:VEVENT
UID:16008666@ezleagues.ezfacility.com
DTSTAMP:20260421T214038Z
CREATED:20260421T214038Z
DTSTART:20241208T000000Z
DTEND:20241208T010000Z
LOCATION:Large Field 2
CONTACT:
SUMMARY:MVSC Inferno VS. United Elite Krajisnik
DESCRIPTION:League Name: Elevate CNY Fall Soccer 2024-U14 Girls\nGame Type:
  Regular\nGame Status: Complete\nHome Team: MVSC Inferno\nAway Team: Unite
 d Elite Krajisnik\nHome Score: 5\nAway Score: 2
END:VEVENT
BEGIN:VEVENT
UID:16008668@ezleagues.ezfacility.com
DTSTAMP:20260421T214038Z
CREATED:20260421T214038Z
DTSTART:20241214T230000Z
DTEND:20241215T000000Z
LOCATION:Large Field 2
CONTACT:
SUMMARY:MVSC Hurricanes VS. United Elite Krajisnik
DESCRIPTION:League Name: Elevate CNY Fall Soccer 2024-U14 Girls\nGame Type:
  Regular\nGame Status: Complete\nHome Team: MVSC Hurricanes\nAway Team: Un
 ited Elite Krajisnik\nHome Score: 3\nAway Score: 2
END:VEVENT
BEGIN:VEVENT
UID:16008670@ezleagues.ezfacility.com
DTSTAMP:20260421T214038Z
CREATED:20260421T214038Z
DTSTART:20241222T000000Z
DTEND:20241222T010000Z
LOCATION:Large Field 2
CONTACT:
SUMMARY:United Elite Krajisnik VS. Coliseum Strikers
DESCRIPTION:League Name: Elevate CNY Fall Soccer 2024-U14 Girls\nGame Type:
  Regular\nGame Status: Complete\nHome Team: United Elite Krajisnik\nAway T
 eam: Coliseum Strikers\nHome Score: 1\nAway Score: 3
END:VEVENT
BEGIN:VEVENT
UID:16008674@ezleagues.ezfacility.com
DTSTAMP:20260421T214038Z
CREATED:20260421T214038Z
DTSTART:20241228T220000Z
DTEND:20241228T230000Z
LOCATION:Large Field 2
CONTACT:
SUMMARY:United Elite Krajisnik VS. CNY TWISTERS
DESCRIPTION:League Name: Elevate CNY Fall Soccer 2024-U14 Girls\nGame Type:
  Regular\nGame Status: Complete\nHome Team: United Elite Krajisnik\nAway T
 eam: CNY TWISTERS\nHome Score: 2\nAway Score: 1
END:VEVENT
BEGIN:VEVENT
UID:16008678@ezleagues.ezfacility.com
DTSTAMP:20260421T214038Z
CREATED:20260421T214038Z
DTSTART:20250104T230000Z
DTEND:20250105T000000Z
LOCATION:Large Field 2
CONTACT:
SUMMARY:United Elite Krajisnik VS. Rising Stars
DESCRIPTION:League Name: Elevate CNY Fall Soccer 2024-U14 Girls\nGame Type:
  Regular\nGame Status: Complete\nHome Team: United Elite Krajisnik\nAway T
 eam: Rising Stars\nHome Score: 1\nAway Score: 3
END:VEVENT
BEGIN:VEVENT
UID:16008663@ezleagues.ezfacility.com
DTSTAMP:20260421T214038Z
CREATED:20260421T214038Z
DTSTART:20250112T000000Z
DTEND:20250112T010000Z
LOCATION:Large Field 2
CONTACT:
SUMMARY:Rising Stars VS. United Elite Krajisnik
DESCRIPTION:League Name: Elevate CNY Fall Soccer 2024-U14 Girls\nGame Type:
  Regular\nGame Status: Complete\nHome Team: Rising Stars\nAway Team: Unite
 d Elite Krajisnik\nHome Score: 5\nAway Score: 3
END:VEVENT
END:VCALENDAR
