BEGIN:VCALENDAR
VERSION:2.0
PRODID:-//EZFacility.com, Inc.//EZL 2.5.5.28621
BEGIN:VEVENT
UID:16012346@ezleagues.ezfacility.com
DTSTAMP:20260424T044130Z
CREATED:20260424T044130Z
DTSTART:20241103T220000Z
DTEND:20241103T230000Z
LOCATION:Kingdom Field
CONTACT:Kizer
SUMMARY:PFC VS. Twan FC 
DESCRIPTION:League Name: YOUTH 1 - 2024/2025 HS boys \nGame Type: Regular\n
 Game Status: Complete\nHome Team: PFC\nAway Team: Twan FC \nHome Score: 6\
 nAway Score: 11
END:VEVENT
BEGIN:VEVENT
UID:16012361@ezleagues.ezfacility.com
DTSTAMP:20260424T044130Z
CREATED:20260424T044130Z
DTSTART:20241109T223000Z
DTEND:20241109T233000Z
LOCATION:Black Field
CONTACT:Asbeury
SUMMARY:PFC VS. Twan FC 
DESCRIPTION:League Name: YOUTH 1 - 2024/2025 HS boys \nGame Type: Regular\n
 Game Status: Complete\nHome Team: PFC\nAway Team: Twan FC \nHome Score: 2\
 nAway Score: 9
END:VEVENT
BEGIN:VEVENT
UID:16012348@ezleagues.ezfacility.com
DTSTAMP:20260424T044130Z
CREATED:20260424T044130Z
DTSTART:20241110T230000Z
DTEND:20241111T000000Z
LOCATION:Kingdom Field
CONTACT: I Santos
SUMMARY:Kittens FC VS. Twan FC 
DESCRIPTION:League Name: YOUTH 1 - 2024/2025 HS boys \nGame Type: Regular\n
 Game Status: Complete\nHome Team: Kittens FC\nAway Team: Twan FC \nHome Sc
 ore: 5\nAway Score: 10
END:VEVENT
BEGIN:VEVENT
UID:16012352@ezleagues.ezfacility.com
DTSTAMP:20260424T044130Z
CREATED:20260424T044130Z
DTSTART:20241117T203000Z
DTEND:20241117T213000Z
LOCATION:Kingdom Field
CONTACT: I Santos
SUMMARY:Twan FC  VS. Los Patos Locos
DESCRIPTION:League Name: YOUTH 1 - 2024/2025 HS boys \nGame Type: Regular\n
 Game Status: Complete\nHome Team: Twan FC \nAway Team: Los Patos Locos\nHo
 me Score: 8\nAway Score: 6
END:VEVENT
BEGIN:VEVENT
UID:16012344@ezleagues.ezfacility.com
DTSTAMP:20260424T044130Z
CREATED:20260424T044130Z
DTSTART:20241124T183000Z
DTEND:20241124T193000Z
LOCATION:Kingdom Field
CONTACT:C Santos
SUMMARY:Twan FC  VS. Sparkling Unicorns
DESCRIPTION:League Name: YOUTH 1 - 2024/2025 HS boys \nGame Type: Regular\n
 Game Status: Complete\nHome Team: Twan FC \nAway Team: Sparkling Unicorns\
 nHome Score: 19\nAway Score: 1
END:VEVENT
BEGIN:VEVENT
UID:16012356@ezleagues.ezfacility.com
DTSTAMP:20260424T044130Z
CREATED:20260424T044130Z
DTSTART:20241129T233000Z
DTEND:20241130T003000Z
LOCATION:Black Field
CONTACT:C Santos
SUMMARY:Twan FC  VS. The Red Cards
DESCRIPTION:League Name: YOUTH 1 - 2024/2025 HS boys \nGame Type: Regular\n
 Game Status: Complete\nHome Team: Twan FC \nAway Team: The Red Cards\nHome
  Score: 7\nAway Score: 0
END:VEVENT
BEGIN:VEVENT
UID:16012363@ezleagues.ezfacility.com
DTSTAMP:20260424T044130Z
CREATED:20260424T044130Z
DTSTART:20241130T230000Z
DTEND:20241201T000000Z
LOCATION:Kingdom Field
CONTACT:Van Port Fleet
SUMMARY:Twan FC  VS. Kittens FC
DESCRIPTION:League Name: YOUTH 1 - 2024/2025 HS boys \nGame Type: Regular\n
 Game Status: Complete\nHome Team: Twan FC \nAway Team: Kittens FC\nHome Sc
 ore: 7\nAway Score: 8
END:VEVENT
BEGIN:VEVENT
UID:16012359@ezleagues.ezfacility.com
DTSTAMP:20260424T044130Z
CREATED:20260424T044130Z
DTSTART:20241201T153000Z
DTEND:20241201T163000Z
LOCATION:Red Field
CONTACT:Westcott
SUMMARY:Sparkling Unicorns VS. Twan FC 
DESCRIPTION:League Name: YOUTH 1 - 2024/2025 HS boys \nGame Type: Regular\n
 Game Status: Complete\nHome Team: Sparkling Unicorns\nAway Team: Twan FC \
 nHome Score: 4\nAway Score: 11
END:VEVENT
END:VCALENDAR
