BEGIN:VCALENDAR
VERSION:2.0
PRODID:-//EZFacility.com, Inc.//EZL 2.5.5.28621
BEGIN:VEVENT
UID:16012637@ezleagues.ezfacility.com
DTSTAMP:20260424T100949Z
CREATED:20260424T100949Z
DTSTART:20241109T061000Z
DTEND:20241109T071000Z
LOCATION:RCF West - Buenos Aires
CONTACT:
SUMMARY:The Internationals VS. Alley Cats
DESCRIPTION:League Name: RCF West AL Winter I 24' - Men D4 (M/F)\nGame Type
 : Regular\nGame Status: Complete\nHome Team: The Internationals\nAway Team
 : Alley Cats\nHome Score: 3\nAway Score: 5
END:VEVENT
BEGIN:VEVENT
UID:16012652@ezleagues.ezfacility.com
DTSTAMP:20260424T100949Z
CREATED:20260424T100949Z
DTSTART:20241116T041000Z
DTEND:20241116T051000Z
LOCATION:RCF West - Buenos Aires
CONTACT:
SUMMARY:18-Minus VS. The Internationals
DESCRIPTION:League Name: RCF West AL Winter I 24' - Men D4 (M/F)\nGame Type
 : Regular\nGame Status: Complete\nHome Team: 18-Minus\nAway Team: The Inte
 rnationals\nHome Score: 11\nAway Score: 6
END:VEVENT
BEGIN:VEVENT
UID:16012669@ezleagues.ezfacility.com
DTSTAMP:20260424T100949Z
CREATED:20260424T100949Z
DTSTART:20241119T035000Z
DTEND:20241119T045000Z
LOCATION:RCF West - Tigard
CONTACT:
SUMMARY:The Internationals VS. Retired Ballers
DESCRIPTION:League Name: RCF West AL Winter I 24' - Men D4 (M/F)\nGame Type
 : Regular\nGame Status: Complete\nHome Team: The Internationals\nAway Team
 : Retired Ballers\nHome Score: 3\nAway Score: 10
END:VEVENT
BEGIN:VEVENT
UID:16012703@ezleagues.ezfacility.com
DTSTAMP:20260424T100949Z
CREATED:20260424T100949Z
DTSTART:20241203T043000Z
DTEND:20241203T053000Z
LOCATION:RCF West - Montevideo
CONTACT:
SUMMARY:The Internationals VS. CT The Swifts 
DESCRIPTION:League Name: RCF West AL Winter I 24' - Men D4 (M/F)\nGame Type
 : Regular\nGame Status: Complete\nHome Team: The Internationals\nAway Team
 : CT The Swifts \nHome Score: 7\nAway Score: 6
END:VEVENT
BEGIN:VEVENT
UID:16012720@ezleagues.ezfacility.com
DTSTAMP:20260424T100949Z
CREATED:20260424T100949Z
DTSTART:20241210T061000Z
DTEND:20241210T071000Z
LOCATION:RCF West - Buenos Aires
CONTACT:
SUMMARY:The Internationals VS. BPP
DESCRIPTION:League Name: RCF West AL Winter I 24' - Men D4 (M/F)\nGame Type
 : Regular\nGame Status: Complete\nHome Team: The Internationals\nAway Team
 : BPP\nHome Score: 0\nAway Score: 3
END:VEVENT
BEGIN:VEVENT
UID:16012736@ezleagues.ezfacility.com
DTSTAMP:20260424T100949Z
CREATED:20260424T100949Z
DTSTART:20241217T045000Z
DTEND:20241217T055000Z
LOCATION:RCF West - Tigard
CONTACT:
SUMMARY:Game of Cones VS. The Internationals
DESCRIPTION:League Name: RCF West AL Winter I 24' - Men D4 (M/F)\nGame Type
 : Regular\nGame Status: Complete\nHome Team: Game of Cones\nAway Team: The
  Internationals\nHome Score: 9\nAway Score: 2
END:VEVENT
BEGIN:VEVENT
UID:16012781@ezleagues.ezfacility.com
DTSTAMP:20260424T100949Z
CREATED:20260424T100949Z
DTSTART:20250111T051000Z
DTEND:20250111T061000Z
LOCATION:RCF West - Buenos Aires
CONTACT:
SUMMARY:Alley Cats VS. The Internationals
DESCRIPTION:League Name: RCF West AL Winter I 24' - Men D4 (M/F)\nGame Type
 : Regular\nGame Status: Complete\nHome Team: Alley Cats\nAway Team: The In
 ternationals\nHome Score: 5\nAway Score: 3
END:VEVENT
BEGIN:VEVENT
UID:16012766@ezleagues.ezfacility.com
DTSTAMP:20260424T100949Z
CREATED:20260424T100949Z
DTSTART:20250114T023000Z
DTEND:20250114T033000Z
LOCATION:RCF West - Montevideo
CONTACT:
SUMMARY:FC FORCE VS. The Internationals
DESCRIPTION:League Name: RCF West AL Winter I 24' - Men D4 (M/F)\nGame Type
 : Regular\nGame Status: Complete\nHome Team: FC FORCE\nAway Team: The Inte
 rnationals\nHome Score: 10\nAway Score: 7
END:VEVENT
BEGIN:VEVENT
UID:16012748@ezleagues.ezfacility.com
DTSTAMP:20260424T100949Z
CREATED:20260424T100949Z
DTSTART:20250125T051000Z
DTEND:20250125T061000Z
LOCATION:RCF West - Buenos Aires
CONTACT:
SUMMARY:The Internationals VS. 18-Minus
DESCRIPTION:League Name: RCF West AL Winter I 24' - Men D4 (M/F)\nGame Type
 : Regular\nGame Status: Complete\nHome Team: The Internationals\nAway Team
 : 18-Minus\nHome Score: 11\nAway Score: 9
END:VEVENT
BEGIN:VEVENT
UID:16012686@ezleagues.ezfacility.com
DTSTAMP:20260424T100949Z
CREATED:20260424T100949Z
DTSTART:20250201T033000Z
DTEND:20250201T043000Z
LOCATION:RCF West - Montevideo
CONTACT:
SUMMARY:The Internationals VS. HANGOVER '96
DESCRIPTION:League Name: RCF West AL Winter I 24' - Men D4 (M/F)\nGame Type
 : Regular\nGame Status: Complete\nHome Team: The Internationals\nAway Team
 : HANGOVER '96\nHome Score: 6\nAway Score: 7
END:VEVENT
END:VCALENDAR
