BEGIN:VCALENDAR
VERSION:2.0
PRODID:-//EZFacility.com, Inc.//EZL 2.5.5.28621
BEGIN:VEVENT
UID:16014129@ezleagues.ezfacility.com
DTSTAMP:20260419T124620Z
CREATED:20260419T124620Z
DTSTART:20241106T002000Z
DTEND:20241106T011000Z
LOCATION:Full Indoor Field
CONTACT:
SUMMARY:Golden Girls VS. Old School
DESCRIPTION:League Name: 2024-25 Indoor Session One-Adult Women's\nGame Typ
 e: Regular\nGame Status: Complete\nHome Team: Golden Girls\nAway Team: Old
  School\nHome Score: 4\nAway Score: 3
END:VEVENT
BEGIN:VEVENT
UID:16014131@ezleagues.ezfacility.com
DTSTAMP:20260419T124620Z
CREATED:20260419T124620Z
DTSTART:20241112T233000Z
DTEND:20241113T002000Z
LOCATION:Full Indoor Field
CONTACT:
SUMMARY:Golden Girls VS. SJK Blau
DESCRIPTION:League Name: 2024-25 Indoor Session One-Adult Women's\nGame Typ
 e: Regular\nGame Status: Complete\nHome Team: Golden Girls\nAway Team: SJK
  Blau\nHome Score: 3\nAway Score: 1
END:VEVENT
BEGIN:VEVENT
UID:16014133@ezleagues.ezfacility.com
DTSTAMP:20260419T124620Z
CREATED:20260419T124620Z
DTSTART:20241120T002000Z
DTEND:20241120T011000Z
LOCATION:Full Indoor Field
CONTACT:
SUMMARY:Golden Girls VS. Gravity
DESCRIPTION:League Name: 2024-25 Indoor Session One-Adult Women's\nGame Typ
 e: Regular\nGame Status: Complete\nHome Team: Golden Girls\nAway Team: Gra
 vity\nHome Score: 4\nAway Score: 0
END:VEVENT
BEGIN:VEVENT
UID:16014135@ezleagues.ezfacility.com
DTSTAMP:20260419T124620Z
CREATED:20260419T124620Z
DTSTART:20241204T002000Z
DTEND:20241204T011000Z
LOCATION:Full Indoor Field
CONTACT:
SUMMARY:Old School VS. Golden Girls
DESCRIPTION:League Name: 2024-25 Indoor Session One-Adult Women's\nGame Typ
 e: Regular\nGame Status: Complete\nHome Team: Old School\nAway Team: Golde
 n Girls\nHome Score: 1\nAway Score: 2
END:VEVENT
BEGIN:VEVENT
UID:16014137@ezleagues.ezfacility.com
DTSTAMP:20260419T124620Z
CREATED:20260419T124620Z
DTSTART:20241210T233000Z
DTEND:20241211T002000Z
LOCATION:Full Indoor Field
CONTACT:
SUMMARY:SJK Blau VS. Golden Girls
DESCRIPTION:League Name: 2024-25 Indoor Session One-Adult Women's\nGame Typ
 e: Regular\nGame Status: Complete\nHome Team: SJK Blau\nAway Team: Golden 
 Girls\nHome Score: 3\nAway Score: 2
END:VEVENT
BEGIN:VEVENT
UID:16014139@ezleagues.ezfacility.com
DTSTAMP:20260419T124620Z
CREATED:20260419T124620Z
DTSTART:20241218T002000Z
DTEND:20241218T011000Z
LOCATION:Full Indoor Field
CONTACT:
SUMMARY:Gravity VS. Golden Girls
DESCRIPTION:League Name: 2024-25 Indoor Session One-Adult Women's\nGame Typ
 e: Regular\nGame Status: Complete\nHome Team: Gravity\nAway Team: Golden G
 irls\nHome Score: 3\nAway Score: 5
END:VEVENT
BEGIN:VEVENT
UID:16014141@ezleagues.ezfacility.com
DTSTAMP:20260419T124620Z
CREATED:20260419T124620Z
DTSTART:20250115T002000Z
DTEND:20250115T011000Z
LOCATION:Full Indoor Field
CONTACT:
SUMMARY:Golden Girls VS. Gravity
DESCRIPTION:League Name: 2024-25 Indoor Session One-Adult Women's\nGame Typ
 e: Regular\nGame Status: Complete\nHome Team: Golden Girls\nAway Team: Gra
 vity\nHome Score: 3\nAway Score: 0
END:VEVENT
BEGIN:VEVENT
UID:16014146@ezleagues.ezfacility.com
DTSTAMP:20260419T124620Z
CREATED:20260419T124620Z
DTSTART:20250129T011000Z
DTEND:20250129T020000Z
LOCATION:Full Indoor Field
CONTACT:
SUMMARY:Old School VS. Golden Girls
DESCRIPTION:League Name: 2024-25 Indoor Session One-Adult Women's\nGame Typ
 e: Regular\nGame Status: Complete\nHome Team: Old School\nAway Team: Golde
 n Girls\nHome Score: 4\nAway Score: 1
END:VEVENT
END:VCALENDAR
