BEGIN:VCALENDAR
VERSION:2.0
PRODID:-//EZFacility.com, Inc.//EZL 2.5.5.28621
BEGIN:VEVENT
UID:16015207@ezleagues.ezfacility.com
DTSTAMP:20260424T044320Z
CREATED:20260424T044320Z
DTSTART:20241107T051000Z
DTEND:20241107T061000Z
LOCATION:RCF East - Portland
CONTACT:
SUMMARY:En Fuego VS. Misfits
DESCRIPTION:League Name: RCF East AL Winter I 24' - Coed D2 (W/F)\nGame Typ
 e: Regular\nGame Status: Complete\nHome Team: En Fuego\nAway Team: Misfits
 \nHome Score: 8\nAway Score: 6
END:VEVENT
BEGIN:VEVENT
UID:16015220@ezleagues.ezfacility.com
DTSTAMP:20260424T044320Z
CREATED:20260424T044320Z
DTSTART:20241114T023000Z
DTEND:20241114T033000Z
LOCATION:RCF East - Rio
CONTACT:
SUMMARY:Dissin’ your fly girl VS. Misfits
DESCRIPTION:League Name: RCF East AL Winter I 24' - Coed D2 (W/F)\nGame Typ
 e: Regular\nGame Status: Complete\nHome Team: Dissin’ your fly girl\nAwa
 y Team: Misfits\nHome Score: 6\nAway Score: 3
END:VEVENT
BEGIN:VEVENT
UID:16015233@ezleagues.ezfacility.com
DTSTAMP:20260424T044320Z
CREATED:20260424T044320Z
DTSTART:20241123T041000Z
DTEND:20241123T051000Z
LOCATION:RCF East - Portland
CONTACT:
SUMMARY:All Levels FC VS. Misfits
DESCRIPTION:League Name: RCF East AL Winter I 24' - Coed D2 (W/F)\nGame Typ
 e: Regular\nGame Status: Complete\nHome Team: All Levels FC\nAway Team: Mi
 sfits\nHome Score: 8\nAway Score: 1
END:VEVENT
BEGIN:VEVENT
UID:16015263@ezleagues.ezfacility.com
DTSTAMP:20260424T044320Z
CREATED:20260424T044320Z
DTSTART:20241205T055000Z
DTEND:20241205T065000Z
LOCATION:RCF East - Barcelona
CONTACT:
SUMMARY:Misfits VS. No Vino No Party
DESCRIPTION:League Name: RCF East AL Winter I 24' - Coed D2 (W/F)\nGame Typ
 e: Regular\nGame Status: Complete\nHome Team: Misfits\nAway Team: No Vino 
 No Party\nHome Score: 6\nAway Score: 9
END:VEVENT
BEGIN:VEVENT
UID:16015278@ezleagues.ezfacility.com
DTSTAMP:20260424T044320Z
CREATED:20260424T044320Z
DTSTART:20241212T043000Z
DTEND:20241212T053000Z
LOCATION:RCF East - Rio
CONTACT:
SUMMARY:Misfits VS. Futsalholics
DESCRIPTION:League Name: RCF East AL Winter I 24' - Coed D2 (W/F)\nGame Typ
 e: Regular\nGame Status: Complete\nHome Team: Misfits\nAway Team: Futsalho
 lics\nHome Score: 6\nAway Score: 10
END:VEVENT
BEGIN:VEVENT
UID:16015293@ezleagues.ezfacility.com
DTSTAMP:20260424T044320Z
CREATED:20260424T044320Z
DTSTART:20241219T045000Z
DTEND:20241219T055000Z
LOCATION:RCF East - Barcelona
CONTACT:
SUMMARY:Misfits VS. Big City Slams
DESCRIPTION:League Name: RCF East AL Winter I 24' - Coed D2 (W/F)\nGame Typ
 e: Regular\nGame Status: Complete\nHome Team: Misfits\nAway Team: Big City
  Slams\nHome Score: 4\nAway Score: 3
END:VEVENT
BEGIN:VEVENT
UID:16015335@ezleagues.ezfacility.com
DTSTAMP:20260424T044320Z
CREATED:20260424T044320Z
DTSTART:20250109T023000Z
DTEND:20250109T033000Z
LOCATION:RCF East - Rio
CONTACT:
SUMMARY:Ultra Violet FC VS. Misfits
DESCRIPTION:League Name: RCF East AL Winter I 24' - Coed D2 (W/F)\nGame Typ
 e: Regular\nGame Status: Complete\nHome Team: Ultra Violet FC\nAway Team: 
 Misfits\nHome Score: 7\nAway Score: 1
END:VEVENT
BEGIN:VEVENT
UID:16015322@ezleagues.ezfacility.com
DTSTAMP:20260424T044320Z
CREATED:20260424T044320Z
DTSTART:20250116T051000Z
DTEND:20250116T061000Z
LOCATION:RCF East - Portland
CONTACT:
SUMMARY:Night Nurse VS. Misfits
DESCRIPTION:League Name: RCF East AL Winter I 24' - Coed D2 (W/F)\nGame Typ
 e: Regular\nGame Status: Complete\nHome Team: Night Nurse\nAway Team: Misf
 its\nHome Score: 5\nAway Score: 3
END:VEVENT
BEGIN:VEVENT
UID:16015308@ezleagues.ezfacility.com
DTSTAMP:20260424T044320Z
CREATED:20260424T044320Z
DTSTART:20250123T023000Z
DTEND:20250123T033000Z
LOCATION:RCF East - Rio
CONTACT:
SUMMARY:Misfits VS. FC Cuervos
DESCRIPTION:League Name: RCF East AL Winter I 24' - Coed D2 (W/F)\nGame Typ
 e: Regular\nGame Status: Complete\nHome Team: Misfits\nAway Team: FC Cuerv
 os\nHome Score: 5\nAway Score: 11
END:VEVENT
BEGIN:VEVENT
UID:16015248@ezleagues.ezfacility.com
DTSTAMP:20260424T044320Z
CREATED:20260424T044320Z
DTSTART:20250130T041000Z
DTEND:20250130T051000Z
LOCATION:RCF East - Portland
CONTACT:
SUMMARY:Misfits VS. TBD
DESCRIPTION:League Name: RCF East AL Winter I 24' - Coed D2 (W/F)\nGame Typ
 e: Regular\nGame Status: Complete\nHome Team: Misfits\nAway Team: TBD\nHom
 e Score: 3\nAway Score: 9
END:VEVENT
END:VCALENDAR
