BEGIN:VCALENDAR
VERSION:2.0
PRODID:-//EZFacility.com, Inc.//EZL 2.5.5.28621
BEGIN:VEVENT
UID:16017372@ezleagues.ezfacility.com
DTSTAMP:20260426T034115Z
CREATED:20260426T034115Z
DTSTART:20241104T023000Z
DTEND:20241104T033000Z
LOCATION:6v6 Field 2
CONTACT:
SUMMARY:Cheeks VS. Zoinks
DESCRIPTION:League Name: 1st session 2024- Coed Open Sunday White Boarded\n
 Game Type: Regular\nGame Status: Complete\nHome Team: Cheeks\nAway Team: Z
 oinks\nHome Score: 7\nAway Score: 8
END:VEVENT
BEGIN:VEVENT
UID:16017376@ezleagues.ezfacility.com
DTSTAMP:20260426T034115Z
CREATED:20260426T034115Z
DTSTART:20241111T033000Z
DTEND:20241111T043000Z
LOCATION:6v6 Field 2
CONTACT:
SUMMARY:Team Katie Yates VS. Cheeks
DESCRIPTION:League Name: 1st session 2024- Coed Open Sunday White Boarded\n
 Game Type: Regular\nGame Status: Complete\nHome Team: Team Katie Yates\nAw
 ay Team: Cheeks\nHome Score: 4\nAway Score: 7
END:VEVENT
BEGIN:VEVENT
UID:16017378@ezleagues.ezfacility.com
DTSTAMP:20260426T034115Z
CREATED:20260426T034115Z
DTSTART:20241117T230000Z
DTEND:20241118T000000Z
LOCATION:6v6 Field 1
CONTACT:
SUMMARY:Shooters BnG VS. Cheeks
DESCRIPTION:League Name: 1st session 2024- Coed Open Sunday White Boarded\n
 Game Type: Regular\nGame Status: Complete\nHome Team: Shooters BnG\nAway T
 eam: Cheeks\nHome Score: 6\nAway Score: 3
END:VEVENT
BEGIN:VEVENT
UID:16017381@ezleagues.ezfacility.com
DTSTAMP:20260426T034115Z
CREATED:20260426T034115Z
DTSTART:20241125T000000Z
DTEND:20241125T010000Z
LOCATION:6v6 Field 1
CONTACT:
SUMMARY:Shooters BnG VS. Cheeks
DESCRIPTION:League Name: 1st session 2024- Coed Open Sunday White Boarded\n
 Game Type: Regular\nGame Status: Complete\nHome Team: Shooters BnG\nAway T
 eam: Cheeks\nHome Score: 9\nAway Score: 3
END:VEVENT
BEGIN:VEVENT
UID:16017386@ezleagues.ezfacility.com
DTSTAMP:20260426T034115Z
CREATED:20260426T034115Z
DTSTART:20241202T030000Z
DTEND:20241202T040000Z
LOCATION:6v6 Field 1
CONTACT:
SUMMARY:Cheeks VS. Team Katie Yates
DESCRIPTION:League Name: 1st session 2024- Coed Open Sunday White Boarded\n
 Game Type: Regular\nGame Status: Complete\nHome Team: Cheeks\nAway Team: T
 eam Katie Yates\nHome Score: 9\nAway Score: 8
END:VEVENT
BEGIN:VEVENT
UID:16017392@ezleagues.ezfacility.com
DTSTAMP:20260426T034115Z
CREATED:20260426T034115Z
DTSTART:20241208T230000Z
DTEND:20241209T000000Z
LOCATION:6v6 Field 1
CONTACT:
SUMMARY:Cheeks VS. Grassroots
DESCRIPTION:League Name: 1st session 2024- Coed Open Sunday White Boarded\n
 Game Type: Regular\nGame Status: Complete\nHome Team: Cheeks\nAway Team: G
 rassroots\nHome Score: 2\nAway Score: 8
END:VEVENT
BEGIN:VEVENT
UID:16017396@ezleagues.ezfacility.com
DTSTAMP:20260426T034115Z
CREATED:20260426T034115Z
DTSTART:20241216T033000Z
DTEND:20241216T043000Z
LOCATION:6v6 Field 2
CONTACT:
SUMMARY:Cheeks VS. Zoinks
DESCRIPTION:League Name: 1st session 2024- Coed Open Sunday White Boarded\n
 Game Type: Regular\nGame Status: Complete\nHome Team: Cheeks\nAway Team: Z
 oinks\nHome Score: 6\nAway Score: 5
END:VEVENT
BEGIN:VEVENT
UID:16017398@ezleagues.ezfacility.com
DTSTAMP:20260426T034115Z
CREATED:20260426T034115Z
DTSTART:20241222T230000Z
DTEND:20241223T000000Z
LOCATION:6v6 Field 1
CONTACT:
SUMMARY:Blake and the Lads VS. Cheeks
DESCRIPTION:League Name: 1st session 2024- Coed Open Sunday White Boarded\n
 Game Type: Regular\nGame Status: Complete\nHome Team: Blake and the Lads\n
 Away Team: Cheeks\nHome Score: 10\nAway Score: 4
END:VEVENT
END:VCALENDAR
