BEGIN:VCALENDAR
VERSION:2.0
PRODID:-//EZFacility.com, Inc.//EZL 2.5.5.28621
BEGIN:VEVENT
UID:16017472@ezleagues.ezfacility.com
DTSTAMP:20260425T160217Z
CREATED:20260425T160217Z
DTSTART:20241106T061000Z
DTEND:20241106T071000Z
LOCATION:RCF East - Portland
CONTACT:
SUMMARY:Sofa Kings VS. FC Love Jam
DESCRIPTION:League Name: RCF East AL Winter I 24' - Men D3 (T/F)\nGame Type
 : Regular\nGame Status: Complete\nHome Team: Sofa Kings\nAway Team: FC Lov
 e Jam\nHome Score: 9\nAway Score: 7
END:VEVENT
BEGIN:VEVENT
UID:16017490@ezleagues.ezfacility.com
DTSTAMP:20260425T160217Z
CREATED:20260425T160217Z
DTSTART:20241116T063000Z
DTEND:20241116T073000Z
LOCATION:RCF East - Rio
CONTACT:
SUMMARY:Crème Broulette  VS. Sofa Kings
DESCRIPTION:League Name: RCF East AL Winter I 24' - Men D3 (T/F)\nGame Type
 : Regular\nGame Status: Complete\nHome Team: Crème Broulette \nAway Team:
  Sofa Kings\nHome Score: 7\nAway Score: 2
END:VEVENT
BEGIN:VEVENT
UID:16017510@ezleagues.ezfacility.com
DTSTAMP:20260425T160217Z
CREATED:20260425T160217Z
DTSTART:20241123T051000Z
DTEND:20241123T061000Z
LOCATION:RCF East - Portland
CONTACT:
SUMMARY:Oregol Trail FC VS. Sofa Kings
DESCRIPTION:League Name: RCF East AL Winter I 24' - Men D3 (T/F)\nGame Type
 : Regular\nGame Status: Complete\nHome Team: Oregol Trail FC\nAway Team: S
 ofa Kings\nHome Score: 11\nAway Score: 4
END:VEVENT
BEGIN:VEVENT
UID:16017549@ezleagues.ezfacility.com
DTSTAMP:20260425T160217Z
CREATED:20260425T160217Z
DTSTART:20241207T055000Z
DTEND:20241207T065000Z
LOCATION:RCF East - Barcelona
CONTACT:
SUMMARY:Sofa Kings VS. Watching Patos
DESCRIPTION:League Name: RCF East AL Winter I 24' - Men D3 (T/F)\nGame Type
 : Regular\nGame Status: Complete\nHome Team: Sofa Kings\nAway Team: Watchi
 ng Patos\nHome Score: 6\nAway Score: 9
END:VEVENT
BEGIN:VEVENT
UID:16017567@ezleagues.ezfacility.com
DTSTAMP:20260425T160217Z
CREATED:20260425T160217Z
DTSTART:20241211T035000Z
DTEND:20241211T045000Z
LOCATION:RCF East - Barcelona
CONTACT:
SUMMARY:FC Love Jam VS. Sofa Kings
DESCRIPTION:League Name: RCF East AL Winter I 24' - Men D3 (T/F)\nGame Type
 : Regular\nGame Status: Complete\nHome Team: FC Love Jam\nAway Team: Sofa 
 Kings\nHome Score: 4\nAway Score: 8
END:VEVENT
BEGIN:VEVENT
UID:16017585@ezleagues.ezfacility.com
DTSTAMP:20260425T160217Z
CREATED:20260425T160217Z
DTSTART:20241221T053000Z
DTEND:20241221T063000Z
LOCATION:RCF East - Rio
CONTACT:
SUMMARY:Sofa Kings VS. F.C Einfach 
DESCRIPTION:League Name: RCF East AL Winter I 24' - Men D3 (T/F)\nGame Type
 : Regular\nGame Status: Complete\nHome Team: Sofa Kings\nAway Team: F.C Ei
 nfach \nHome Score: 10\nAway Score: 3
END:VEVENT
BEGIN:VEVENT
UID:16017644@ezleagues.ezfacility.com
DTSTAMP:20260425T160217Z
CREATED:20260425T160217Z
DTSTART:20250108T025000Z
DTEND:20250108T035000Z
LOCATION:RCF East - Barcelona
CONTACT:
SUMMARY:Watching Patos VS. Sofa Kings
DESCRIPTION:League Name: RCF East AL Winter I 24' - Men D3 (T/F)\nGame Type
 : Regular\nGame Status: Complete\nHome Team: Watching Patos\nAway Team: So
 fa Kings\nHome Score: 5\nAway Score: 4
END:VEVENT
BEGIN:VEVENT
UID:16017625@ezleagues.ezfacility.com
DTSTAMP:20260425T160217Z
CREATED:20260425T160217Z
DTSTART:20250115T025000Z
DTEND:20250115T035000Z
LOCATION:RCF East - Barcelona
CONTACT:
SUMMARY:Sofa Kings VS. Hot Dogs
DESCRIPTION:League Name: RCF East AL Winter I 24' - Men D3 (T/F)\nGame Type
 : Regular\nGame Status: Complete\nHome Team: Sofa Kings\nAway Team: Hot Do
 gs\nHome Score: 5\nAway Score: 5
END:VEVENT
BEGIN:VEVENT
UID:16017605@ezleagues.ezfacility.com
DTSTAMP:20260425T160217Z
CREATED:20260425T160217Z
DTSTART:20250122T065000Z
DTEND:20250122T075000Z
LOCATION:RCF East - Barcelona
CONTACT:
SUMMARY:Sofa Kings VS. Oregol Trail FC
DESCRIPTION:League Name: RCF East AL Winter I 24' - Men D3 (T/F)\nGame Type
 : Regular\nGame Status: Complete\nHome Team: Sofa Kings\nAway Team: Oregol
  Trail FC\nHome Score: 6\nAway Score: 8
END:VEVENT
BEGIN:VEVENT
UID:16017530@ezleagues.ezfacility.com
DTSTAMP:20260425T160217Z
CREATED:20260425T160217Z
DTSTART:20250129T023000Z
DTEND:20250129T033000Z
LOCATION:RCF East - Rio
CONTACT:
SUMMARY:Hot Dogs VS. Sofa Kings
DESCRIPTION:League Name: RCF East AL Winter I 24' - Men D3 (T/F)\nGame Type
 : Regular\nGame Status: Complete\nHome Team: Hot Dogs\nAway Team: Sofa Kin
 gs\nHome Score: 1\nAway Score: 7
END:VEVENT
END:VCALENDAR
