BEGIN:VCALENDAR
VERSION:2.0
PRODID:-//EZFacility.com, Inc.//EZL 2.5.5.28621
BEGIN:VEVENT
UID:16080340@ezleagues.ezfacility.com
DTSTAMP:20260426T035028Z
CREATED:20260426T035028Z
DTSTART:20241214T144500Z
DTEND:20241214T154000Z
LOCATION:Harmans Premier Field #4
CONTACT:
SUMMARY:2017 SAC Premier Blue  VS. 2017 Glen Burnie White
DESCRIPTION:League Name: Youth (WINTER 1) 2024-25 SD2 Sat/Sun 2017 Boys\nGa
 me Type: Regular\nGame Status: Complete\nHome Team: 2017 SAC Premier Blue 
 \nAway Team: 2017 Glen Burnie White\nHome Score: 8\nAway Score: 0
END:VEVENT
BEGIN:VEVENT
UID:16080473@ezleagues.ezfacility.com
DTSTAMP:20260426T035028Z
CREATED:20260426T035028Z
DTSTART:20250105T163500Z
DTEND:20250105T173000Z
LOCATION:Harmans Premier Field #5
CONTACT:
SUMMARY:2017 Glen Burnie White VS. 2017 PSC Warriors
DESCRIPTION:League Name: Youth (WINTER 1) 2024-25 SD2 Sat/Sun 2017 Boys\nGa
 me Type: Regular\nGame Status: Complete\nHome Team: 2017 Glen Burnie White
 \nAway Team: 2017 PSC Warriors\nHome Score: 4\nAway Score: 3
END:VEVENT
BEGIN:VEVENT
UID:16080518@ezleagues.ezfacility.com
DTSTAMP:20260426T035028Z
CREATED:20260426T035028Z
DTSTART:20250111T173000Z
DTEND:20250111T182500Z
LOCATION:Harmans Premier Field #5
CONTACT:
SUMMARY:2017 Glen Burnie White VS. 2017 Charles Village Black
DESCRIPTION:League Name: Youth (WINTER 1) 2024-25 SD2 Sat/Sun 2017 Boys\nGa
 me Type: Regular\nGame Status: Complete\nHome Team: 2017 Glen Burnie White
 \nAway Team: 2017 Charles Village Black\nHome Score: 5\nAway Score: 7
END:VEVENT
BEGIN:VEVENT
UID:16080562@ezleagues.ezfacility.com
DTSTAMP:20260426T035028Z
CREATED:20260426T035028Z
DTSTART:20250119T192000Z
DTEND:20250119T201500Z
LOCATION:Harmans Premier Field #5
CONTACT:
SUMMARY:2017 Coppermine VS. 2017 Glen Burnie White
DESCRIPTION:League Name: Youth (WINTER 1) 2024-25 SD2 Sat/Sun 2017 Boys\nGa
 me Type: Regular\nGame Status: Complete\nHome Team: 2017 Coppermine\nAway 
 Team: 2017 Glen Burnie White\nHome Score: 8\nAway Score: 0
END:VEVENT
BEGIN:VEVENT
UID:16080297@ezleagues.ezfacility.com
DTSTAMP:20260426T035028Z
CREATED:20260426T035028Z
DTSTART:20250120T190000Z
DTEND:20250120T195500Z
LOCATION:Harmans Premier Field #4
CONTACT:
SUMMARY:2017 SAC Premier White  VS. 2017 Glen Burnie White
DESCRIPTION:League Name: Youth (WINTER 1) 2024-25 SD2 Sat/Sun 2017 Boys\nGa
 me Type: Regular\nGame Status: Complete\nHome Team: 2017 SAC Premier White
  \nAway Team: 2017 Glen Burnie White\nHome Score: 3\nAway Score: 3
END:VEVENT
BEGIN:VEVENT
UID:16080383@ezleagues.ezfacility.com
DTSTAMP:20260426T035028Z
CREATED:20260426T035028Z
DTSTART:20250125T173000Z
DTEND:20250125T182500Z
LOCATION:Harmans Premier Field #5
CONTACT:
SUMMARY:2017 Glen Burnie White VS. 2017 BSC FIRE
DESCRIPTION:League Name: Youth (WINTER 1) 2024-25 SD2 Sat/Sun 2017 Boys\nGa
 me Type: Regular\nGame Status: Complete\nHome Team: 2017 Glen Burnie White
 \nAway Team: 2017 BSC FIRE\nHome Score: 1\nAway Score: 6
END:VEVENT
BEGIN:VEVENT
UID:16080428@ezleagues.ezfacility.com
DTSTAMP:20260426T035028Z
CREATED:20260426T035028Z
DTSTART:20250201T173000Z
DTEND:20250201T182500Z
LOCATION:Harmans Premier Field #4
CONTACT:
SUMMARY:2017 Glen Burnie White VS. 2017 Severna Park Green Hornets
DESCRIPTION:League Name: Youth (WINTER 1) 2024-25 SD2 Sat/Sun 2017 Boys\nGa
 me Type: Regular\nGame Status: Complete\nHome Team: 2017 Glen Burnie White
 \nAway Team: 2017 Severna Park Green Hornets\nHome Score: 1\nAway Score: 8
END:VEVENT
END:VCALENDAR
