BEGIN:VCALENDAR
VERSION:2.0
PRODID:-//EZFacility.com, Inc.//EZL 2.5.5.28621
BEGIN:VEVENT
UID:16019415@ezleagues.ezfacility.com
DTSTAMP:20260419T172820Z
CREATED:20260419T172820Z
DTSTART:20241111T053000Z
DTEND:20241111T063000Z
LOCATION:RCF East - Rio
CONTACT:
SUMMARY:The gamers VS. SCA
DESCRIPTION:League Name: RCF East AL Winter I 24' - Men D3 Red (S/S)\nGame 
 Type: Regular\nGame Status: Complete\nHome Team: The gamers\nAway Team: SC
 A\nHome Score: 7\nAway Score: 8
END:VEVENT
BEGIN:VEVENT
UID:16019448@ezleagues.ezfacility.com
DTSTAMP:20260419T172820Z
CREATED:20260419T172820Z
DTSTART:20241117T031000Z
DTEND:20241117T041000Z
LOCATION:RCF East - Portland
CONTACT:
SUMMARY:SCA VS. Joga Bonito
DESCRIPTION:League Name: RCF East AL Winter I 24' - Men D3 Red (S/S)\nGame 
 Type: Regular\nGame Status: Complete\nHome Team: SCA\nAway Team: Joga Boni
 to\nHome Score: 5\nAway Score: 6
END:VEVENT
BEGIN:VEVENT
UID:16019480@ezleagues.ezfacility.com
DTSTAMP:20260419T172820Z
CREATED:20260419T172820Z
DTSTART:20241125T045000Z
DTEND:20241125T055000Z
LOCATION:RCF East - Barcelona
CONTACT:
SUMMARY:SCA VS. FC United 
DESCRIPTION:League Name: RCF East AL Winter I 24' - Men D3 Red (S/S)\nGame 
 Type: Regular\nGame Status: Complete\nHome Team: SCA\nAway Team: FC United
  \nHome Score: 9\nAway Score: 4
END:VEVENT
BEGIN:VEVENT
UID:16019544@ezleagues.ezfacility.com
DTSTAMP:20260419T172820Z
CREATED:20260419T172820Z
DTSTART:20241209T021000Z
DTEND:20241209T031000Z
LOCATION:RCF East - Portland
CONTACT:
SUMMARY:Cholos F.C VS. SCA
DESCRIPTION:League Name: RCF East AL Winter I 24' - Men D3 Red (S/S)\nGame 
 Type: Regular\nGame Status: Complete\nHome Team: Cholos F.C\nAway Team: SC
 A\nHome Score: 5\nAway Score: 6
END:VEVENT
BEGIN:VEVENT
UID:16019578@ezleagues.ezfacility.com
DTSTAMP:20260419T172820Z
CREATED:20260419T172820Z
DTSTART:20241216T013000Z
DTEND:20241216T023000Z
LOCATION:RCF East - Rio
CONTACT:
SUMMARY:SCA VS. CT Chipping Rainbows 
DESCRIPTION:League Name: RCF East AL Winter I 24' - Men D3 Red (S/S)\nGame 
 Type: Regular\nGame Status: Complete\nHome Team: SCA\nAway Team: CT Chippi
 ng Rainbows \nHome Score: 11\nAway Score: 5
END:VEVENT
BEGIN:VEVENT
UID:16019612@ezleagues.ezfacility.com
DTSTAMP:20260419T172820Z
CREATED:20260419T172820Z
DTSTART:20241222T063000Z
DTEND:20241222T073000Z
LOCATION:RCF East - Rio
CONTACT:
SUMMARY:SCA VS. Leftcoast FC
DESCRIPTION:League Name: RCF East AL Winter I 24' - Men D3 Red (S/S)\nGame 
 Type: Regular\nGame Status: Complete\nHome Team: SCA\nAway Team: Leftcoast
  FC\nHome Score: 7\nAway Score: 0
END:VEVENT
BEGIN:VEVENT
UID:16019711@ezleagues.ezfacility.com
DTSTAMP:20260419T172820Z
CREATED:20260419T172820Z
DTSTART:20250112T033000Z
DTEND:20250112T043000Z
LOCATION:Cancellation
CONTACT:
SUMMARY:FC United  VS. SCA
DESCRIPTION:League Name: RCF East AL Winter I 24' - Men D3 Red (S/S)\nGame 
 Type: Regular\nGame Status: Complete\nHome Team: FC United \nAway Team: SC
 A\nHome Score: 7\nAway Score: 0
END:VEVENT
BEGIN:VEVENT
UID:16019679@ezleagues.ezfacility.com
DTSTAMP:20260419T172820Z
CREATED:20260419T172820Z
DTSTART:20250119T041000Z
DTEND:20250119T051000Z
LOCATION:RCF East - Portland
CONTACT:
SUMMARY:Joga Bonito VS. SCA
DESCRIPTION:League Name: RCF East AL Winter I 24' - Men D3 Red (S/S)\nGame 
 Type: Regular\nGame Status: Complete\nHome Team: Joga Bonito\nAway Team: S
 CA\nHome Score: 8\nAway Score: 2
END:VEVENT
BEGIN:VEVENT
UID:16019646@ezleagues.ezfacility.com
DTSTAMP:20260419T172820Z
CREATED:20260419T172820Z
DTSTART:20250126T031000Z
DTEND:20250126T041000Z
LOCATION:RCF East - Portland
CONTACT:
SUMMARY:SCA VS. The gamers
DESCRIPTION:League Name: RCF East AL Winter I 24' - Men D3 Red (S/S)\nGame 
 Type: Regular\nGame Status: Complete\nHome Team: SCA\nAway Team: The gamer
 s\nHome Score: 13\nAway Score: 6
END:VEVENT
BEGIN:VEVENT
UID:16019512@ezleagues.ezfacility.com
DTSTAMP:20260419T172820Z
CREATED:20260419T172820Z
DTSTART:20250202T003000Z
DTEND:20250202T013000Z
LOCATION:RCF East - Rio
CONTACT:
SUMMARY:SCA07B Blue VS. SCA
DESCRIPTION:League Name: RCF East AL Winter I 24' - Men D3 Red (S/S)\nGame 
 Type: Regular\nGame Status: Complete\nHome Team: SCA07B Blue\nAway Team: S
 CA\nHome Score: 7\nAway Score: 0
END:VEVENT
END:VCALENDAR
