BEGIN:VCALENDAR
VERSION:2.0
PRODID:-//EZFacility.com, Inc.//EZL 2.5.5.28621
BEGIN:VEVENT
UID:16020504@ezleagues.ezfacility.com
DTSTAMP:20260426T034846Z
CREATED:20260426T034846Z
DTSTART:20241106T080000Z
DTEND:20241106T084000Z
LOCATION: 002 Maracana
CONTACT:Corey 
SUMMARY:Alan's Team VS. Badgers
DESCRIPTION:League Name: SUMMER LEAGUES 24/25 Wednesday Mens 7s\nGame Type:
  Regular\nGame Status: Complete\nHome Team: Alan's Team\nAway Team: Badger
 s\nHome Score: 5\nAway Score: 1
END:VEVENT
BEGIN:VEVENT
UID:16020514@ezleagues.ezfacility.com
DTSTAMP:20260426T034846Z
CREATED:20260426T034846Z
DTSTART:20241113T084500Z
DTEND:20241113T092500Z
LOCATION: 002 Maracana
CONTACT:Corey 
SUMMARY:Alan's Team VS. Fat and Furious
DESCRIPTION:League Name: SUMMER LEAGUES 24/25 Wednesday Mens 7s\nGame Type:
  Regular\nGame Status: Complete\nHome Team: Alan's Team\nAway Team: Fat an
 d Furious\nHome Score: 2\nAway Score: 9
END:VEVENT
BEGIN:VEVENT
UID:16020584@ezleagues.ezfacility.com
DTSTAMP:20260426T034846Z
CREATED:20260426T034846Z
DTSTART:20241120T093000Z
DTEND:20241120T101000Z
LOCATION: 001 Wembley Stadium
CONTACT:Jeff
SUMMARY:Visser off the leash VS. Alan's Team
DESCRIPTION:League Name: SUMMER LEAGUES 24/25 Wednesday Mens 7s\nGame Type:
  Regular\nGame Status: Complete\nHome Team: Visser off the leash\nAway Tea
 m: Alan's Team\nHome Score: 3\nAway Score: 2
END:VEVENT
BEGIN:VEVENT
UID:16020534@ezleagues.ezfacility.com
DTSTAMP:20260426T034846Z
CREATED:20260426T034846Z
DTSTART:20241127T080000Z
DTEND:20241127T084000Z
LOCATION: 002 Maracana
CONTACT:Corey 
SUMMARY:Alan's Team VS. MR TOOCH
DESCRIPTION:League Name: SUMMER LEAGUES 24/25 Wednesday Mens 7s\nGame Type:
  Regular\nGame Status: Complete\nHome Team: Alan's Team\nAway Team: MR TOO
 CH\nHome Score: 3\nAway Score: 6
END:VEVENT
BEGIN:VEVENT
UID:16020544@ezleagues.ezfacility.com
DTSTAMP:20260426T034846Z
CREATED:20260426T034846Z
DTSTART:20241204T080000Z
DTEND:20241204T084000Z
LOCATION: 001 Wembley Stadium
CONTACT:Jeff
SUMMARY:Red Ball VS. Alan's Team
DESCRIPTION:League Name: SUMMER LEAGUES 24/25 Wednesday Mens 7s\nGame Type:
  Regular\nGame Status: Complete\nHome Team: Red Ball\nAway Team: Alan's Te
 am\nHome Score: 1\nAway Score: 3
END:VEVENT
BEGIN:VEVENT
UID:16020684@ezleagues.ezfacility.com
DTSTAMP:20260426T034846Z
CREATED:20260426T034846Z
DTSTART:20241211T084500Z
DTEND:20241211T092500Z
LOCATION: 002 Maracana
CONTACT:Corey 
SUMMARY:Alan's Team VS. Anything Else
DESCRIPTION:League Name: SUMMER LEAGUES 24/25 Wednesday Mens 7s\nGame Type:
  Regular\nGame Status: Complete\nHome Team: Alan's Team\nAway Team: Anythi
 ng Else\nHome Score: 8\nAway Score: 3
END:VEVENT
BEGIN:VEVENT
UID:16020564@ezleagues.ezfacility.com
DTSTAMP:20260426T034846Z
CREATED:20260426T034846Z
DTSTART:20241218T071500Z
DTEND:20241218T075500Z
LOCATION: 001 Wembley Stadium
CONTACT:Jeff
SUMMARY:Tecca toe punts VS. Alan's Team
DESCRIPTION:League Name: SUMMER LEAGUES 24/25 Wednesday Mens 7s\nGame Type:
  Regular\nGame Status: Complete\nHome Team: Tecca toe punts\nAway Team: Al
 an's Team\nHome Score: 4\nAway Score: 6
END:VEVENT
BEGIN:VEVENT
UID:16020594@ezleagues.ezfacility.com
DTSTAMP:20260426T034846Z
CREATED:20260426T034846Z
DTSTART:20250108T101500Z
DTEND:20250108T105500Z
LOCATION: 002 Maracana
CONTACT:Corey 
SUMMARY:WashednFound VS. Alan's Team
DESCRIPTION:League Name: SUMMER LEAGUES 24/25 Wednesday Mens 7s\nGame Type:
  Regular\nGame Status: Complete\nHome Team: WashednFound\nAway Team: Alan'
 s Team\nHome Score: 7\nAway Score: 1
END:VEVENT
BEGIN:VEVENT
UID:16020604@ezleagues.ezfacility.com
DTSTAMP:20260426T034846Z
CREATED:20260426T034846Z
DTSTART:20250115T080000Z
DTEND:20250115T084000Z
LOCATION: 001 Wembley Stadium
CONTACT:Jeff
SUMMARY:Unathletico Madrid VS. Alan's Team
DESCRIPTION:League Name: SUMMER LEAGUES 24/25 Wednesday Mens 7s\nGame Type:
  Regular\nGame Status: Complete\nHome Team: Unathletico Madrid\nAway Team:
  Alan's Team\nHome Score: 8\nAway Score: 5
END:VEVENT
BEGIN:VEVENT
UID:16020674@ezleagues.ezfacility.com
DTSTAMP:20260426T034846Z
CREATED:20260426T034846Z
DTSTART:20250122T071500Z
DTEND:20250122T075500Z
LOCATION: 001 Wembley Stadium
CONTACT:
SUMMARY:Alan's Team VS. Downey Plumbing
DESCRIPTION:League Name: SUMMER LEAGUES 24/25 Wednesday Mens 7s\nGame Type:
  Regular\nGame Status: Complete\nHome Team: Alan's Team\nAway Team: Downey
  Plumbing\nHome Score: 4\nAway Score: 4
END:VEVENT
BEGIN:VEVENT
UID:16020664@ezleagues.ezfacility.com
DTSTAMP:20260426T034846Z
CREATED:20260426T034846Z
DTSTART:20250129T010000Z
DTEND:20250129T014000Z
LOCATION: 001 Wembley Stadium
CONTACT:AA
SUMMARY:Alan's Team VS. FFC
DESCRIPTION:League Name: SUMMER LEAGUES 24/25 Wednesday Mens 7s\nGame Type:
  Regular\nGame Status: Complete\nHome Team: Alan's Team\nAway Team: FFC\nH
 ome Score: 10\nAway Score: 0
END:VEVENT
BEGIN:VEVENT
UID:16020654@ezleagues.ezfacility.com
DTSTAMP:20260426T034846Z
CREATED:20260426T034846Z
DTSTART:20250205T084500Z
DTEND:20250205T092500Z
LOCATION: 001 Wembley Stadium
CONTACT:Jeff
SUMMARY:Alan's Team VS. Here for the Beer
DESCRIPTION:League Name: SUMMER LEAGUES 24/25 Wednesday Mens 7s\nGame Type:
  Regular\nGame Status: Complete\nHome Team: Alan's Team\nAway Team: Here f
 or the Beer\nHome Score: 3\nAway Score: 6
END:VEVENT
BEGIN:VEVENT
UID:16020644@ezleagues.ezfacility.com
DTSTAMP:20260426T034846Z
CREATED:20260426T034846Z
DTSTART:20250212T071500Z
DTEND:20250212T075500Z
LOCATION: 002 Maracana
CONTACT:Corey 
SUMMARY:Alan's Team VS. Murder on Zidane's Floor 
DESCRIPTION:League Name: SUMMER LEAGUES 24/25 Wednesday Mens 7s\nGame Type:
  Regular\nGame Status: Complete\nHome Team: Alan's Team\nAway Team: Murder
  on Zidane's Floor \nHome Score: 3\nAway Score: 12
END:VEVENT
END:VCALENDAR
