BEGIN:VCALENDAR
VERSION:2.0
PRODID:-//EZFacility.com, Inc.//EZL 2.5.5.28621
BEGIN:VEVENT
UID:16023550@ezleagues.ezfacility.com
DTSTAMP:20260424T044250Z
CREATED:20260424T044250Z
DTSTART:20241107T054500Z
DTEND:20241107T062500Z
LOCATION:003 San Siro
CONTACT:Connor
SUMMARY:Berka Boyz VS. Mini Strikers FC
DESCRIPTION:League Name: SUMMER LEAGUES 24/25 Thursday Under 7s\nGame Type:
  Regular\nGame Status: Complete\nHome Team: Berka Boyz\nAway Team: Mini St
 rikers FC\nHome Score: 7\nAway Score: 6
END:VEVENT
BEGIN:VEVENT
UID:16023555@ezleagues.ezfacility.com
DTSTAMP:20260424T044250Z
CREATED:20260424T044250Z
DTSTART:20241114T054500Z
DTEND:20241114T062500Z
LOCATION:004 La Bombonera
CONTACT:Lucas 
SUMMARY:Tuggerah Titans VS. Mini Strikers FC
DESCRIPTION:League Name: SUMMER LEAGUES 24/25 Thursday Under 7s\nGame Type:
  Regular\nGame Status: Complete\nHome Team: Tuggerah Titans\nAway Team: Mi
 ni Strikers FC\nHome Score: 3\nAway Score: 8
END:VEVENT
BEGIN:VEVENT
UID:16023560@ezleagues.ezfacility.com
DTSTAMP:20260424T044250Z
CREATED:20260424T044250Z
DTSTART:20241121T054500Z
DTEND:20241121T062500Z
LOCATION:005 Nou Camp
CONTACT:
SUMMARY:Summer Strikers VS. Mini Strikers FC
DESCRIPTION:League Name: SUMMER LEAGUES 24/25 Thursday Under 7s\nGame Type:
  Regular\nGame Status: Complete\nHome Team: Summer Strikers\nAway Team: Mi
 ni Strikers FC\nHome Score: 2\nAway Score: 12
END:VEVENT
BEGIN:VEVENT
UID:16023565@ezleagues.ezfacility.com
DTSTAMP:20260424T044250Z
CREATED:20260424T044250Z
DTSTART:20241128T054500Z
DTEND:20241128T062500Z
LOCATION:005 Nou Camp
CONTACT:Connor
SUMMARY:Junior Reddies VS. Mini Strikers FC
DESCRIPTION:League Name: SUMMER LEAGUES 24/25 Thursday Under 7s\nGame Type:
  Regular\nGame Status: Complete\nHome Team: Junior Reddies\nAway Team: Min
 i Strikers FC\nHome Score: 3\nAway Score: 12
END:VEVENT
BEGIN:VEVENT
UID:16023569@ezleagues.ezfacility.com
DTSTAMP:20260424T044250Z
CREATED:20260424T044250Z
DTSTART:20241205T054500Z
DTEND:20241205T062500Z
LOCATION:003 San Siro
CONTACT:
SUMMARY:Mini Strikers FC VS. Scorpions (Under 7s)
DESCRIPTION:League Name: SUMMER LEAGUES 24/25 Thursday Under 7s\nGame Type:
  Regular\nGame Status: Complete\nHome Team: Mini Strikers FC\nAway Team: S
 corpions (Under 7s)\nHome Score: 15\nAway Score: 1
END:VEVENT
BEGIN:VEVENT
UID:16023572@ezleagues.ezfacility.com
DTSTAMP:20260424T044250Z
CREATED:20260424T044250Z
DTSTART:20241212T054500Z
DTEND:20241212T062500Z
LOCATION:006 Estadio do Dragao
CONTACT:Kian
SUMMARY:Mini Strikers FC VS. Wyong Emus under 7
DESCRIPTION:League Name: SUMMER LEAGUES 24/25 Thursday Under 7s\nGame Type:
  Regular\nGame Status: Complete\nHome Team: Mini Strikers FC\nAway Team: W
 yong Emus under 7\nHome Score: 9\nAway Score: 3
END:VEVENT
BEGIN:VEVENT
UID:16023575@ezleagues.ezfacility.com
DTSTAMP:20260424T044250Z
CREATED:20260424T044250Z
DTSTART:20241219T030000Z
DTEND:20241219T034000Z
LOCATION:003 San Siro
CONTACT:AA
SUMMARY:OPEN SPOT VS. Mini Strikers FC
DESCRIPTION:League Name: SUMMER LEAGUES 24/25 Thursday Under 7s\nGame Type:
  Regular\nGame Status: Complete\nHome Team: OPEN SPOT\nAway Team: Mini Str
 ikers FC\nHome Score: 0\nAway Score: 10
END:VEVENT
BEGIN:VEVENT
UID:16023588@ezleagues.ezfacility.com
DTSTAMP:20260424T044250Z
CREATED:20260424T044250Z
DTSTART:20250109T054500Z
DTEND:20250109T062500Z
LOCATION:006 Estadio do Dragao
CONTACT:Roman
SUMMARY:Mini Strikers FC VS. Summer Strikers
DESCRIPTION:League Name: SUMMER LEAGUES 24/25 Thursday Under 7s\nGame Type:
  Regular\nGame Status: Complete\nHome Team: Mini Strikers FC\nAway Team: S
 ummer Strikers\nHome Score: 7\nAway Score: 4
END:VEVENT
BEGIN:VEVENT
UID:16023593@ezleagues.ezfacility.com
DTSTAMP:20260424T044250Z
CREATED:20260424T044250Z
DTSTART:20250116T024500Z
DTEND:20250116T032500Z
LOCATION:004 La Bombonera
CONTACT:AA
SUMMARY:Mini Strikers FC VS. TBC
DESCRIPTION:League Name: SUMMER LEAGUES 24/25 Thursday Under 7s\nGame Type:
  Regular\nGame Status: Complete\nHome Team: Mini Strikers FC\nAway Team: T
 BC\nHome Score: 10\nAway Score: 0
END:VEVENT
BEGIN:VEVENT
UID:16023597@ezleagues.ezfacility.com
DTSTAMP:20260424T044250Z
CREATED:20260424T044250Z
DTSTART:20250123T054500Z
DTEND:20250123T062500Z
LOCATION:006 Estadio do Dragao
CONTACT:Lucas 
SUMMARY:Scorpions (Under 7s) VS. Mini Strikers FC
DESCRIPTION:League Name: SUMMER LEAGUES 24/25 Thursday Under 7s\nGame Type:
  Regular\nGame Status: Complete\nHome Team: Scorpions (Under 7s)\nAway Tea
 m: Mini Strikers FC\nHome Score: 3\nAway Score: 8
END:VEVENT
BEGIN:VEVENT
UID:16023600@ezleagues.ezfacility.com
DTSTAMP:20260424T044250Z
CREATED:20260424T044250Z
DTSTART:20250130T054500Z
DTEND:20250130T062500Z
LOCATION:005 Nou Camp
CONTACT:Seth
SUMMARY:Wyong Emus under 7 VS. Mini Strikers FC
DESCRIPTION:League Name: SUMMER LEAGUES 24/25 Thursday Under 7s\nGame Type:
  Regular\nGame Status: Complete\nHome Team: Wyong Emus under 7\nAway Team:
  Mini Strikers FC\nHome Score: 6\nAway Score: 7
END:VEVENT
BEGIN:VEVENT
UID:16023578@ezleagues.ezfacility.com
DTSTAMP:20260424T044250Z
CREATED:20260424T044250Z
DTSTART:20250206T054500Z
DTEND:20250206T062500Z
LOCATION:005 Nou Camp
CONTACT:Kian
SUMMARY:Mini Strikers FC VS. Berka Boyz
DESCRIPTION:League Name: SUMMER LEAGUES 24/25 Thursday Under 7s\nGame Type:
  Regular\nGame Status: Complete\nHome Team: Mini Strikers FC\nAway Team: B
 erka Boyz\nHome Score: 7\nAway Score: 4
END:VEVENT
BEGIN:VEVENT
UID:16023583@ezleagues.ezfacility.com
DTSTAMP:20260424T044250Z
CREATED:20260424T044250Z
DTSTART:20250213T054500Z
DTEND:20250213T062500Z
LOCATION:006 Estadio do Dragao
CONTACT:
SUMMARY:Mini Strikers FC VS. Tuggerah Titans
DESCRIPTION:League Name: SUMMER LEAGUES 24/25 Thursday Under 7s\nGame Type:
  Regular\nGame Status: Complete\nHome Team: Mini Strikers FC\nAway Team: T
 uggerah Titans\nHome Score: 16\nAway Score: 0
END:VEVENT
BEGIN:VEVENT
UID:16193490@ezleagues.ezfacility.com
DTSTAMP:20260424T044250Z
CREATED:20260424T044250Z
DTSTART:20250220T054500Z
DTEND:20250220T062500Z
LOCATION:003 San Siro
CONTACT:Lucas
SUMMARY:Mini Strikers FC VS. Junior Reddies
DESCRIPTION:League Name: SUMMER LEAGUES 24/25 Thursday Under 7s\nGame Type:
  Postseason\nGame Status: Complete\nHome Team: Mini Strikers FC\nAway Team
 : Junior Reddies\nHome Score: 10\nAway Score: 2
END:VEVENT
BEGIN:VEVENT
UID:16193494@ezleagues.ezfacility.com
DTSTAMP:20260424T044250Z
CREATED:20260424T044250Z
DTSTART:20250227T054500Z
DTEND:20250227T062500Z
LOCATION:003 San Siro
CONTACT:Roman
SUMMARY:Mini Strikers FC VS. Berka Boyz
DESCRIPTION:League Name: SUMMER LEAGUES 24/25 Thursday Under 7s\nGame Type:
  Postseason\nGame Status: Complete\nHome Team: Mini Strikers FC\nAway Team
 : Berka Boyz\nHome Score: 4\nAway Score: 6
END:VEVENT
END:VCALENDAR
