BEGIN:VCALENDAR
VERSION:2.0
PRODID:-//EZFacility.com, Inc.//EZL 2.5.5.28621
BEGIN:VEVENT
UID:16023747@ezleagues.ezfacility.com
DTSTAMP:20260423T174431Z
CREATED:20260423T174431Z
DTSTART:20241107T071500Z
DTEND:20241107T075500Z
LOCATION:003 San Siro
CONTACT:Connor
SUMMARY:City Blues VS. Killarney boys under 11
DESCRIPTION:League Name: SUMMER LEAGUES 24/25 Thursday Under 11s\nGame Type
 : Regular\nGame Status: Complete\nHome Team: City Blues\nAway Team: Killar
 ney boys under 11\nHome Score: 6\nAway Score: 3
END:VEVENT
BEGIN:VEVENT
UID:16023750@ezleagues.ezfacility.com
DTSTAMP:20260423T174431Z
CREATED:20260423T174431Z
DTSTART:20241114T071500Z
DTEND:20241114T075500Z
LOCATION:008 Ibrox
CONTACT:Brendan
SUMMARY:City Blues VS. The Rizz Monkeys
DESCRIPTION:League Name: SUMMER LEAGUES 24/25 Thursday Under 11s\nGame Type
 : Regular\nGame Status: Complete\nHome Team: City Blues\nAway Team: The Ri
 zz Monkeys\nHome Score: 5\nAway Score: 4
END:VEVENT
BEGIN:VEVENT
UID:16023753@ezleagues.ezfacility.com
DTSTAMP:20260423T174431Z
CREATED:20260423T174431Z
DTSTART:20241121T080000Z
DTEND:20241121T084000Z
LOCATION:007 Celtic Park
CONTACT:Kian
SUMMARY:City Blues VS. Wolves
DESCRIPTION:League Name: SUMMER LEAGUES 24/25 Thursday Under 11s\nGame Type
 : Regular\nGame Status: Complete\nHome Team: City Blues\nAway Team: Wolves
 \nHome Score: 9\nAway Score: 4
END:VEVENT
BEGIN:VEVENT
UID:16023756@ezleagues.ezfacility.com
DTSTAMP:20260423T174431Z
CREATED:20260423T174431Z
DTSTART:20241128T080000Z
DTEND:20241128T084000Z
LOCATION:004 La Bombonera
CONTACT:
SUMMARY:City Blues VS. Peacocks
DESCRIPTION:League Name: SUMMER LEAGUES 24/25 Thursday Under 11s\nGame Type
 : Regular\nGame Status: Complete\nHome Team: City Blues\nAway Team: Peacoc
 ks\nHome Score: 17\nAway Score: 1
END:VEVENT
BEGIN:VEVENT
UID:16023759@ezleagues.ezfacility.com
DTSTAMP:20260423T174431Z
CREATED:20260423T174431Z
DTSTART:20241205T080000Z
DTEND:20241205T084000Z
LOCATION:009 Anfield
CONTACT:
SUMMARY:City Blues VS. Neymars
DESCRIPTION:League Name: SUMMER LEAGUES 24/25 Thursday Under 11s\nGame Type
 : Regular\nGame Status: Complete\nHome Team: City Blues\nAway Team: Neymar
 s\nHome Score: 6\nAway Score: 2
END:VEVENT
BEGIN:VEVENT
UID:16023762@ezleagues.ezfacility.com
DTSTAMP:20260423T174431Z
CREATED:20260423T174431Z
DTSTART:20241212T080000Z
DTEND:20241212T084000Z
LOCATION:007 Celtic Park
CONTACT:
SUMMARY:City Blues VS. Killarney boys under 11
DESCRIPTION:League Name: SUMMER LEAGUES 24/25 Thursday Under 11s\nGame Type
 : Regular\nGame Status: Complete\nHome Team: City Blues\nAway Team: Killar
 ney boys under 11\nHome Score: 8\nAway Score: 4
END:VEVENT
BEGIN:VEVENT
UID:16023765@ezleagues.ezfacility.com
DTSTAMP:20260423T174431Z
CREATED:20260423T174431Z
DTSTART:20241219T071500Z
DTEND:20241219T075500Z
LOCATION:005 Nou Camp
CONTACT:Josh
SUMMARY:The Rizz Monkeys VS. City Blues
DESCRIPTION:League Name: SUMMER LEAGUES 24/25 Thursday Under 11s\nGame Type
 : Regular\nGame Status: Complete\nHome Team: The Rizz Monkeys\nAway Team: 
 City Blues\nHome Score: 2\nAway Score: 4
END:VEVENT
BEGIN:VEVENT
UID:16023774@ezleagues.ezfacility.com
DTSTAMP:20260423T174431Z
CREATED:20260423T174431Z
DTSTART:20250109T080000Z
DTEND:20250109T084000Z
LOCATION:007 Celtic Park
CONTACT:
SUMMARY:City Blues VS. Neymars
DESCRIPTION:League Name: SUMMER LEAGUES 24/25 Thursday Under 11s\nGame Type
 : Regular\nGame Status: Complete\nHome Team: City Blues\nAway Team: Neymar
 s\nHome Score: 8\nAway Score: 1
END:VEVENT
BEGIN:VEVENT
UID:16023777@ezleagues.ezfacility.com
DTSTAMP:20260423T174431Z
CREATED:20260423T174431Z
DTSTART:20250116T071500Z
DTEND:20250116T075500Z
LOCATION:008 Ibrox
CONTACT:Josh
SUMMARY:Killarney boys under 11 VS. City Blues
DESCRIPTION:League Name: SUMMER LEAGUES 24/25 Thursday Under 11s\nGame Type
 : Regular\nGame Status: Complete\nHome Team: Killarney boys under 11\nAway
  Team: City Blues\nHome Score: 6\nAway Score: 8
END:VEVENT
BEGIN:VEVENT
UID:16023780@ezleagues.ezfacility.com
DTSTAMP:20260423T174431Z
CREATED:20260423T174431Z
DTSTART:20250123T071500Z
DTEND:20250123T075500Z
LOCATION:003 San Siro
CONTACT:
SUMMARY:The Rizz Monkeys VS. City Blues
DESCRIPTION:League Name: SUMMER LEAGUES 24/25 Thursday Under 11s\nGame Type
 : Regular\nGame Status: Complete\nHome Team: The Rizz Monkeys\nAway Team: 
 City Blues\nHome Score: 6\nAway Score: 7
END:VEVENT
BEGIN:VEVENT
UID:16023783@ezleagues.ezfacility.com
DTSTAMP:20260423T174431Z
CREATED:20260423T174431Z
DTSTART:20250130T080000Z
DTEND:20250130T084000Z
LOCATION:007 Celtic Park
CONTACT:Lucas
SUMMARY:Wolves VS. City Blues
DESCRIPTION:League Name: SUMMER LEAGUES 24/25 Thursday Under 11s\nGame Type
 : Regular\nGame Status: Complete\nHome Team: Wolves\nAway Team: City Blues
 \nHome Score: 4\nAway Score: 14
END:VEVENT
BEGIN:VEVENT
UID:16023768@ezleagues.ezfacility.com
DTSTAMP:20260423T174431Z
CREATED:20260423T174431Z
DTSTART:20250206T071500Z
DTEND:20250206T075500Z
LOCATION:006 Estadio do Dragao
CONTACT:Roman
SUMMARY:Wolves VS. City Blues
DESCRIPTION:League Name: SUMMER LEAGUES 24/25 Thursday Under 11s\nGame Type
 : Regular\nGame Status: Complete\nHome Team: Wolves\nAway Team: City Blues
 \nHome Score: 5\nAway Score: 17
END:VEVENT
BEGIN:VEVENT
UID:16023771@ezleagues.ezfacility.com
DTSTAMP:20260423T174431Z
CREATED:20260423T174431Z
DTSTART:20250213T080000Z
DTEND:20250213T084000Z
LOCATION:007 Celtic Park
CONTACT:
SUMMARY:Peacocks VS. City Blues
DESCRIPTION:League Name: SUMMER LEAGUES 24/25 Thursday Under 11s\nGame Type
 : Regular\nGame Status: Complete\nHome Team: Peacocks\nAway Team: City Blu
 es\nHome Score: 2\nAway Score: 18
END:VEVENT
BEGIN:VEVENT
UID:16193610@ezleagues.ezfacility.com
DTSTAMP:20260423T174431Z
CREATED:20260423T174431Z
DTSTART:20250220T071500Z
DTEND:20250220T075500Z
LOCATION:007 Celtic Park
CONTACT:Kian
SUMMARY:City Blues VS. Killarney boys under 11
DESCRIPTION:League Name: SUMMER LEAGUES 24/25 Thursday Under 11s\nGame Type
 : Postseason\nGame Status: Complete\nHome Team: City Blues\nAway Team: Kil
 larney boys under 11\nHome Score: 8\nAway Score: 4
END:VEVENT
BEGIN:VEVENT
UID:16193613@ezleagues.ezfacility.com
DTSTAMP:20260423T174431Z
CREATED:20260423T174431Z
DTSTART:20250227T071500Z
DTEND:20250227T075500Z
LOCATION:003 San Siro
CONTACT:Roman
SUMMARY:City Blues VS. Neymars
DESCRIPTION:League Name: SUMMER LEAGUES 24/25 Thursday Under 11s\nGame Type
 : Postseason\nGame Status: Complete\nHome Team: City Blues\nAway Team: Ney
 mars\nHome Score: 5\nAway Score: 2
END:VEVENT
END:VCALENDAR
