BEGIN:VCALENDAR
VERSION:2.0
PRODID:-//EZFacility.com, Inc.//EZL 2.5.5.28621
BEGIN:VEVENT
UID:16024029@ezleagues.ezfacility.com
DTSTAMP:20260420T045007Z
CREATED:20260420T045007Z
DTSTART:20241114T093000Z
DTEND:20241114T101000Z
LOCATION:008 Ibrox
CONTACT:Brendan
SUMMARY:Ninja Turtles VS. Guardians of the Galaxy
DESCRIPTION:League Name: SUMMER LEAGUES 24/25 Thursday Mixed 5s\nGame Type:
  Regular\nGame Status: Complete\nHome Team: Ninja Turtles\nAway Team: Guar
 dians of the Galaxy\nHome Score: 15\nAway Score: 9
END:VEVENT
BEGIN:VEVENT
UID:16024032@ezleagues.ezfacility.com
DTSTAMP:20260420T045007Z
CREATED:20260420T045007Z
DTSTART:20241121T084500Z
DTEND:20241121T092500Z
LOCATION:009 Anfield
CONTACT:
SUMMARY:Ninja Turtles VS. Gossy Dropbears
DESCRIPTION:League Name: SUMMER LEAGUES 24/25 Thursday Mixed 5s\nGame Type:
  Regular\nGame Status: Complete\nHome Team: Ninja Turtles\nAway Team: Goss
 y Dropbears\nHome Score: 10\nAway Score: 0
END:VEVENT
BEGIN:VEVENT
UID:16024035@ezleagues.ezfacility.com
DTSTAMP:20260420T045007Z
CREATED:20260420T045007Z
DTSTART:20241128T093000Z
DTEND:20241128T101000Z
LOCATION:004 La Bombonera
CONTACT:
SUMMARY:Ninja Turtles VS. Preppy Potato's 2.0
DESCRIPTION:League Name: SUMMER LEAGUES 24/25 Thursday Mixed 5s\nGame Type:
  Regular\nGame Status: Complete\nHome Team: Ninja Turtles\nAway Team: Prep
 py Potato's 2.0\nHome Score: 2\nAway Score: 3
END:VEVENT
BEGIN:VEVENT
UID:16024038@ezleagues.ezfacility.com
DTSTAMP:20260420T045007Z
CREATED:20260420T045007Z
DTSTART:20241205T093000Z
DTEND:20241205T101000Z
LOCATION:007 Celtic Park
CONTACT:
SUMMARY:Broken Back Mountain VS. Ninja Turtles
DESCRIPTION:League Name: SUMMER LEAGUES 24/25 Thursday Mixed 5s\nGame Type:
  Regular\nGame Status: Complete\nHome Team: Broken Back Mountain\nAway Tea
 m: Ninja Turtles\nHome Score: 4\nAway Score: 15
END:VEVENT
BEGIN:VEVENT
UID:16024043@ezleagues.ezfacility.com
DTSTAMP:20260420T045007Z
CREATED:20260420T045007Z
DTSTART:20241212T084500Z
DTEND:20241212T092500Z
LOCATION:008 Ibrox
CONTACT:Connor
SUMMARY:Deuces VS. Ninja Turtles
DESCRIPTION:League Name: SUMMER LEAGUES 24/25 Thursday Mixed 5s\nGame Type:
  Regular\nGame Status: Complete\nHome Team: Deuces\nAway Team: Ninja Turtl
 es\nHome Score: 5\nAway Score: 8
END:VEVENT
BEGIN:VEVENT
UID:16024048@ezleagues.ezfacility.com
DTSTAMP:20260420T045007Z
CREATED:20260420T045007Z
DTSTART:20241219T093000Z
DTEND:20241219T101000Z
LOCATION:005 Nou Camp
CONTACT:Josh
SUMMARY:Ninja Turtles VS. Mermaid Squad
DESCRIPTION:League Name: SUMMER LEAGUES 24/25 Thursday Mixed 5s\nGame Type:
  Regular\nGame Status: Complete\nHome Team: Ninja Turtles\nAway Team: Merm
 aid Squad\nHome Score: 12\nAway Score: 6
END:VEVENT
BEGIN:VEVENT
UID:16024060@ezleagues.ezfacility.com
DTSTAMP:20260420T045007Z
CREATED:20260420T045007Z
DTSTART:20250109T093000Z
DTEND:20250109T101000Z
LOCATION:008 Ibrox
CONTACT:Josh
SUMMARY:Gossy Dropbears VS. Ninja Turtles
DESCRIPTION:League Name: SUMMER LEAGUES 24/25 Thursday Mixed 5s\nGame Type:
  Regular\nGame Status: Complete\nHome Team: Gossy Dropbears\nAway Team: Ni
 nja Turtles\nHome Score: 6\nAway Score: 7
END:VEVENT
BEGIN:VEVENT
UID:16024063@ezleagues.ezfacility.com
DTSTAMP:20260420T045007Z
CREATED:20260420T045007Z
DTSTART:20250116T093000Z
DTEND:20250116T101000Z
LOCATION:007 Celtic Park
CONTACT:
SUMMARY:Preppy Potato's 2.0 VS. Ninja Turtles
DESCRIPTION:League Name: SUMMER LEAGUES 24/25 Thursday Mixed 5s\nGame Type:
  Regular\nGame Status: Complete\nHome Team: Preppy Potato's 2.0\nAway Team
 : Ninja Turtles\nHome Score: 5\nAway Score: 9
END:VEVENT
BEGIN:VEVENT
UID:16024066@ezleagues.ezfacility.com
DTSTAMP:20260420T045007Z
CREATED:20260420T045007Z
DTSTART:20250123T093000Z
DTEND:20250123T101000Z
LOCATION:007 Celtic Park
CONTACT:Seth
SUMMARY:Ninja Turtles VS. Broken Back Mountain
DESCRIPTION:League Name: SUMMER LEAGUES 24/25 Thursday Mixed 5s\nGame Type:
  Regular\nGame Status: Complete\nHome Team: Ninja Turtles\nAway Team: Brok
 en Back Mountain\nHome Score: 6\nAway Score: 4
END:VEVENT
BEGIN:VEVENT
UID:16024071@ezleagues.ezfacility.com
DTSTAMP:20260420T045007Z
CREATED:20260420T045007Z
DTSTART:20250130T093000Z
DTEND:20250130T101000Z
LOCATION:008 Ibrox
CONTACT:Kian
SUMMARY:Ninja Turtles VS. Deuces
DESCRIPTION:League Name: SUMMER LEAGUES 24/25 Thursday Mixed 5s\nGame Type:
  Regular\nGame Status: Complete\nHome Team: Ninja Turtles\nAway Team: Deuc
 es\nHome Score: 5\nAway Score: 8
END:VEVENT
BEGIN:VEVENT
UID:16024053@ezleagues.ezfacility.com
DTSTAMP:20260420T045007Z
CREATED:20260420T045007Z
DTSTART:20250206T093000Z
DTEND:20250206T101000Z
LOCATION:005 Nou Camp
CONTACT:Kian
SUMMARY:Ninja Turtles VS. Shakalaka Boom
DESCRIPTION:League Name: SUMMER LEAGUES 24/25 Thursday Mixed 5s\nGame Type:
  Regular\nGame Status: Complete\nHome Team: Ninja Turtles\nAway Team: Shak
 alaka Boom\nHome Score: 8\nAway Score: 5
END:VEVENT
BEGIN:VEVENT
UID:16024057@ezleagues.ezfacility.com
DTSTAMP:20260420T045007Z
CREATED:20260420T045007Z
DTSTART:20250213T093000Z
DTEND:20250213T101000Z
LOCATION:009 Anfield
CONTACT:Lucas
SUMMARY:Guardians of the Galaxy VS. Ninja Turtles
DESCRIPTION:League Name: SUMMER LEAGUES 24/25 Thursday Mixed 5s\nGame Type:
  Regular\nGame Status: Complete\nHome Team: Guardians of the Galaxy\nAway 
 Team: Ninja Turtles\nHome Score: 6\nAway Score: 6
END:VEVENT
BEGIN:VEVENT
UID:16176247@ezleagues.ezfacility.com
DTSTAMP:20260420T045007Z
CREATED:20260420T045007Z
DTSTART:20250220T084500Z
DTEND:20250220T092500Z
LOCATION:004 La Bombonera
CONTACT:Jayden
SUMMARY:Ninja Turtles VS. Shakalaka Boom
DESCRIPTION:League Name: SUMMER LEAGUES 24/25 Thursday Mixed 5s\nGame Type:
  Postseason\nGame Status: Complete\nHome Team: Ninja Turtles\nAway Team: S
 hakalaka Boom\nHome Score: 16\nAway Score: 2
END:VEVENT
BEGIN:VEVENT
UID:16176251@ezleagues.ezfacility.com
DTSTAMP:20260420T045007Z
CREATED:20260420T045007Z
DTSTART:20250227T084500Z
DTEND:20250227T092500Z
LOCATION:004 La Bombonera
CONTACT:
SUMMARY:Ninja Turtles VS. Deuces
DESCRIPTION:League Name: SUMMER LEAGUES 24/25 Thursday Mixed 5s\nGame Type:
  Postseason\nGame Status: Complete\nHome Team: Ninja Turtles\nAway Team: D
 euces\nHome Score: 7\nAway Score: 6
END:VEVENT
END:VCALENDAR
