BEGIN:VCALENDAR
VERSION:2.0
PRODID:-//EZFacility.com, Inc.//EZL 2.5.5.28621
BEGIN:VEVENT
UID:16026057@ezleagues.ezfacility.com
DTSTAMP:20260424T084155Z
CREATED:20260424T084155Z
DTSTART:20241110T150000Z
DTEND:20241110T155000Z
LOCATION:Full Indoor Field
CONTACT:
SUMMARY:SWM '15 Grey (Bradford) VS. SWM '15 White (Lattak)
DESCRIPTION:League Name: 2024-25 Indoor Session One-u12 Mittelliga\nGame Ty
 pe: Regular\nGame Status: Complete\nHome Team: SWM '15 Grey (Bradford)\nAw
 ay Team: SWM '15 White (Lattak)\nHome Score: 0\nAway Score: 10
END:VEVENT
BEGIN:VEVENT
UID:16026060@ezleagues.ezfacility.com
DTSTAMP:20260424T084155Z
CREATED:20260424T084155Z
DTSTART:20241117T155000Z
DTEND:20241117T164000Z
LOCATION:Full Indoor Field
CONTACT:
SUMMARY:SWM '14b White (Crow) VS. SWM '15 Grey (Bradford)
DESCRIPTION:League Name: 2024-25 Indoor Session One-u12 Mittelliga\nGame Ty
 pe: Regular\nGame Status: Complete\nHome Team: SWM '14b White (Crow)\nAway
  Team: SWM '15 Grey (Bradford)\nHome Score: 10\nAway Score: 1
END:VEVENT
BEGIN:VEVENT
UID:16026066@ezleagues.ezfacility.com
DTSTAMP:20260424T084155Z
CREATED:20260424T084155Z
DTSTART:20241124T164000Z
DTEND:20241124T173000Z
LOCATION:Full Indoor Field
CONTACT:
SUMMARY:SWM '15 Grey (Bradford) VS. SWM '14g White (Harris)
DESCRIPTION:League Name: 2024-25 Indoor Session One-u12 Mittelliga\nGame Ty
 pe: Regular\nGame Status: Complete\nHome Team: SWM '15 Grey (Bradford)\nAw
 ay Team: SWM '14g White (Harris)\nHome Score: 7\nAway Score: 1
END:VEVENT
BEGIN:VEVENT
UID:16026071@ezleagues.ezfacility.com
DTSTAMP:20260424T084155Z
CREATED:20260424T084155Z
DTSTART:20241201T164000Z
DTEND:20241201T173000Z
LOCATION:Full Indoor Field
CONTACT:
SUMMARY:SWM '15 Grey (Bradford) VS. Game of Throw-Ins (Papanek)
DESCRIPTION:League Name: 2024-25 Indoor Session One-u12 Mittelliga\nGame Ty
 pe: Regular\nGame Status: Complete\nHome Team: SWM '15 Grey (Bradford)\nAw
 ay Team: Game of Throw-Ins (Papanek)\nHome Score: 4\nAway Score: 4
END:VEVENT
BEGIN:VEVENT
UID:16026075@ezleagues.ezfacility.com
DTSTAMP:20260424T084155Z
CREATED:20260424T084155Z
DTSTART:20241208T155000Z
DTEND:20241208T164000Z
LOCATION:Full Indoor Field
CONTACT:
SUMMARY:Galaxy (Fitzpatrick) VS. SWM '15 Grey (Bradford)
DESCRIPTION:League Name: 2024-25 Indoor Session One-u12 Mittelliga\nGame Ty
 pe: Regular\nGame Status: Complete\nHome Team: Galaxy (Fitzpatrick)\nAway 
 Team: SWM '15 Grey (Bradford)\nHome Score: 5\nAway Score: 2
END:VEVENT
BEGIN:VEVENT
UID:16026082@ezleagues.ezfacility.com
DTSTAMP:20260424T084155Z
CREATED:20260424T084155Z
DTSTART:20241222T164000Z
DTEND:20241222T173000Z
LOCATION:Full Indoor Field
CONTACT:
SUMMARY:Sechzehn Blau (Allmond) VS. SWM '15 Grey (Bradford)
DESCRIPTION:League Name: 2024-25 Indoor Session One-u12 Mittelliga\nGame Ty
 pe: Regular\nGame Status: Complete\nHome Team: Sechzehn Blau (Allmond)\nAw
 ay Team: SWM '15 Grey (Bradford)\nHome Score: 2\nAway Score: 8
END:VEVENT
BEGIN:VEVENT
UID:16026088@ezleagues.ezfacility.com
DTSTAMP:20260424T084155Z
CREATED:20260424T084155Z
DTSTART:20250112T164000Z
DTEND:20250112T173000Z
LOCATION:Full Indoor Field
CONTACT:
SUMMARY:SWM '15 Grey (Bradford) VS. Galaxy (Fitzpatrick)
DESCRIPTION:League Name: 2024-25 Indoor Session One-u12 Mittelliga\nGame Ty
 pe: Regular\nGame Status: Complete\nHome Team: SWM '15 Grey (Bradford)\nAw
 ay Team: Galaxy (Fitzpatrick)\nHome Score: 3\nAway Score: 0
END:VEVENT
BEGIN:VEVENT
UID:16026114@ezleagues.ezfacility.com
DTSTAMP:20260424T084155Z
CREATED:20260424T084155Z
DTSTART:20250119T150000Z
DTEND:20250119T155000Z
LOCATION:Full Indoor Field
CONTACT:
SUMMARY:Game of Throw-Ins (Papanek) VS. SWM '15 Grey (Bradford)
DESCRIPTION:League Name: 2024-25 Indoor Session One-u12 Mittelliga\nGame Ty
 pe: Regular\nGame Status: Complete\nHome Team: Game of Throw-Ins (Papanek)
 \nAway Team: SWM '15 Grey (Bradford)\nHome Score: 5\nAway Score: 2
END:VEVENT
END:VCALENDAR
