BEGIN:VCALENDAR
VERSION:2.0
PRODID:-//EZFacility.com, Inc.//EZL 2.5.5.28621
BEGIN:VEVENT
UID:16036750@ezleagues.ezfacility.com
DTSTAMP:20260422T180531Z
CREATED:20260422T180531Z
DTSTART:20241208T000000Z
DTEND:20241208T004300Z
LOCATION:Field 1
CONTACT:
SUMMARY:Eclipse 2013/2012 Solar Darien Boys VS. Firebirds SC 2012B Red Pool
  2
DESCRIPTION:League Name: Travel Soccer-Boys-2012 B\nGame Type: Regular\nGam
 e Status: Complete\nHome Team: Eclipse 2013/2012 Solar Darien Boys\nAway T
 eam: Firebirds SC 2012B Red Pool 2\nHome Score: 9\nAway Score: 0
END:VEVENT
BEGIN:VEVENT
UID:16036770@ezleagues.ezfacility.com
DTSTAMP:20260422T180531Z
CREATED:20260422T180531Z
DTSTART:20241221T231500Z
DTEND:20241221T235800Z
LOCATION:Field 1
CONTACT:
SUMMARY:U13 Wizard Gold Boys VS. Eclipse 2013/2012 Solar Darien Boys
DESCRIPTION:League Name: Travel Soccer-Boys-2012 B\nGame Type: Regular\nGam
 e Status: Complete\nHome Team: U13 Wizard Gold Boys\nAway Team: Eclipse 20
 13/2012 Solar Darien Boys\nHome Score: 8\nAway Score: 3
END:VEVENT
BEGIN:VEVENT
UID:16036794@ezleagues.ezfacility.com
DTSTAMP:20260422T180531Z
CREATED:20260422T180531Z
DTSTART:20250126T004500Z
DTEND:20250126T012800Z
LOCATION:Field 1
CONTACT:
SUMMARY:Firebirds SC 2012B Red Pool 1 VS. Eclipse 2013/2012 Solar Darien Bo
 ys
DESCRIPTION:League Name: Travel Soccer-Boys-2012 B\nGame Type: Regular\nGam
 e Status: Complete\nHome Team: Firebirds SC 2012B Red Pool 1\nAway Team: E
 clipse 2013/2012 Solar Darien Boys\nHome Score: 3\nAway Score: 5
END:VEVENT
BEGIN:VEVENT
UID:16036800@ezleagues.ezfacility.com
DTSTAMP:20260422T180531Z
CREATED:20260422T180531Z
DTSTART:20250208T210000Z
DTEND:20250208T214300Z
LOCATION:Field 1
CONTACT:
SUMMARY:AYSO 300 UNITED 2012 Boys White VS. Eclipse 2013/2012 Solar Darien 
 Boys
DESCRIPTION:League Name: Travel Soccer-Boys-2012 B\nGame Type: Regular\nGam
 e Status: Complete\nHome Team: AYSO 300 UNITED 2012 Boys White\nAway Team:
  Eclipse 2013/2012 Solar Darien Boys\nHome Score: 3\nAway Score: 0
END:VEVENT
BEGIN:VEVENT
UID:16036754@ezleagues.ezfacility.com
DTSTAMP:20260422T180531Z
CREATED:20260422T180531Z
DTSTART:20250217T011500Z
DTEND:20250217T015800Z
LOCATION:Field 1
CONTACT:
SUMMARY:Eclipse 2013/2012 Solar Darien Boys VS. TESC 2012 Boys Premier
DESCRIPTION:League Name: Travel Soccer-Boys-2012 B\nGame Type: Regular\nGam
 e Status: Complete\nHome Team: Eclipse 2013/2012 Solar Darien Boys\nAway T
 eam: TESC 2012 Boys Premier\nHome Score: 12\nAway Score: 0
END:VEVENT
BEGIN:VEVENT
UID:16036774@ezleagues.ezfacility.com
DTSTAMP:20260422T180531Z
CREATED:20260422T180531Z
DTSTART:20250301T180000Z
DTEND:20250301T184300Z
LOCATION:Field 1
CONTACT:
SUMMARY:LTSC 2012B Select VS. Eclipse 2013/2012 Solar Darien Boys
DESCRIPTION:League Name: Travel Soccer-Boys-2012 B\nGame Type: Regular\nGam
 e Status: Complete\nHome Team: LTSC 2012B Select\nAway Team: Eclipse 2013/
 2012 Solar Darien Boys\nHome Score: 1\nAway Score: 8
END:VEVENT
BEGIN:VEVENT
UID:16036814@ezleagues.ezfacility.com
DTSTAMP:20260422T180531Z
CREATED:20260422T180531Z
DTSTART:20250308T184500Z
DTEND:20250308T192800Z
LOCATION:Field 1
CONTACT:
SUMMARY:Eclipse 2013/2012 Solar Darien Boys VS. ECSA 2012B Blue 
DESCRIPTION:League Name: Travel Soccer-Boys-2012 B\nGame Type: Regular\nGam
 e Status: Complete\nHome Team: Eclipse 2013/2012 Solar Darien Boys\nAway T
 eam: ECSA 2012B Blue \nHome Score: 3\nAway Score: 6
END:VEVENT
BEGIN:VEVENT
UID:16036756@ezleagues.ezfacility.com
DTSTAMP:20260422T180531Z
CREATED:20260422T180531Z
DTSTART:20250323T143000Z
DTEND:20250323T151300Z
LOCATION:Field 2
CONTACT:
SUMMARY:Eclipse 2013/2012 Solar Darien Boys VS. Midwest Elite Red 2012 Boys
  Blue
DESCRIPTION:League Name: Travel Soccer-Boys-2012 B\nGame Type: Regular\nGam
 e Status: Complete\nHome Team: Eclipse 2013/2012 Solar Darien Boys\nAway T
 eam: Midwest Elite Red 2012 Boys Blue\nHome Score: 2\nAway Score: 4
END:VEVENT
END:VCALENDAR
