BEGIN:VCALENDAR
VERSION:2.0
PRODID:-//EZFacility.com, Inc.//EZL 2.5.5.28621
BEGIN:VEVENT
UID:16036761@ezleagues.ezfacility.com
DTSTAMP:20260424T044415Z
CREATED:20260424T044415Z
DTSTART:20241214T214500Z
DTEND:20241214T222800Z
LOCATION:Field 1
CONTACT:
SUMMARY:ECSA 2012B Blue  VS. AYSO 300 UNITED 2012 Boys White
DESCRIPTION:League Name: Travel Soccer-Boys-2012 B\nGame Type: Regular\nGam
 e Status: Complete\nHome Team: ECSA 2012B Blue \nAway Team: AYSO 300 UNITE
 D 2012 Boys White\nHome Score: 4\nAway Score: 3
END:VEVENT
BEGIN:VEVENT
UID:16036771@ezleagues.ezfacility.com
DTSTAMP:20260424T044415Z
CREATED:20260424T044415Z
DTSTART:20241222T004500Z
DTEND:20241222T012800Z
LOCATION:Field 1
CONTACT:
SUMMARY:ECSA 2012B Blue  VS. LTSC 2012B Select
DESCRIPTION:League Name: Travel Soccer-Boys-2012 B\nGame Type: Regular\nGam
 e Status: Complete\nHome Team: ECSA 2012B Blue \nAway Team: LTSC 2012B Sel
 ect\nHome Score: 8\nAway Score: 1
END:VEVENT
BEGIN:VEVENT
UID:16036781@ezleagues.ezfacility.com
DTSTAMP:20260424T044415Z
CREATED:20260424T044415Z
DTSTART:20250112T000000Z
DTEND:20250112T004300Z
LOCATION:Field 1
CONTACT:
SUMMARY:Academia Atlas FC 2012 Black  VS. ECSA 2012B Blue 
DESCRIPTION:League Name: Travel Soccer-Boys-2012 B\nGame Type: Regular\nGam
 e Status: Complete\nHome Team: Academia Atlas FC 2012 Black \nAway Team: E
 CSA 2012B Blue \nHome Score: 0\nAway Score: 5
END:VEVENT
BEGIN:VEVENT
UID:16036787@ezleagues.ezfacility.com
DTSTAMP:20260424T044415Z
CREATED:20260424T044415Z
DTSTART:20250118T210000Z
DTEND:20250118T214300Z
LOCATION:Field 1
CONTACT:
SUMMARY:ECSA 2012B Blue  VS. Lisle FC B2012
DESCRIPTION:League Name: Travel Soccer-Boys-2012 B\nGame Type: Regular\nGam
 e Status: Complete\nHome Team: ECSA 2012B Blue \nAway Team: Lisle FC B2012
 \nHome Score: 9\nAway Score: 0
END:VEVENT
BEGIN:VEVENT
UID:16036788@ezleagues.ezfacility.com
DTSTAMP:20260424T044415Z
CREATED:20260424T044415Z
DTSTART:20250202T004500Z
DTEND:20250202T012800Z
LOCATION:Field 1
CONTACT:
SUMMARY:ECSA 2012B Blue  VS. TESC 2012 Boys Premier
DESCRIPTION:League Name: Travel Soccer-Boys-2012 B\nGame Type: Regular\nGam
 e Status: Complete\nHome Team: ECSA 2012B Blue \nAway Team: TESC 2012 Boys
  Premier\nHome Score: 8\nAway Score: 5
END:VEVENT
BEGIN:VEVENT
UID:16036806@ezleagues.ezfacility.com
DTSTAMP:20260424T044415Z
CREATED:20260424T044415Z
DTSTART:20250215T230000Z
DTEND:20250215T234300Z
LOCATION:Field 3
CONTACT:
SUMMARY:OPRF Alliance B2012 VS. ECSA 2012B Blue 
DESCRIPTION:League Name: Travel Soccer-Boys-2012 B\nGame Type: Regular\nGam
 e Status: Complete\nHome Team: OPRF Alliance B2012\nAway Team: ECSA 2012B 
 Blue \nHome Score: 0\nAway Score: 12
END:VEVENT
BEGIN:VEVENT
UID:16036812@ezleagues.ezfacility.com
DTSTAMP:20260424T044415Z
CREATED:20260424T044415Z
DTSTART:20250222T223000Z
DTEND:20250222T231300Z
LOCATION:Field 1
CONTACT:
SUMMARY:Firebirds SC 2012B Red Pool 2 VS. ECSA 2012B Blue 
DESCRIPTION:League Name: Travel Soccer-Boys-2012 B\nGame Type: Regular\nGam
 e Status: Complete\nHome Team: Firebirds SC 2012B Red Pool 2\nAway Team: E
 CSA 2012B Blue \nHome Score: 3\nAway Score: 10
END:VEVENT
BEGIN:VEVENT
UID:16036814@ezleagues.ezfacility.com
DTSTAMP:20260424T044415Z
CREATED:20260424T044415Z
DTSTART:20250308T184500Z
DTEND:20250308T192800Z
LOCATION:Field 1
CONTACT:
SUMMARY:Eclipse 2013/2012 Solar Darien Boys VS. ECSA 2012B Blue 
DESCRIPTION:League Name: Travel Soccer-Boys-2012 B\nGame Type: Regular\nGam
 e Status: Complete\nHome Team: Eclipse 2013/2012 Solar Darien Boys\nAway T
 eam: ECSA 2012B Blue \nHome Score: 3\nAway Score: 6
END:VEVENT
END:VCALENDAR
