BEGIN:VCALENDAR
VERSION:2.0
PRODID:-//EZFacility.com, Inc.//EZL 2.5.5.28621
BEGIN:VEVENT
UID:16036785@ezleagues.ezfacility.com
DTSTAMP:20260421T044810Z
CREATED:20260421T044810Z
DTSTART:20250112T013000Z
DTEND:20250112T021300Z
LOCATION:Field 1
CONTACT:
SUMMARY:AYSO 300 UNITED 2012 Boys White VS. Midwest Elite Red 2012 Boys Blu
 e
DESCRIPTION:League Name: Travel Soccer-Boys-2012 B\nGame Type: Regular\nGam
 e Status: Complete\nHome Team: AYSO 300 UNITED 2012 Boys White\nAway Team:
  Midwest Elite Red 2012 Boys Blue\nHome Score: 3\nAway Score: 6
END:VEVENT
BEGIN:VEVENT
UID:16036793@ezleagues.ezfacility.com
DTSTAMP:20260421T044810Z
CREATED:20260421T044810Z
DTSTART:20250125T231500Z
DTEND:20250125T235800Z
LOCATION:Field 1
CONTACT:
SUMMARY:Midwest Elite Red 2012 Boys Blue VS. Academia Atlas FC 2012 Black 
DESCRIPTION:League Name: Travel Soccer-Boys-2012 B\nGame Type: Regular\nGam
 e Status: Complete\nHome Team: Midwest Elite Red 2012 Boys Blue\nAway Team
 : Academia Atlas FC 2012 Black \nHome Score: 2\nAway Score: 2
END:VEVENT
BEGIN:VEVENT
UID:16036796@ezleagues.ezfacility.com
DTSTAMP:20260421T044810Z
CREATED:20260421T044810Z
DTSTART:20250209T011500Z
DTEND:20250209T015800Z
LOCATION:Field 3
CONTACT:
SUMMARY:Midway Soccer Club 2012 Boys VS. Midwest Elite Red 2012 Boys Blue
DESCRIPTION:League Name: Travel Soccer-Boys-2012 B\nGame Type: Regular\nGam
 e Status: Complete\nHome Team: Midway Soccer Club 2012 Boys\nAway Team: Mi
 dwest Elite Red 2012 Boys Blue\nHome Score: 4\nAway Score: 1
END:VEVENT
BEGIN:VEVENT
UID:16036773@ezleagues.ezfacility.com
DTSTAMP:20260421T044810Z
CREATED:20260421T044810Z
DTSTART:20250222T231500Z
DTEND:20250222T235800Z
LOCATION:Field 1
CONTACT:
SUMMARY:Midwest Elite Red 2012 Boys Blue VS. Chicago Blast 2012 gold boys
DESCRIPTION:League Name: Travel Soccer-Boys-2012 B\nGame Type: Regular\nGam
 e Status: Complete\nHome Team: Midwest Elite Red 2012 Boys Blue\nAway Team
 : Chicago Blast 2012 gold boys\nHome Score: 0\nAway Score: 3
END:VEVENT
BEGIN:VEVENT
UID:16036772@ezleagues.ezfacility.com
DTSTAMP:20260421T044810Z
CREATED:20260421T044810Z
DTSTART:20250309T004500Z
DTEND:20250309T012800Z
LOCATION:Field 1
CONTACT:
SUMMARY:Midwest Elite Red 2012 Boys Blue VS. Firebirds SC 2012B Red Pool 2
DESCRIPTION:League Name: Travel Soccer-Boys-2012 B\nGame Type: Regular\nGam
 e Status: Complete\nHome Team: Midwest Elite Red 2012 Boys Blue\nAway Team
 : Firebirds SC 2012B Red Pool 2\nHome Score: 3\nAway Score: 1
END:VEVENT
BEGIN:VEVENT
UID:16036779@ezleagues.ezfacility.com
DTSTAMP:20260421T044810Z
CREATED:20260421T044810Z
DTSTART:20250315T230000Z
DTEND:20250315T234300Z
LOCATION:Field 1
CONTACT:
SUMMARY:Midwest Elite Red 2012 Boys Blue VS. Lisle FC B2012
DESCRIPTION:League Name: Travel Soccer-Boys-2012 B\nGame Type: Regular\nGam
 e Status: Complete\nHome Team: Midwest Elite Red 2012 Boys Blue\nAway Team
 : Lisle FC B2012\nHome Score: 7\nAway Score: 0
END:VEVENT
BEGIN:VEVENT
UID:16036826@ezleagues.ezfacility.com
DTSTAMP:20260421T044810Z
CREATED:20260421T044810Z
DTSTART:20250323T003000Z
DTEND:20250323T011300Z
LOCATION:Field 1
CONTACT:
SUMMARY:Firebirds SC 2012B Red Pool 1 VS. Midwest Elite Red 2012 Boys Blue
DESCRIPTION:League Name: Travel Soccer-Boys-2012 B\nGame Type: Regular\nGam
 e Status: Complete\nHome Team: Firebirds SC 2012B Red Pool 1\nAway Team: M
 idwest Elite Red 2012 Boys Blue\nHome Score: 1\nAway Score: 4
END:VEVENT
BEGIN:VEVENT
UID:16036756@ezleagues.ezfacility.com
DTSTAMP:20260421T044810Z
CREATED:20260421T044810Z
DTSTART:20250323T143000Z
DTEND:20250323T151300Z
LOCATION:Field 2
CONTACT:
SUMMARY:Eclipse 2013/2012 Solar Darien Boys VS. Midwest Elite Red 2012 Boys
  Blue
DESCRIPTION:League Name: Travel Soccer-Boys-2012 B\nGame Type: Regular\nGam
 e Status: Complete\nHome Team: Eclipse 2013/2012 Solar Darien Boys\nAway T
 eam: Midwest Elite Red 2012 Boys Blue\nHome Score: 2\nAway Score: 4
END:VEVENT
END:VCALENDAR
