BEGIN:VCALENDAR
VERSION:2.0
PRODID:-//EZFacility.com, Inc.//EZL 2.5.5.28621
BEGIN:VEVENT
UID:16043706@ezleagues.ezfacility.com
DTSTAMP:20260425T125926Z
CREATED:20260425T125926Z
DTSTART:20241214T231500Z
DTEND:20241214T235800Z
LOCATION:Field 1
CONTACT:
SUMMARY:Academia Atlas 2013/14 Girls  VS. WC Lions G2013
DESCRIPTION:League Name: Travel Soccer-Girls-2013 B\nGame Type: Regular\nGa
 me Status: Complete\nHome Team: Academia Atlas 2013/14 Girls \nAway Team: 
 WC Lions G2013\nHome Score: 2\nAway Score: 1
END:VEVENT
BEGIN:VEVENT
UID:16043715@ezleagues.ezfacility.com
DTSTAMP:20260425T125926Z
CREATED:20260425T125926Z
DTSTART:20250112T140000Z
DTEND:20250112T144300Z
LOCATION:Field 2
CONTACT:
SUMMARY:Academia Atlas 2013/14 Girls  VS. Firebirds SC 2013/14G Red Pool 1 
 and 2
DESCRIPTION:League Name: Travel Soccer-Girls-2013 B\nGame Type: Regular\nGa
 me Status: Complete\nHome Team: Academia Atlas 2013/14 Girls \nAway Team: 
 Firebirds SC 2013/14G Red Pool 1 and 2\nHome Score: 2\nAway Score: 3
END:VEVENT
BEGIN:VEVENT
UID:16043721@ezleagues.ezfacility.com
DTSTAMP:20260425T125926Z
CREATED:20260425T125926Z
DTSTART:20250201T221500Z
DTEND:20250201T225800Z
LOCATION:Field 3
CONTACT:
SUMMARY:TESC 2013 Girls Select VS. Academia Atlas 2013/14 Girls 
DESCRIPTION:League Name: Travel Soccer-Girls-2013 B\nGame Type: Regular\nGa
 me Status: Complete\nHome Team: TESC 2013 Girls Select\nAway Team: Academi
 a Atlas 2013/14 Girls \nHome Score: 0\nAway Score: 0
END:VEVENT
BEGIN:VEVENT
UID:16043724@ezleagues.ezfacility.com
DTSTAMP:20260425T125926Z
CREATED:20260425T125926Z
DTSTART:20250208T221500Z
DTEND:20250208T225800Z
LOCATION:Field 3
CONTACT:
SUMMARY:Academia Atlas 2013/14 Girls  VS. Vortex 2013 
DESCRIPTION:League Name: Travel Soccer-Girls-2013 B\nGame Type: Regular\nGa
 me Status: Complete\nHome Team: Academia Atlas 2013/14 Girls \nAway Team: 
 Vortex 2013 \nHome Score: 5\nAway Score: 2
END:VEVENT
BEGIN:VEVENT
UID:16043725@ezleagues.ezfacility.com
DTSTAMP:20260425T125926Z
CREATED:20260425T125926Z
DTSTART:20250216T141500Z
DTEND:20250216T145800Z
LOCATION:Field 3
CONTACT:
SUMMARY:Sting FC 2013/14G VS. Academia Atlas 2013/14 Girls 
DESCRIPTION:League Name: Travel Soccer-Girls-2013 B\nGame Type: Regular\nGa
 me Status: Complete\nHome Team: Sting FC 2013/14G\nAway Team: Academia Atl
 as 2013/14 Girls \nHome Score: 3\nAway Score: 3
END:VEVENT
BEGIN:VEVENT
UID:16043750@ezleagues.ezfacility.com
DTSTAMP:20260425T125926Z
CREATED:20260425T125926Z
DTSTART:20250223T130000Z
DTEND:20250223T134300Z
LOCATION:Field 3
CONTACT:
SUMMARY:OPRF Alliance G2013 B VS. Academia Atlas 2013/14 Girls 
DESCRIPTION:League Name: Travel Soccer-Girls-2013 B\nGame Type: Regular\nGa
 me Status: Complete\nHome Team: OPRF Alliance G2013 B\nAway Team: Academia
  Atlas 2013/14 Girls \nHome Score: 0\nAway Score: 8
END:VEVENT
BEGIN:VEVENT
UID:16043752@ezleagues.ezfacility.com
DTSTAMP:20260425T125926Z
CREATED:20260425T125926Z
DTSTART:20250302T134500Z
DTEND:20250302T142800Z
LOCATION:Field 3
CONTACT:
SUMMARY:Academia Atlas 2013/14 Girls  VS. OPRF Alliance G2013 B
DESCRIPTION:League Name: Travel Soccer-Girls-2013 B\nGame Type: Regular\nGa
 me Status: Complete\nHome Team: Academia Atlas 2013/14 Girls \nAway Team: 
 OPRF Alliance G2013 B\nHome Score: 5\nAway Score: 0
END:VEVENT
BEGIN:VEVENT
UID:16043755@ezleagues.ezfacility.com
DTSTAMP:20260425T125926Z
CREATED:20260425T125926Z
DTSTART:20250309T160000Z
DTEND:20250309T164300Z
LOCATION:Field 1
CONTACT:
SUMMARY:Academia Atlas 2013/14 Girls  VS. LTSC 2013G Select Blue
DESCRIPTION:League Name: Travel Soccer-Girls-2013 B\nGame Type: Regular\nGa
 me Status: Complete\nHome Team: Academia Atlas 2013/14 Girls \nAway Team: 
 LTSC 2013G Select Blue\nHome Score: 4\nAway Score: 0
END:VEVENT
BEGIN:VEVENT
UID:16043757@ezleagues.ezfacility.com
DTSTAMP:20260425T125926Z
CREATED:20260425T125926Z
DTSTART:20250316T131500Z
DTEND:20250316T135800Z
LOCATION:Field 3
CONTACT:
SUMMARY:ECSA 2013G White VS. Academia Atlas 2013/14 Girls 
DESCRIPTION:League Name: Travel Soccer-Girls-2013 B\nGame Type: Regular\nGa
 me Status: Complete\nHome Team: ECSA 2013G White\nAway Team: Academia Atla
 s 2013/14 Girls \nHome Score: 1\nAway Score: 7
END:VEVENT
BEGIN:VEVENT
UID:16043781@ezleagues.ezfacility.com
DTSTAMP:20260425T125926Z
CREATED:20260425T125926Z
DTSTART:20250323T130000Z
DTEND:20250323T134300Z
LOCATION:Field 2
CONTACT:
SUMMARY:Academia Atlas 2013/14 Girls  VS. WC Lions G2013
DESCRIPTION:League Name: Travel Soccer-Girls-2013 B\nGame Type: Regular\nGa
 me Status: Complete\nHome Team: Academia Atlas 2013/14 Girls \nAway Team: 
 WC Lions G2013\nHome Score: 0\nAway Score: 2
END:VEVENT
END:VCALENDAR
