BEGIN:VCALENDAR
VERSION:2.0
PRODID:-//EZFacility.com, Inc.//EZL 2.5.5.28621
BEGIN:VEVENT
UID:16043709@ezleagues.ezfacility.com
DTSTAMP:20260425T163727Z
CREATED:20260425T163727Z
DTSTART:20241221T153000Z
DTEND:20241221T161300Z
LOCATION:Field 2
CONTACT:
SUMMARY:WC Lions G2013 VS. Firebirds SC 2013/14G Red Pool 1 and 2
DESCRIPTION:League Name: Travel Soccer-Girls-2013 B\nGame Type: Regular\nGa
 me Status: Complete\nHome Team: WC Lions G2013\nAway Team: Firebirds SC 20
 13/14G Red Pool 1 and 2\nHome Score: 3\nAway Score: 1
END:VEVENT
BEGIN:VEVENT
UID:16043715@ezleagues.ezfacility.com
DTSTAMP:20260425T163727Z
CREATED:20260425T163727Z
DTSTART:20250112T140000Z
DTEND:20250112T144300Z
LOCATION:Field 2
CONTACT:
SUMMARY:Academia Atlas 2013/14 Girls  VS. Firebirds SC 2013/14G Red Pool 1 
 and 2
DESCRIPTION:League Name: Travel Soccer-Girls-2013 B\nGame Type: Regular\nGa
 me Status: Complete\nHome Team: Academia Atlas 2013/14 Girls \nAway Team: 
 Firebirds SC 2013/14G Red Pool 1 and 2\nHome Score: 2\nAway Score: 3
END:VEVENT
BEGIN:VEVENT
UID:16043704@ezleagues.ezfacility.com
DTSTAMP:20260425T163727Z
CREATED:20260425T163727Z
DTSTART:20250118T010000Z
DTEND:20250118T014300Z
LOCATION:Field 2
CONTACT:
SUMMARY:TESC 2013 Girls Select VS. Firebirds SC 2013/14G Red Pool 1 and 2
DESCRIPTION:League Name: Travel Soccer-Girls-2013 B\nGame Type: Regular\nGa
 me Status: Complete\nHome Team: TESC 2013 Girls Select\nAway Team: Firebir
 ds SC 2013/14G Red Pool 1 and 2\nHome Score: 3\nAway Score: 1
END:VEVENT
BEGIN:VEVENT
UID:16043718@ezleagues.ezfacility.com
DTSTAMP:20260425T163727Z
CREATED:20260425T163727Z
DTSTART:20250125T010000Z
DTEND:20250125T014300Z
LOCATION:Field 3
CONTACT:
SUMMARY:Firebirds SC 2013/14G Red Pool 1 and 2 VS. ECSA 2013G White
DESCRIPTION:League Name: Travel Soccer-Girls-2013 B\nGame Type: Regular\nGa
 me Status: Complete\nHome Team: Firebirds SC 2013/14G Red Pool 1 and 2\nAw
 ay Team: ECSA 2013G White\nHome Score: 4\nAway Score: 4
END:VEVENT
BEGIN:VEVENT
UID:16043722@ezleagues.ezfacility.com
DTSTAMP:20260425T163727Z
CREATED:20260425T163727Z
DTSTART:20250202T134500Z
DTEND:20250202T142800Z
LOCATION:Field 3
CONTACT:
SUMMARY:Firebirds SC 2013/14G Red Pool 1 and 2 VS. Sting FC 2013/14G
DESCRIPTION:League Name: Travel Soccer-Girls-2013 B\nGame Type: Regular\nGa
 me Status: Complete\nHome Team: Firebirds SC 2013/14G Red Pool 1 and 2\nAw
 ay Team: Sting FC 2013/14G\nHome Score: 4\nAway Score: 2
END:VEVENT
BEGIN:VEVENT
UID:16043751@ezleagues.ezfacility.com
DTSTAMP:20260425T163727Z
CREATED:20260425T163727Z
DTSTART:20250223T170000Z
DTEND:20250223T174300Z
LOCATION:Field 1
CONTACT:
SUMMARY:Firebirds SC 2013/14G Red Pool 1 and 2 VS. Vortex 2013 
DESCRIPTION:League Name: Travel Soccer-Girls-2013 B\nGame Type: Regular\nGa
 me Status: Complete\nHome Team: Firebirds SC 2013/14G Red Pool 1 and 2\nAw
 ay Team: Vortex 2013 \nHome Score: 1\nAway Score: 4
END:VEVENT
BEGIN:VEVENT
UID:16043753@ezleagues.ezfacility.com
DTSTAMP:20260425T163727Z
CREATED:20260425T163727Z
DTSTART:20250301T184500Z
DTEND:20250301T192800Z
LOCATION:Field 1
CONTACT:
SUMMARY:LTSC 2013G Select Blue VS. Firebirds SC 2013/14G Red Pool 1 and 2
DESCRIPTION:League Name: Travel Soccer-Girls-2013 B\nGame Type: Regular\nGa
 me Status: Complete\nHome Team: LTSC 2013G Select Blue\nAway Team: Firebir
 ds SC 2013/14G Red Pool 1 and 2\nHome Score: 3\nAway Score: 0
END:VEVENT
BEGIN:VEVENT
UID:16043758@ezleagues.ezfacility.com
DTSTAMP:20260425T163727Z
CREATED:20260425T163727Z
DTSTART:20250316T163000Z
DTEND:20250316T171300Z
LOCATION:Field 1
CONTACT:
SUMMARY:Firebirds SC 2013/14G Red Pool 1 and 2 VS. OPRF Alliance G2013 B
DESCRIPTION:League Name: Travel Soccer-Girls-2013 B\nGame Type: Regular\nGa
 me Status: Complete\nHome Team: Firebirds SC 2013/14G Red Pool 1 and 2\nAw
 ay Team: OPRF Alliance G2013 B\nHome Score: 5\nAway Score: 2
END:VEVENT
END:VCALENDAR
