BEGIN:VCALENDAR
VERSION:2.0
PRODID:-//EZFacility.com, Inc.//EZL 2.5.5.28621
BEGIN:VEVENT
UID:16042353@ezleagues.ezfacility.com
DTSTAMP:20260424T044306Z
CREATED:20260424T044306Z
DTSTART:20241207T014500Z
DTEND:20241207T022800Z
LOCATION:Field 3
CONTACT:
SUMMARY:GBS Raiders 2006-2007 VS. Chicago Inter 2007 Girls
DESCRIPTION:League Name: Travel Soccer-Girls-2008-2006 HS Girls\nGame Type:
  Regular\nGame Status: Complete\nHome Team: GBS Raiders 2006-2007\nAway Te
 am: Chicago Inter 2007 Girls\nHome Score: 0\nAway Score: 2
END:VEVENT
BEGIN:VEVENT
UID:16042355@ezleagues.ezfacility.com
DTSTAMP:20260424T044306Z
CREATED:20260424T044306Z
DTSTART:20241215T024500Z
DTEND:20241215T032800Z
LOCATION:Field 2
CONTACT:
SUMMARY:CHICAGO MX FC 2007 Girls VS. GBS Raiders 2006-2007
DESCRIPTION:League Name: Travel Soccer-Girls-2008-2006 HS Girls\nGame Type:
  Regular\nGame Status: Complete\nHome Team: CHICAGO MX FC 2007 Girls\nAway
  Team: GBS Raiders 2006-2007\nHome Score: 0\nAway Score: 0
END:VEVENT
BEGIN:VEVENT
UID:16042418@ezleagues.ezfacility.com
DTSTAMP:20260424T044306Z
CREATED:20260424T044306Z
DTSTART:20241221T023000Z
DTEND:20241221T031300Z
LOCATION:Field 2
CONTACT:
SUMMARY:GBS Raiders 2006-2007 VS. Matildas FC 2008
DESCRIPTION:League Name: Travel Soccer-Girls-2008-2006 HS Girls\nGame Type:
  Regular\nGame Status: Complete\nHome Team: GBS Raiders 2006-2007\nAway Te
 am: Matildas FC 2008\nHome Score: 6\nAway Score: 1
END:VEVENT
BEGIN:VEVENT
UID:16042424@ezleagues.ezfacility.com
DTSTAMP:20260424T044306Z
CREATED:20260424T044306Z
DTSTART:20250104T011500Z
DTEND:20250104T015800Z
LOCATION:Field 2
CONTACT:
SUMMARY:GBS Raiders 2006-2007 VS. OPRF Alliance G2007
DESCRIPTION:League Name: Travel Soccer-Girls-2008-2006 HS Girls\nGame Type:
  Regular\nGame Status: Complete\nHome Team: GBS Raiders 2006-2007\nAway Te
 am: OPRF Alliance G2007\nHome Score: 3\nAway Score: 6
END:VEVENT
BEGIN:VEVENT
UID:16042364@ezleagues.ezfacility.com
DTSTAMP:20260424T044306Z
CREATED:20260424T044306Z
DTSTART:20250111T023000Z
DTEND:20250111T031300Z
LOCATION:Field 3
CONTACT:
SUMMARY:GBS Raiders 2006-2007 VS. Aurora Eagles 2008/09 Girls
DESCRIPTION:League Name: Travel Soccer-Girls-2008-2006 HS Girls\nGame Type:
  Regular\nGame Status: Complete\nHome Team: GBS Raiders 2006-2007\nAway Te
 am: Aurora Eagles 2008/09 Girls\nHome Score: 3\nAway Score: 3
END:VEVENT
BEGIN:VEVENT
UID:16042368@ezleagues.ezfacility.com
DTSTAMP:20260424T044306Z
CREATED:20260424T044306Z
DTSTART:20250119T024500Z
DTEND:20250119T032800Z
LOCATION:Field 3
CONTACT:
SUMMARY:Lisle FC HS Girls VS. GBS Raiders 2006-2007
DESCRIPTION:League Name: Travel Soccer-Girls-2008-2006 HS Girls\nGame Type:
  Regular\nGame Status: Complete\nHome Team: Lisle FC HS Girls\nAway Team: 
 GBS Raiders 2006-2007\nHome Score: 0\nAway Score: 4
END:VEVENT
BEGIN:VEVENT
UID:16042372@ezleagues.ezfacility.com
DTSTAMP:20260424T044306Z
CREATED:20260424T044306Z
DTSTART:20250126T024500Z
DTEND:20250126T032800Z
LOCATION:Field 2
CONTACT:
SUMMARY:GBS Raiders 2006-2007 VS. CHICAGO MX FC 2007 Girls
DESCRIPTION:League Name: Travel Soccer-Girls-2008-2006 HS Girls\nGame Type:
  Regular\nGame Status: Complete\nHome Team: GBS Raiders 2006-2007\nAway Te
 am: CHICAGO MX FC 2007 Girls\nHome Score: 2\nAway Score: 0
END:VEVENT
BEGIN:VEVENT
UID:16042442@ezleagues.ezfacility.com
DTSTAMP:20260424T044306Z
CREATED:20260424T044306Z
DTSTART:20250209T230000Z
DTEND:20250209T234300Z
LOCATION:Field 2
CONTACT:
SUMMARY:GBS Raiders 2006-2007 VS. Aurora Eagles 2006/07 Girls
DESCRIPTION:League Name: Travel Soccer-Girls-2008-2006 HS Girls\nGame Type:
  Regular\nGame Status: Complete\nHome Team: GBS Raiders 2006-2007\nAway Te
 am: Aurora Eagles 2006/07 Girls\nHome Score: 0\nAway Score: 7
END:VEVENT
BEGIN:VEVENT
UID:16042432@ezleagues.ezfacility.com
DTSTAMP:20260424T044306Z
CREATED:20260424T044306Z
DTSTART:20250216T021500Z
DTEND:20250216T025800Z
LOCATION:Field 1
CONTACT:
SUMMARY:Chicago Inter 2007 Girls VS. GBS Raiders 2006-2007
DESCRIPTION:League Name: Travel Soccer-Girls-2008-2006 HS Girls\nGame Type:
  Regular\nGame Status: Complete\nHome Team: Chicago Inter 2007 Girls\nAway
  Team: GBS Raiders 2006-2007\nHome Score: 1\nAway Score: 6
END:VEVENT
BEGIN:VEVENT
UID:16042445@ezleagues.ezfacility.com
DTSTAMP:20260424T044306Z
CREATED:20260424T044306Z
DTSTART:20250223T020000Z
DTEND:20250223T024300Z
LOCATION:Field 2
CONTACT:
SUMMARY:OPRF Alliance G2008 VS. GBS Raiders 2006-2007
DESCRIPTION:League Name: Travel Soccer-Girls-2008-2006 HS Girls\nGame Type:
  Regular\nGame Status: Complete\nHome Team: OPRF Alliance G2008\nAway Team
 : GBS Raiders 2006-2007\nHome Score: 1\nAway Score: 3
END:VEVENT
END:VCALENDAR
