BEGIN:VCALENDAR
VERSION:2.0
PRODID:-//EZFacility.com, Inc.//EZL 2.5.5.28621
BEGIN:VEVENT
UID:16042351@ezleagues.ezfacility.com
DTSTAMP:20260424T114938Z
CREATED:20260424T114938Z
DTSTART:20241208T020000Z
DTEND:20241208T024300Z
LOCATION:Field 2
CONTACT:
SUMMARY:CHICAGO MX FC 2007 Girls VS. Matildas FC 2008
DESCRIPTION:League Name: Travel Soccer-Girls-2008-2006 HS Girls\nGame Type:
  Regular\nGame Status: Complete\nHome Team: CHICAGO MX FC 2007 Girls\nAway
  Team: Matildas FC 2008\nHome Score: 2\nAway Score: 4
END:VEVENT
BEGIN:VEVENT
UID:16042354@ezleagues.ezfacility.com
DTSTAMP:20260424T114938Z
CREATED:20260424T114938Z
DTSTART:20241214T014500Z
DTEND:20241214T022800Z
LOCATION:Field 2
CONTACT:
SUMMARY:Aurora Eagles 2008/09 Girls VS. Matildas FC 2008
DESCRIPTION:League Name: Travel Soccer-Girls-2008-2006 HS Girls\nGame Type:
  Regular\nGame Status: Complete\nHome Team: Aurora Eagles 2008/09 Girls\nA
 way Team: Matildas FC 2008\nHome Score: 1\nAway Score: 8
END:VEVENT
BEGIN:VEVENT
UID:16042418@ezleagues.ezfacility.com
DTSTAMP:20260424T114938Z
CREATED:20260424T114938Z
DTSTART:20241221T023000Z
DTEND:20241221T031300Z
LOCATION:Field 2
CONTACT:
SUMMARY:GBS Raiders 2006-2007 VS. Matildas FC 2008
DESCRIPTION:League Name: Travel Soccer-Girls-2008-2006 HS Girls\nGame Type:
  Regular\nGame Status: Complete\nHome Team: GBS Raiders 2006-2007\nAway Te
 am: Matildas FC 2008\nHome Score: 6\nAway Score: 1
END:VEVENT
BEGIN:VEVENT
UID:16042437@ezleagues.ezfacility.com
DTSTAMP:20260424T114938Z
CREATED:20260424T114938Z
DTSTART:20250105T030000Z
DTEND:20250105T034300Z
LOCATION:Field 1
CONTACT:
SUMMARY:Matildas FC 2008 VS. Chicago Inter 2007 Girls
DESCRIPTION:League Name: Travel Soccer-Girls-2008-2006 HS Girls\nGame Type:
  Regular\nGame Status: Complete\nHome Team: Matildas FC 2008\nAway Team: C
 hicago Inter 2007 Girls\nHome Score: 4\nAway Score: 1
END:VEVENT
BEGIN:VEVENT
UID:16042438@ezleagues.ezfacility.com
DTSTAMP:20260424T114938Z
CREATED:20260424T114938Z
DTSTART:20250112T011500Z
DTEND:20250112T015800Z
LOCATION:Field 3
CONTACT:
SUMMARY:Matildas FC 2008 VS. Aurora Eagles 2006/07 Girls
DESCRIPTION:League Name: Travel Soccer-Girls-2008-2006 HS Girls\nGame Type:
  Regular\nGame Status: Complete\nHome Team: Matildas FC 2008\nAway Team: A
 urora Eagles 2006/07 Girls\nHome Score: 0\nAway Score: 5
END:VEVENT
BEGIN:VEVENT
UID:16042439@ezleagues.ezfacility.com
DTSTAMP:20260424T114938Z
CREATED:20260424T114938Z
DTSTART:20250119T011500Z
DTEND:20250119T015800Z
LOCATION:Field 2
CONTACT:
SUMMARY:Matildas FC 2008 VS. OPRF Alliance G2008
DESCRIPTION:League Name: Travel Soccer-Girls-2008-2006 HS Girls\nGame Type:
  Regular\nGame Status: Complete\nHome Team: Matildas FC 2008\nAway Team: O
 PRF Alliance G2008\nHome Score: 3\nAway Score: 1
END:VEVENT
BEGIN:VEVENT
UID:16042373@ezleagues.ezfacility.com
DTSTAMP:20260424T114938Z
CREATED:20260424T114938Z
DTSTART:20250202T024500Z
DTEND:20250202T032800Z
LOCATION:Field 2
CONTACT:
SUMMARY:Matildas FC 2008 VS. Lisle FC HS Girls
DESCRIPTION:League Name: Travel Soccer-Girls-2008-2006 HS Girls\nGame Type:
  Regular\nGame Status: Complete\nHome Team: Matildas FC 2008\nAway Team: L
 isle FC HS Girls\nHome Score: 2\nAway Score: 1
END:VEVENT
BEGIN:VEVENT
UID:16042428@ezleagues.ezfacility.com
DTSTAMP:20260424T114938Z
CREATED:20260424T114938Z
DTSTART:20250209T024500Z
DTEND:20250209T032800Z
LOCATION:Field 2
CONTACT:
SUMMARY:Matildas FC 2008 VS. Firebirds SC 2006/07G Red
DESCRIPTION:League Name: Travel Soccer-Girls-2008-2006 HS Girls\nGame Type:
  Regular\nGame Status: Complete\nHome Team: Matildas FC 2008\nAway Team: F
 irebirds SC 2006/07G Red\nHome Score: 2\nAway Score: 0
END:VEVENT
BEGIN:VEVENT
UID:16042395@ezleagues.ezfacility.com
DTSTAMP:20260424T114938Z
CREATED:20260424T114938Z
DTSTART:20250216T024500Z
DTEND:20250216T032800Z
LOCATION:Field 3
CONTACT:
SUMMARY:OPRF Alliance G2007 VS. Matildas FC 2008
DESCRIPTION:League Name: Travel Soccer-Girls-2008-2006 HS Girls\nGame Type:
  Regular\nGame Status: Complete\nHome Team: OPRF Alliance G2007\nAway Team
 : Matildas FC 2008\nHome Score: 0\nAway Score: 3
END:VEVENT
BEGIN:VEVENT
UID:16042434@ezleagues.ezfacility.com
DTSTAMP:20260424T114938Z
CREATED:20260424T114938Z
DTSTART:20250223T024500Z
DTEND:20250223T032800Z
LOCATION:Field 2
CONTACT:
SUMMARY:Matildas FC 2008 VS. CHICAGO MX FC 2007 Girls
DESCRIPTION:League Name: Travel Soccer-Girls-2008-2006 HS Girls\nGame Type:
  Regular\nGame Status: Complete\nHome Team: Matildas FC 2008\nAway Team: C
 HICAGO MX FC 2007 Girls\nHome Score: 3\nAway Score: 3
END:VEVENT
END:VCALENDAR
