BEGIN:VCALENDAR
VERSION:2.0
PRODID:-//EZFacility.com, Inc.//EZL 2.5.5.28621
BEGIN:VEVENT
UID:16032340@ezleagues.ezfacility.com
DTSTAMP:20260426T033747Z
CREATED:20260426T033747Z
DTSTART:20241108T071500Z
DTEND:20241108T075500Z
LOCATION:008 Ibrox
CONTACT:
SUMMARY:Soccer Superstars VS. We pay the Ref
DESCRIPTION:League Name: SUMMER LEAGUES 24/25 Friday Under 11s\nGame Type: 
 Regular\nGame Status: Complete\nHome Team: Soccer Superstars\nAway Team: W
 e pay the Ref\nHome Score: 2\nAway Score: 6
END:VEVENT
BEGIN:VEVENT
UID:16032346@ezleagues.ezfacility.com
DTSTAMP:20260426T033747Z
CREATED:20260426T033747Z
DTSTART:20241115T084500Z
DTEND:20241115T092500Z
LOCATION:004 La Bombonera
CONTACT:
SUMMARY:City VS. We pay the Ref
DESCRIPTION:League Name: SUMMER LEAGUES 24/25 Friday Under 11s\nGame Type: 
 Regular\nGame Status: Complete\nHome Team: City\nAway Team: We pay the Ref
 \nHome Score: 8\nAway Score: 7
END:VEVENT
BEGIN:VEVENT
UID:16032352@ezleagues.ezfacility.com
DTSTAMP:20260426T033747Z
CREATED:20260426T033747Z
DTSTART:20241122T080000Z
DTEND:20241122T084000Z
LOCATION:006 Estadio do Dragao
CONTACT:Oliver 
SUMMARY:Bayer Leverkusen VS. We pay the Ref
DESCRIPTION:League Name: SUMMER LEAGUES 24/25 Friday Under 11s\nGame Type: 
 Regular\nGame Status: Complete\nHome Team: Bayer Leverkusen\nAway Team: We
  pay the Ref\nHome Score: 8\nAway Score: 7
END:VEVENT
BEGIN:VEVENT
UID:16032358@ezleagues.ezfacility.com
DTSTAMP:20260426T033747Z
CREATED:20260426T033747Z
DTSTART:20241129T080000Z
DTEND:20241129T084000Z
LOCATION:010 Deepdale
CONTACT:Will
SUMMARY:CC Lightning  VS. We pay the Ref
DESCRIPTION:League Name: SUMMER LEAGUES 24/25 Friday Under 11s\nGame Type: 
 Regular\nGame Status: Complete\nHome Team: CC Lightning \nAway Team: We pa
 y the Ref\nHome Score: 12\nAway Score: 2
END:VEVENT
BEGIN:VEVENT
UID:16032364@ezleagues.ezfacility.com
DTSTAMP:20260426T033747Z
CREATED:20260426T033747Z
DTSTART:20241206T071500Z
DTEND:20241206T075500Z
LOCATION:006 Estadio do Dragao
CONTACT:
SUMMARY:PSG VS. We pay the Ref
DESCRIPTION:League Name: SUMMER LEAGUES 24/25 Friday Under 11s\nGame Type: 
 Regular\nGame Status: Complete\nHome Team: PSG\nAway Team: We pay the Ref\
 nHome Score: 10\nAway Score: 3
END:VEVENT
BEGIN:VEVENT
UID:16032370@ezleagues.ezfacility.com
DTSTAMP:20260426T033747Z
CREATED:20260426T033747Z
DTSTART:20241213T080000Z
DTEND:20241213T084000Z
LOCATION:007 Celtic Park
CONTACT:Oliver 
SUMMARY:We pay the Ref VS. All Starz
DESCRIPTION:League Name: SUMMER LEAGUES 24/25 Friday Under 11s\nGame Type: 
 Regular\nGame Status: Complete\nHome Team: We pay the Ref\nAway Team: All 
 Starz\nHome Score: 1\nAway Score: 10
END:VEVENT
BEGIN:VEVENT
UID:16032378@ezleagues.ezfacility.com
DTSTAMP:20260426T033747Z
CREATED:20260426T033747Z
DTSTART:20241220T071500Z
DTEND:20241220T075500Z
LOCATION:008 Ibrox
CONTACT:
SUMMARY:We pay the Ref VS. The Saints
DESCRIPTION:League Name: SUMMER LEAGUES 24/25 Friday Under 11s\nGame Type: 
 Regular\nGame Status: Complete\nHome Team: We pay the Ref\nAway Team: The 
 Saints\nHome Score: 3\nAway Score: 6
END:VEVENT
BEGIN:VEVENT
UID:16032402@ezleagues.ezfacility.com
DTSTAMP:20260426T033747Z
CREATED:20260426T033747Z
DTSTART:20250110T071500Z
DTEND:20250110T075500Z
LOCATION:003 San Siro
CONTACT:Kian
SUMMARY:We pay the Ref VS. Bayern Munich
DESCRIPTION:League Name: SUMMER LEAGUES 24/25 Friday Under 11s\nGame Type: 
 Regular\nGame Status: Complete\nHome Team: We pay the Ref\nAway Team: Baye
 rn Munich\nHome Score: 1\nAway Score: 8
END:VEVENT
BEGIN:VEVENT
UID:16032410@ezleagues.ezfacility.com
DTSTAMP:20260426T033747Z
CREATED:20260426T033747Z
DTSTART:20250117T021500Z
DTEND:20250117T025500Z
LOCATION:007 Celtic Park
CONTACT:AA
SUMMARY:We pay the Ref VS. Cool kickers
DESCRIPTION:League Name: SUMMER LEAGUES 24/25 Friday Under 11s\nGame Type: 
 Regular\nGame Status: Complete\nHome Team: We pay the Ref\nAway Team: Cool
  kickers\nHome Score: 0\nAway Score: 10
END:VEVENT
BEGIN:VEVENT
UID:16032418@ezleagues.ezfacility.com
DTSTAMP:20260426T033747Z
CREATED:20260426T033747Z
DTSTART:20250124T063000Z
DTEND:20250124T071000Z
LOCATION:004 La Bombonera
CONTACT:Josh
SUMMARY:We pay the Ref VS. Super strikers
DESCRIPTION:League Name: SUMMER LEAGUES 24/25 Friday Under 11s\nGame Type: 
 Regular\nGame Status: Complete\nHome Team: We pay the Ref\nAway Team: Supe
 r strikers\nHome Score: 3\nAway Score: 7
END:VEVENT
BEGIN:VEVENT
UID:16032425@ezleagues.ezfacility.com
DTSTAMP:20260426T033747Z
CREATED:20260426T033747Z
DTSTART:20250131T071500Z
DTEND:20250131T075500Z
LOCATION:004 La Bombonera
CONTACT:Ethan
SUMMARY:Wombats VS. We pay the Ref
DESCRIPTION:League Name: SUMMER LEAGUES 24/25 Friday Under 11s\nGame Type: 
 Regular\nGame Status: Complete\nHome Team: Wombats\nAway Team: We pay the 
 Ref\nHome Score: 3\nAway Score: 4
END:VEVENT
BEGIN:VEVENT
UID:16032386@ezleagues.ezfacility.com
DTSTAMP:20260426T033747Z
CREATED:20260426T033747Z
DTSTART:20250207T071500Z
DTEND:20250207T075500Z
LOCATION:007 Celtic Park
CONTACT:Lucas 
SUMMARY:We pay the Ref VS. Neymars
DESCRIPTION:League Name: SUMMER LEAGUES 24/25 Friday Under 11s\nGame Type: 
 Regular\nGame Status: Complete\nHome Team: We pay the Ref\nAway Team: Neym
 ars\nHome Score: 3\nAway Score: 11
END:VEVENT
BEGIN:VEVENT
UID:16032394@ezleagues.ezfacility.com
DTSTAMP:20260426T033747Z
CREATED:20260426T033747Z
DTSTART:20250214T080000Z
DTEND:20250214T084000Z
LOCATION:009 Anfield
CONTACT:Will
SUMMARY:We pay the Ref VS. Bulls
DESCRIPTION:League Name: SUMMER LEAGUES 24/25 Friday Under 11s\nGame Type: 
 Regular\nGame Status: Complete\nHome Team: We pay the Ref\nAway Team: Bull
 s\nHome Score: 5\nAway Score: 8
END:VEVENT
BEGIN:VEVENT
UID:16196089@ezleagues.ezfacility.com
DTSTAMP:20260426T033747Z
CREATED:20260426T033747Z
DTSTART:20250221T071500Z
DTEND:20250221T075500Z
LOCATION:009 Anfield
CONTACT:Will
SUMMARY:Bulls VS. We pay the Ref
DESCRIPTION:League Name: SUMMER LEAGUES 24/25 Friday Under 11s\nGame Type: 
 Postseason\nGame Status: Complete\nHome Team: Bulls\nAway Team: We pay the
  Ref\nHome Score: 8\nAway Score: 5
END:VEVENT
END:VCALENDAR
