BEGIN:VCALENDAR
VERSION:2.0
PRODID:-//EZFacility.com, Inc.//EZL 2.5.5.28621
BEGIN:VEVENT
UID:16071491@ezleagues.ezfacility.com
DTSTAMP:20260425T125735Z
CREATED:20260425T125735Z
DTSTART:20241207T144000Z
DTEND:20241207T151000Z
LOCATION:Norwalk Courts #2
CONTACT:DCVC 11U Grubbs
SUMMARY:Norwalk Evo  VS. Ohana Black - Mitch
DESCRIPTION:League Name: CIVL 4th,5th,6th\nGame Type: Regular\nGame Status:
  Complete\nHome Team: Norwalk Evo \nAway Team: Ohana Black - Mitch\nHome S
 core: 1\nAway Score: 1
END:VEVENT
BEGIN:VEVENT
UID:16071502@ezleagues.ezfacility.com
DTSTAMP:20260425T125735Z
CREATED:20260425T125735Z
DTSTART:20241207T155000Z
DTEND:20241207T162000Z
LOCATION:Norwalk Courts #3
CONTACT:PLEX 11u Douglas
SUMMARY:Evo Black 5th VS. Ohana Black - Mitch
DESCRIPTION:League Name: CIVL 4th,5th,6th\nGame Type: Regular\nGame Status:
  Complete\nHome Team: Evo Black 5th\nAway Team: Ohana Black - Mitch\nHome 
 Score: 0\nAway Score: 2
END:VEVENT
BEGIN:VEVENT
UID:16071513@ezleagues.ezfacility.com
DTSTAMP:20260425T125735Z
CREATED:20260425T125735Z
DTSTART:20241207T165000Z
DTEND:20241207T172000Z
LOCATION:Norwalk Courts #4
CONTACT:Urbandale 6th Red
SUMMARY:PLEX 11u Rotto VS. Ohana Black - Mitch
DESCRIPTION:League Name: CIVL 4th,5th,6th\nGame Type: Regular\nGame Status:
  Complete\nHome Team: PLEX 11u Rotto\nAway Team: Ohana Black - Mitch\nHome
  Score: 0\nAway Score: 2
END:VEVENT
BEGIN:VEVENT
UID:16071563@ezleagues.ezfacility.com
DTSTAMP:20260425T125735Z
CREATED:20260425T125735Z
DTSTART:20241221T140000Z
DTEND:20241221T143000Z
LOCATION:Horizon #3
CONTACT:Ohana Green - Lexi
SUMMARY:Ohana Black - Mitch VS. Ohana 11U - Katie
DESCRIPTION:League Name: CIVL 4th,5th,6th\nGame Type: Regular\nGame Status:
  Complete\nHome Team: Ohana Black - Mitch\nAway Team: Ohana 11U - Katie\nH
 ome Score: 2\nAway Score: 0
END:VEVENT
BEGIN:VEVENT
UID:16071576@ezleagues.ezfacility.com
DTSTAMP:20260425T125735Z
CREATED:20260425T125735Z
DTSTART:20241221T154000Z
DTEND:20241221T161000Z
LOCATION:Horizon #1A
CONTACT:PLEX 11u Rotto
SUMMARY:Ohana Black - Mitch VS. Wolfpack- Cassie Aldrich
DESCRIPTION:League Name: CIVL 4th,5th,6th\nGame Type: Regular\nGame Status:
  Complete\nHome Team: Ohana Black - Mitch\nAway Team: Wolfpack- Cassie Ald
 rich\nHome Score: 2\nAway Score: 0
END:VEVENT
BEGIN:VEVENT
UID:16071585@ezleagues.ezfacility.com
DTSTAMP:20260425T125735Z
CREATED:20260425T125735Z
DTSTART:20241221T161000Z
DTEND:20241221T164000Z
LOCATION:Horizon #3
CONTACT:Norwalk Evo
SUMMARY:Urbandale 5th Navy VS. Ohana Black - Mitch
DESCRIPTION:League Name: CIVL 4th,5th,6th\nGame Type: Regular\nGame Status:
  Complete\nHome Team: Urbandale 5th Navy\nAway Team: Ohana Black - Mitch\n
 Home Score: 0\nAway Score: 2
END:VEVENT
BEGIN:VEVENT
UID:16071589@ezleagues.ezfacility.com
DTSTAMP:20260425T125735Z
CREATED:20260425T125735Z
DTSTART:20241221T164000Z
DTEND:20241221T171000Z
LOCATION:Horizon #2
CONTACT:PLEX 11u Rotto
SUMMARY:Perry White VS. Ohana Black - Mitch
DESCRIPTION:League Name: CIVL 4th,5th,6th\nGame Type: Regular\nGame Status:
  Complete\nHome Team: Perry White\nAway Team: Ohana Black - Mitch\nHome Sc
 ore: 0\nAway Score: 2
END:VEVENT
BEGIN:VEVENT
UID:16071602@ezleagues.ezfacility.com
DTSTAMP:20260425T125735Z
CREATED:20260425T125735Z
DTSTART:20241228T144000Z
DTEND:20241228T151000Z
LOCATION:*Horizon #5
CONTACT:Ottumwa 6th
SUMMARY:Evo 6th Black VS. Ohana Black - Mitch
DESCRIPTION:League Name: CIVL 4th,5th,6th\nGame Type: Regular\nGame Status:
  Complete\nHome Team: Evo 6th Black\nAway Team: Ohana Black - Mitch\nHome 
 Score: 0\nAway Score: 2
END:VEVENT
BEGIN:VEVENT
UID:16071615@ezleagues.ezfacility.com
DTSTAMP:20260425T125735Z
CREATED:20260425T125735Z
DTSTART:20241228T151000Z
DTEND:20241228T154000Z
LOCATION:Horizon #4
CONTACT:PLEX 11u Douglas
SUMMARY:Ohana Black - Mitch VS. DCVC 5th
DESCRIPTION:League Name: CIVL 4th,5th,6th\nGame Type: Regular\nGame Status:
  Complete\nHome Team: Ohana Black - Mitch\nAway Team: DCVC 5th\nHome Score
 : 2\nAway Score: 0
END:VEVENT
BEGIN:VEVENT
UID:16071628@ezleagues.ezfacility.com
DTSTAMP:20260425T125735Z
CREATED:20260425T125735Z
DTSTART:20241228T161000Z
DTEND:20241228T164000Z
LOCATION:*Horizon #6
CONTACT:Wolfpack
SUMMARY:Ohana Black - Mitch VS. Ohana 11U - Katie
DESCRIPTION:League Name: CIVL 4th,5th,6th\nGame Type: Regular\nGame Status:
  Complete\nHome Team: Ohana Black - Mitch\nAway Team: Ohana 11U - Katie\nH
 ome Score: 2\nAway Score: 0
END:VEVENT
BEGIN:VEVENT
UID:16071641@ezleagues.ezfacility.com
DTSTAMP:20260425T125735Z
CREATED:20260425T125735Z
DTSTART:20250104T144000Z
DTEND:20250104T151000Z
LOCATION:Horizon #2
CONTACT:Evo 6th Black
SUMMARY:Ohana Black - Mitch VS. PLEX 11u Douglas
DESCRIPTION:League Name: CIVL 4th,5th,6th\nGame Type: Regular\nGame Status:
  Complete\nHome Team: Ohana Black - Mitch\nAway Team: PLEX 11u Douglas\nHo
 me Score: 2\nAway Score: 0
END:VEVENT
BEGIN:VEVENT
UID:16071645@ezleagues.ezfacility.com
DTSTAMP:20260425T125735Z
CREATED:20260425T125735Z
DTSTART:20250104T151000Z
DTEND:20250104T154000Z
LOCATION:Horizon #1A
CONTACT:Evo Black 5th
SUMMARY:Urbandale 6th Red VS. Ohana Black - Mitch
DESCRIPTION:League Name: CIVL 4th,5th,6th\nGame Type: Regular\nGame Status:
  Complete\nHome Team: Urbandale 6th Red\nAway Team: Ohana Black - Mitch\nH
 ome Score: 1\nAway Score: 1
END:VEVENT
BEGIN:VEVENT
UID:16071654@ezleagues.ezfacility.com
DTSTAMP:20260425T125735Z
CREATED:20260425T125735Z
DTSTART:20250104T154000Z
DTEND:20250104T161000Z
LOCATION:Horizon #4
CONTACT:Ohana Green - Lexi
SUMMARY:Ohana Black - Mitch VS. Evo Red 6th
DESCRIPTION:League Name: CIVL 4th,5th,6th\nGame Type: Regular\nGame Status:
  Complete\nHome Team: Ohana Black - Mitch\nAway Team: Evo Red 6th\nHome Sc
 ore: 2\nAway Score: 0
END:VEVENT
BEGIN:VEVENT
UID:16071667@ezleagues.ezfacility.com
DTSTAMP:20260425T125735Z
CREATED:20260425T125735Z
DTSTART:20250104T164000Z
DTEND:20250104T171000Z
LOCATION:Horizon #4
CONTACT:Ottumwa 6th
SUMMARY:Ohana Black - Mitch VS. Tigers 6th
DESCRIPTION:League Name: CIVL 4th,5th,6th\nGame Type: Regular\nGame Status:
  Complete\nHome Team: Ohana Black - Mitch\nAway Team: Tigers 6th\nHome Sco
 re: 0\nAway Score: 2
END:VEVENT
END:VCALENDAR
