BEGIN:VCALENDAR
VERSION:2.0
PRODID:-//EZFacility.com, Inc.//EZL 2.5.5.28621
BEGIN:VEVENT
UID:16038477@ezleagues.ezfacility.com
DTSTAMP:20260426T033816Z
CREATED:20260426T033816Z
DTSTART:20241109T190000Z
DTEND:20241109T194200Z
LOCATION:7v7 Field #4
CONTACT:Martinez
SUMMARY:Sparta Blue - Garcia  VS. Hotshots FC
DESCRIPTION:League Name: 2024/2025 U12 Select Session 1 Soccer\nGame Type: 
 Regular\nGame Status: Complete\nHome Team: Sparta Blue - Garcia \nAway Tea
 m: Hotshots FC\nHome Score: 0\nAway Score: 24
END:VEVENT
BEGIN:VEVENT
UID:16038486@ezleagues.ezfacility.com
DTSTAMP:20260426T033816Z
CREATED:20260426T033816Z
DTSTART:20241116T151500Z
DTEND:20241116T155700Z
LOCATION:7v7 Field #4
CONTACT:
SUMMARY:VSC LADY VIKES VS. Sparta Blue - Garcia 
DESCRIPTION:League Name: 2024/2025 U12 Select Session 1 Soccer\nGame Type: 
 Regular\nGame Status: Complete\nHome Team: VSC LADY VIKES\nAway Team: Spar
 ta Blue - Garcia \nHome Score: 13\nAway Score: 0
END:VEVENT
BEGIN:VEVENT
UID:16038494@ezleagues.ezfacility.com
DTSTAMP:20260426T033816Z
CREATED:20260426T033816Z
DTSTART:20241123T190000Z
DTEND:20241123T194200Z
LOCATION:7v7 Field #4
CONTACT:Martinez
SUMMARY:Cp Hawks VS. Sparta Blue - Garcia 
DESCRIPTION:League Name: 2024/2025 U12 Select Session 1 Soccer\nGame Type: 
 Regular\nGame Status: Complete\nHome Team: Cp Hawks\nAway Team: Sparta Blu
 e - Garcia \nHome Score: 11\nAway Score: 0
END:VEVENT
BEGIN:VEVENT
UID:16038500@ezleagues.ezfacility.com
DTSTAMP:20260426T033816Z
CREATED:20260426T033816Z
DTSTART:20241207T190000Z
DTEND:20241207T194200Z
LOCATION:7v7 Field #4
CONTACT:
SUMMARY:Sparta Blue - Garcia  VS. Praying Mantises - Moke
DESCRIPTION:League Name: 2024/2025 U12 Select Session 1 Soccer\nGame Type: 
 Regular\nGame Status: Complete\nHome Team: Sparta Blue - Garcia \nAway Tea
 m: Praying Mantises - Moke\nHome Score: 2\nAway Score: 4
END:VEVENT
BEGIN:VEVENT
UID:16038513@ezleagues.ezfacility.com
DTSTAMP:20260426T033816Z
CREATED:20260426T033816Z
DTSTART:20241214T164500Z
DTEND:20241214T172700Z
LOCATION:7v7 Field #4
CONTACT:espinoza
SUMMARY:Cp Spartans-Gloff VS. Sparta Blue - Garcia 
DESCRIPTION:League Name: 2024/2025 U12 Select Session 1 Soccer\nGame Type: 
 Regular\nGame Status: Complete\nHome Team: Cp Spartans-Gloff\nAway Team: S
 parta Blue - Garcia \nHome Score: 5\nAway Score: 0
END:VEVENT
BEGIN:VEVENT
UID:16038525@ezleagues.ezfacility.com
DTSTAMP:20260426T033816Z
CREATED:20260426T033816Z
DTSTART:20241228T151500Z
DTEND:20241228T155700Z
LOCATION:7v7 Field #4
CONTACT:Josifoski
SUMMARY:Hobart Spartans VS. Sparta Blue - Garcia 
DESCRIPTION:League Name: 2024/2025 U12 Select Session 1 Soccer\nGame Type: 
 Regular\nGame Status: Complete\nHome Team: Hobart Spartans\nAway Team: Spa
 rta Blue - Garcia \nHome Score: 11\nAway Score: 0
END:VEVENT
BEGIN:VEVENT
UID:16038523@ezleagues.ezfacility.com
DTSTAMP:20260426T033816Z
CREATED:20260426T033816Z
DTSTART:20241228T160000Z
DTEND:20241228T164200Z
LOCATION:7v7 Field #4
CONTACT:Josifoski
SUMMARY:Sparta Blue - Garcia  VS. Cp Dynamo
DESCRIPTION:League Name: 2024/2025 U12 Select Session 1 Soccer\nGame Type: 
 Regular\nGame Status: Complete\nHome Team: Sparta Blue - Garcia \nAway Tea
 m: Cp Dynamo\nHome Score: 0\nAway Score: 14
END:VEVENT
BEGIN:VEVENT
UID:16149096@ezleagues.ezfacility.com
DTSTAMP:20260426T033816Z
CREATED:20260426T033816Z
DTSTART:20250104T165500Z
DTEND:20250104T172500Z
LOCATION:7v7 Field #1
CONTACT:
SUMMARY:Sparta Blue - Garcia  VS. Praying Mantises - Moke
DESCRIPTION:League Name: 2024/2025 U12 Select Session 1 Soccer\nGame Type: 
 Regular\nGame Status: Complete\nHome Team: Sparta Blue - Garcia \nAway Tea
 m: Praying Mantises - Moke\nHome Score: 1\nAway Score: 3
END:VEVENT
END:VCALENDAR
