BEGIN:VCALENDAR
VERSION:2.0
PRODID:-//EZFacility.com, Inc.//EZL 2.5.5.28621
BEGIN:VEVENT
UID:16041738@ezleagues.ezfacility.com
DTSTAMP:20260426T033850Z
CREATED:20260426T033850Z
DTSTART:20241104T021500Z
DTEND:20241104T031500Z
LOCATION:East Rink
CONTACT:
SUMMARY:NOMADS VS. Storybook Brewery
DESCRIPTION:League Name: Sunday Novice (start 11/3/24)\nGame Type: Regular\
 nGame Status: Complete\nHome Team: NOMADS\nAway Team: Storybook Brewery\nH
 ome Score: 2\nAway Score: 2
END:VEVENT
BEGIN:VEVENT
UID:16041743@ezleagues.ezfacility.com
DTSTAMP:20260426T033850Z
CREATED:20260426T033850Z
DTSTART:20241110T203000Z
DTEND:20241110T213000Z
LOCATION:West Rink
CONTACT:
SUMMARY:NOMADS VS. Hot Wings
DESCRIPTION:League Name: Sunday Novice (start 11/3/24)\nGame Type: Regular\
 nGame Status: Complete\nHome Team: NOMADS\nAway Team: Hot Wings\nHome Scor
 e: 6\nAway Score: 1
END:VEVENT
BEGIN:VEVENT
UID:16041748@ezleagues.ezfacility.com
DTSTAMP:20260426T033850Z
CREATED:20260426T033850Z
DTSTART:20241118T034500Z
DTEND:20241118T044500Z
LOCATION:West Rink
CONTACT:
SUMMARY:NOMADS VS. DAWGS
DESCRIPTION:League Name: Sunday Novice (start 11/3/24)\nGame Type: Regular\
 nGame Status: Complete\nHome Team: NOMADS\nAway Team: DAWGS\nHome Score: 3
 \nAway Score: 1
END:VEVENT
BEGIN:VEVENT
UID:16041753@ezleagues.ezfacility.com
DTSTAMP:20260426T033850Z
CREATED:20260426T033850Z
DTSTART:20241125T033000Z
DTEND:20241125T043000Z
LOCATION:West Rink
CONTACT:
SUMMARY:Cluster Pucks VS. NOMADS
DESCRIPTION:League Name: Sunday Novice (start 11/3/24)\nGame Type: Regular\
 nGame Status: Complete\nHome Team: Cluster Pucks\nAway Team: NOMADS\nHome 
 Score: 2\nAway Score: 6
END:VEVENT
BEGIN:VEVENT
UID:16041767@ezleagues.ezfacility.com
DTSTAMP:20260426T033850Z
CREATED:20260426T033850Z
DTSTART:20241209T014500Z
DTEND:20241209T024500Z
LOCATION:Air Force
CONTACT:
SUMMARY:Ice Holes VS. NOMADS
DESCRIPTION:League Name: Sunday Novice (start 11/3/24)\nGame Type: Regular\
 nGame Status: Complete\nHome Team: Ice Holes\nAway Team: NOMADS\nHome Scor
 e: 1\nAway Score: 2
END:VEVENT
BEGIN:VEVENT
UID:16041774@ezleagues.ezfacility.com
DTSTAMP:20260426T033850Z
CREATED:20260426T033850Z
DTSTART:20241216T001500Z
DTEND:20241216T011500Z
LOCATION:East Rink
CONTACT:
SUMMARY:Dumpster Fire VS. NOMADS
DESCRIPTION:League Name: Sunday Novice (start 11/3/24)\nGame Type: Regular\
 nGame Status: Complete\nHome Team: Dumpster Fire\nAway Team: NOMADS\nHome 
 Score: 1\nAway Score: 6
END:VEVENT
BEGIN:VEVENT
UID:16041781@ezleagues.ezfacility.com
DTSTAMP:20260426T033850Z
CREATED:20260426T033850Z
DTSTART:20241223T044500Z
DTEND:20241223T054500Z
LOCATION:West Rink
CONTACT:
SUMMARY:Trash Pandas VS. NOMADS
DESCRIPTION:League Name: Sunday Novice (start 11/3/24)\nGame Type: Regular\
 nGame Status: Complete\nHome Team: Trash Pandas\nAway Team: NOMADS\nHome S
 core: 2\nAway Score: 4
END:VEVENT
BEGIN:VEVENT
UID:16041788@ezleagues.ezfacility.com
DTSTAMP:20260426T033850Z
CREATED:20260426T033850Z
DTSTART:20241229T200000Z
DTEND:20241229T210000Z
LOCATION:West Rink
CONTACT:
SUMMARY:Rebels VS. NOMADS
DESCRIPTION:League Name: Sunday Novice (start 11/3/24)\nGame Type: Regular\
 nGame Status: Complete\nHome Team: Rebels\nAway Team: NOMADS\nHome Score: 
 1\nAway Score: 3
END:VEVENT
BEGIN:VEVENT
UID:16041794@ezleagues.ezfacility.com
DTSTAMP:20260426T033850Z
CREATED:20260426T033850Z
DTSTART:20250106T001500Z
DTEND:20250106T011500Z
LOCATION:World Arena - NHL
CONTACT:
SUMMARY:NOMADS VS. Front Range Wreckers
DESCRIPTION:League Name: Sunday Novice (start 11/3/24)\nGame Type: Regular\
 nGame Status: Complete\nHome Team: NOMADS\nAway Team: Front Range Wreckers
 \nHome Score: 4\nAway Score: 3
END:VEVENT
BEGIN:VEVENT
UID:16041799@ezleagues.ezfacility.com
DTSTAMP:20260426T033850Z
CREATED:20260426T033850Z
DTSTART:20250113T033000Z
DTEND:20250113T043000Z
LOCATION:West Rink
CONTACT:
SUMMARY:NOMADS VS. Puck Norris 2
DESCRIPTION:League Name: Sunday Novice (start 11/3/24)\nGame Type: Regular\
 nGame Status: Complete\nHome Team: NOMADS\nAway Team: Puck Norris 2\nHome 
 Score: 3\nAway Score: 0
END:VEVENT
BEGIN:VEVENT
UID:16041804@ezleagues.ezfacility.com
DTSTAMP:20260426T033850Z
CREATED:20260426T033850Z
DTSTART:20250120T021500Z
DTEND:20250120T031500Z
LOCATION:West Rink
CONTACT:
SUMMARY:Storybook Brewery VS. NOMADS
DESCRIPTION:League Name: Sunday Novice (start 11/3/24)\nGame Type: Regular\
 nGame Status: Complete\nHome Team: Storybook Brewery\nAway Team: NOMADS\nH
 ome Score: 1\nAway Score: 1
END:VEVENT
BEGIN:VEVENT
UID:16041809@ezleagues.ezfacility.com
DTSTAMP:20260426T033850Z
CREATED:20260426T033850Z
DTSTART:20250126T211500Z
DTEND:20250126T221500Z
LOCATION:West Rink
CONTACT:
SUMMARY:Hot Wings VS. NOMADS
DESCRIPTION:League Name: Sunday Novice (start 11/3/24)\nGame Type: Regular\
 nGame Status: Complete\nHome Team: Hot Wings\nAway Team: NOMADS\nHome Scor
 e: 2\nAway Score: 4
END:VEVENT
BEGIN:VEVENT
UID:16041814@ezleagues.ezfacility.com
DTSTAMP:20260426T033850Z
CREATED:20260426T033850Z
DTSTART:20250203T014500Z
DTEND:20250203T024500Z
LOCATION:Air Force
CONTACT:
SUMMARY:DAWGS VS. NOMADS
DESCRIPTION:League Name: Sunday Novice (start 11/3/24)\nGame Type: Regular\
 nGame Status: Complete\nHome Team: DAWGS\nAway Team: NOMADS\nHome Score: 2
 \nAway Score: 3
END:VEVENT
BEGIN:VEVENT
UID:16041819@ezleagues.ezfacility.com
DTSTAMP:20260426T033850Z
CREATED:20260426T033850Z
DTSTART:20250217T033000Z
DTEND:20250217T043000Z
LOCATION:East Rink
CONTACT:
SUMMARY:NOMADS VS. Cluster Pucks
DESCRIPTION:League Name: Sunday Novice (start 11/3/24)\nGame Type: Regular\
 nGame Status: Complete\nHome Team: NOMADS\nAway Team: Cluster Pucks\nHome 
 Score: 2\nAway Score: 1
END:VEVENT
BEGIN:VEVENT
UID:16041826@ezleagues.ezfacility.com
DTSTAMP:20260426T033850Z
CREATED:20260426T033850Z
DTSTART:20250223T200000Z
DTEND:20250223T210000Z
LOCATION:BYE
CONTACT:
SUMMARY:NOMADS VS. BYE
DESCRIPTION:League Name: Sunday Novice (start 11/3/24)\nGame Type: Regular\
 nGame Status: Pending\nHome Team: NOMADS\nAway Team: BYE\n
END:VEVENT
BEGIN:VEVENT
UID:16041840@ezleagues.ezfacility.com
DTSTAMP:20260426T033850Z
CREATED:20260426T033850Z
DTSTART:20250303T044500Z
DTEND:20250303T054500Z
LOCATION:West Rink
CONTACT:
SUMMARY:NOMADS VS. Dumpster Fire
DESCRIPTION:League Name: Sunday Novice (start 11/3/24)\nGame Type: Regular\
 nGame Status: Complete\nHome Team: NOMADS\nAway Team: Dumpster Fire\nHome 
 Score: 7\nAway Score: 0
END:VEVENT
BEGIN:VEVENT
UID:16041847@ezleagues.ezfacility.com
DTSTAMP:20260426T033850Z
CREATED:20260426T033850Z
DTSTART:20250310T023000Z
DTEND:20250310T033000Z
LOCATION:West Rink
CONTACT:
SUMMARY:NOMADS VS. Trash Pandas
DESCRIPTION:League Name: Sunday Novice (start 11/3/24)\nGame Type: Regular\
 nGame Status: Complete\nHome Team: NOMADS\nAway Team: Trash Pandas\nHome S
 core: 1\nAway Score: 1
END:VEVENT
BEGIN:VEVENT
UID:16041854@ezleagues.ezfacility.com
DTSTAMP:20260426T033850Z
CREATED:20260426T033850Z
DTSTART:20250317T000000Z
DTEND:20250317T010000Z
LOCATION:West Rink
CONTACT:
SUMMARY:NOMADS VS. Rebels
DESCRIPTION:League Name: Sunday Novice (start 11/3/24)\nGame Type: Regular\
 nGame Status: Complete\nHome Team: NOMADS\nAway Team: Rebels\nHome Score: 
 6\nAway Score: 3
END:VEVENT
BEGIN:VEVENT
UID:16041860@ezleagues.ezfacility.com
DTSTAMP:20260426T033850Z
CREATED:20260426T033850Z
DTSTART:20250324T011500Z
DTEND:20250324T021500Z
LOCATION:West Rink
CONTACT:
SUMMARY:Ice Holes VS. NOMADS
DESCRIPTION:League Name: Sunday Novice (start 11/3/24)\nGame Type: Regular\
 nGame Status: Complete\nHome Team: Ice Holes\nAway Team: NOMADS\nHome Scor
 e: 1\nAway Score: 4
END:VEVENT
BEGIN:VEVENT
UID:16326365@ezleagues.ezfacility.com
DTSTAMP:20260426T033850Z
CREATED:20260426T033850Z
DTSTART:20250331T023000Z
DTEND:20250331T033000Z
LOCATION:West Rink
CONTACT:
SUMMARY:NOMADS VS. Front Range Wreckers
DESCRIPTION:League Name: Sunday Novice (start 11/3/24)\nGame Type: Regular\
 nGame Status: Complete\nHome Team: NOMADS\nAway Team: Front Range Wreckers
 \nHome Score: 6\nAway Score: 1
END:VEVENT
BEGIN:VEVENT
UID:16346308@ezleagues.ezfacility.com
DTSTAMP:20260426T033850Z
CREATED:20260426T033850Z
DTSTART:20250407T034500Z
DTEND:20250407T044500Z
LOCATION:East Rink
CONTACT:
SUMMARY:NOMADS VS. Trash Pandas
DESCRIPTION:League Name: Sunday Novice (start 11/3/24)\nGame Type: Postseas
 on\nGame Status: Pending\nHome Team: NOMADS\nAway Team: Trash Pandas\n
END:VEVENT
END:VCALENDAR
