BEGIN:VCALENDAR
VERSION:2.0
PRODID:-//EZFacility.com, Inc.//EZL 2.5.5.28621
BEGIN:VEVENT
UID:16043902@ezleagues.ezfacility.com
DTSTAMP:20260426T034054Z
CREATED:20260426T034054Z
DTSTART:20241108T010000Z
DTEND:20241108T020000Z
LOCATION:Field 3 BLD
CONTACT:
SUMMARY:REAL MADRID VS. DEPORTIVO LA CEIBA
DESCRIPTION:League Name: (11/07) MIXTOS\nGame Type: Regular\nGame Status: C
 omplete\nHome Team: REAL MADRID\nAway Team: DEPORTIVO LA CEIBA\nHome Score
 : 7\nAway Score: 3
END:VEVENT
BEGIN:VEVENT
UID:16059915@ezleagues.ezfacility.com
DTSTAMP:20260426T034054Z
CREATED:20260426T034054Z
DTSTART:20241115T020000Z
DTEND:20241115T030000Z
LOCATION:Field 4 BLD
CONTACT:
SUMMARY:REAL MADRID VS. RIVER PLATE
DESCRIPTION:League Name: (11/07) MIXTOS\nGame Type: Regular\nGame Status: C
 omplete\nHome Team: REAL MADRID\nAway Team: RIVER PLATE\nHome Score: 3\nAw
 ay Score: 2
END:VEVENT
BEGIN:VEVENT
UID:16076215@ezleagues.ezfacility.com
DTSTAMP:20260426T034054Z
CREATED:20260426T034054Z
DTSTART:20241122T020000Z
DTEND:20241122T030000Z
LOCATION:Field 4 BLD
CONTACT:
SUMMARY:REAL MADRID VS. BARCA FC
DESCRIPTION:League Name: (11/07) MIXTOS\nGame Type: Regular\nGame Status: C
 omplete\nHome Team: REAL MADRID\nAway Team: BARCA FC\nHome Score: 5\nAway 
 Score: 5
END:VEVENT
BEGIN:VEVENT
UID:16124199@ezleagues.ezfacility.com
DTSTAMP:20260426T034054Z
CREATED:20260426T034054Z
DTSTART:20241213T020000Z
DTEND:20241213T030000Z
LOCATION:Field 4 BLD
CONTACT:
SUMMARY:REAL MADRID VS. HOLANDA
DESCRIPTION:League Name: (11/07) MIXTOS\nGame Type: Regular\nGame Status: C
 omplete\nHome Team: REAL MADRID\nAway Team: HOLANDA\nHome Score: 7\nAway S
 core: 10
END:VEVENT
BEGIN:VEVENT
UID:16137991@ezleagues.ezfacility.com
DTSTAMP:20260426T034054Z
CREATED:20260426T034054Z
DTSTART:20241220T020000Z
DTEND:20241220T030000Z
LOCATION:Field 4 BLD
CONTACT:
SUMMARY:DEPORTIVO PUEBLA MIX VS. REAL MADRID
DESCRIPTION:League Name: (11/07) MIXTOS\nGame Type: Regular\nGame Status: C
 omplete\nHome Team: DEPORTIVO PUEBLA MIX\nAway Team: REAL MADRID\nHome Sco
 re: 1\nAway Score: 0
END:VEVENT
BEGIN:VEVENT
UID:16145896@ezleagues.ezfacility.com
DTSTAMP:20260426T034054Z
CREATED:20260426T034054Z
DTSTART:20241227T020000Z
DTEND:20241227T030000Z
LOCATION:Field 3 BLD
CONTACT:
SUMMARY:HOLANDA VS. REAL MADRID
DESCRIPTION:League Name: (11/07) MIXTOS\nGame Type: Regular\nGame Status: C
 omplete\nHome Team: HOLANDA\nAway Team: REAL MADRID\nHome Score: 9\nAway S
 core: 5
END:VEVENT
BEGIN:VEVENT
UID:16158775@ezleagues.ezfacility.com
DTSTAMP:20260426T034054Z
CREATED:20260426T034054Z
DTSTART:20250103T010000Z
DTEND:20250103T020000Z
LOCATION:Field 4 BLD
CONTACT:
SUMMARY:REAL MADRID VS. FIVE STARS
DESCRIPTION:League Name: (11/07) MIXTOS\nGame Type: Regular\nGame Status: C
 omplete\nHome Team: REAL MADRID\nAway Team: FIVE STARS\nHome Score: 6\nAwa
 y Score: 3
END:VEVENT
BEGIN:VEVENT
UID:16177065@ezleagues.ezfacility.com
DTSTAMP:20260426T034054Z
CREATED:20260426T034054Z
DTSTART:20250110T020000Z
DTEND:20250110T030000Z
LOCATION:Field 4 BLD
CONTACT:
SUMMARY:REAL MADRID VS. RIVER PLATE
DESCRIPTION:League Name: (11/07) MIXTOS\nGame Type: Regular\nGame Status: C
 omplete\nHome Team: REAL MADRID\nAway Team: RIVER PLATE\nHome Score: 3\nAw
 ay Score: 5
END:VEVENT
BEGIN:VEVENT
UID:16196050@ezleagues.ezfacility.com
DTSTAMP:20260426T034054Z
CREATED:20260426T034054Z
DTSTART:20250117T020000Z
DTEND:20250117T030000Z
LOCATION:Field 4 BLD
CONTACT:
SUMMARY:REAL MADRID VS. DEPORTIVO LA CEIBA
DESCRIPTION:League Name: (11/07) MIXTOS\nGame Type: Regular\nGame Status: C
 omplete\nHome Team: REAL MADRID\nAway Team: DEPORTIVO LA CEIBA\nHome Score
 : 4\nAway Score: 7
END:VEVENT
BEGIN:VEVENT
UID:16211037@ezleagues.ezfacility.com
DTSTAMP:20260426T034054Z
CREATED:20260426T034054Z
DTSTART:20250124T010000Z
DTEND:20250124T020000Z
LOCATION:Field 4 BLD
CONTACT:
SUMMARY:REAL MADRID VS. BARCA FC
DESCRIPTION:League Name: (11/07) MIXTOS\nGame Type: Regular\nGame Status: C
 omplete\nHome Team: REAL MADRID\nAway Team: BARCA FC\nHome Score: 1\nAway 
 Score: 5
END:VEVENT
BEGIN:VEVENT
UID:16227420@ezleagues.ezfacility.com
DTSTAMP:20260426T034054Z
CREATED:20260426T034054Z
DTSTART:20250207T010000Z
DTEND:20250207T020000Z
LOCATION:Field 4 BLD
CONTACT:
SUMMARY:DEPORTIVO PUEBLA MIX VS. REAL MADRID
DESCRIPTION:League Name: (11/07) MIXTOS\nGame Type: Regular\nGame Status: C
 omplete\nHome Team: DEPORTIVO PUEBLA MIX\nAway Team: REAL MADRID\nHome Sco
 re: 2\nAway Score: 2
END:VEVENT
END:VCALENDAR
