BEGIN:VCALENDAR
VERSION:2.0
PRODID:-//EZFacility.com, Inc.//EZL 2.5.5.28621
BEGIN:VEVENT
UID:15897746@ezleagues.ezfacility.com
DTSTAMP:20260426T034932Z
CREATED:20260426T034932Z
DTSTART:20240914T194000Z
DTEND:20240914T204000Z
LOCATION:Premier Sports Court 1
CONTACT:
SUMMARY:Explosion White VS. Spartans Powell
DESCRIPTION:League Name: 2024 Premier Basketball Boys JV Fall League\nGame 
 Type: Regular\nGame Status: Complete\nHome Team: Explosion White\nAway Tea
 m: Spartans Powell\nHome Score: 61\nAway Score: 31
END:VEVENT
BEGIN:VEVENT
UID:15905880@ezleagues.ezfacility.com
DTSTAMP:20260426T034932Z
CREATED:20260426T034932Z
DTSTART:20240928T214000Z
DTEND:20240928T224000Z
LOCATION:Premier Sports Court 2
CONTACT:
SUMMARY:Explosion White VS. Spartans Julian
DESCRIPTION:League Name: 2024 Premier Basketball Boys JV Fall League\nGame 
 Type: Regular\nGame Status: Complete\nHome Team: Explosion White\nAway Tea
 m: Spartans Julian\nHome Score: 50\nAway Score: 59
END:VEVENT
BEGIN:VEVENT
UID:15938081@ezleagues.ezfacility.com
DTSTAMP:20260426T034932Z
CREATED:20260426T034932Z
DTSTART:20241013T235000Z
DTEND:20241014T005000Z
LOCATION:Premier Sports Court 3
CONTACT:
SUMMARY:Players East 10 VS. Explosion White
DESCRIPTION:League Name: 2024 Premier Basketball Boys JV Fall League\nGame 
 Type: Regular\nGame Status: Complete\nHome Team: Players East 10\nAway Tea
 m: Explosion White\nHome Score: 62\nAway Score: 33
END:VEVENT
BEGIN:VEVENT
UID:15952072@ezleagues.ezfacility.com
DTSTAMP:20260426T034932Z
CREATED:20260426T034932Z
DTSTART:20241020T161500Z
DTEND:20241020T171500Z
LOCATION:Premier Sports Court 2
CONTACT:
SUMMARY:Explosion White VS. Premier Ronan
DESCRIPTION:League Name: 2024 Premier Basketball Boys JV Fall League\nGame 
 Type: Regular\nGame Status: Complete\nHome Team: Explosion White\nAway Tea
 m: Premier Ronan\nHome Score: 57\nAway Score: 60
END:VEVENT
BEGIN:VEVENT
UID:15954365@ezleagues.ezfacility.com
DTSTAMP:20260426T034932Z
CREATED:20260426T034932Z
DTSTART:20241026T182500Z
DTEND:20241026T192500Z
LOCATION:Premier Sports Court 2
CONTACT:
SUMMARY:Explosion White VS. Premier Cofield 10 Black
DESCRIPTION:League Name: 2024 Premier Basketball Boys JV Fall League\nGame 
 Type: Regular\nGame Status: Complete\nHome Team: Explosion White\nAway Tea
 m: Premier Cofield 10 Black\nHome Score: 64\nAway Score: 25
END:VEVENT
BEGIN:VEVENT
UID:15955530@ezleagues.ezfacility.com
DTSTAMP:20260426T034932Z
CREATED:20260426T034932Z
DTSTART:20241027T193000Z
DTEND:20241027T203000Z
LOCATION:Premier Sports Court 2
CONTACT:
SUMMARY:Explosion White VS. Develup Orange Riefenstahl
DESCRIPTION:League Name: 2024 Premier Basketball Boys JV Fall League\nGame 
 Type: Regular\nGame Status: Complete\nHome Team: Explosion White\nAway Tea
 m: Develup Orange Riefenstahl\nHome Score: 72\nAway Score: 42
END:VEVENT
BEGIN:VEVENT
UID:15964972@ezleagues.ezfacility.com
DTSTAMP:20260426T034932Z
CREATED:20260426T034932Z
DTSTART:20241102T203500Z
DTEND:20241102T213500Z
LOCATION:Premier Sports Court 2
CONTACT:
SUMMARY:Rare Elite 10 (Butch) VS. Explosion White
DESCRIPTION:League Name: 2024 Premier Basketball Boys JV Fall League\nGame 
 Type: Regular\nGame Status: Complete\nHome Team: Rare Elite 10 (Butch)\nAw
 ay Team: Explosion White\nHome Score: 57\nAway Score: 41
END:VEVENT
BEGIN:VEVENT
UID:15964986@ezleagues.ezfacility.com
DTSTAMP:20260426T034932Z
CREATED:20260426T034932Z
DTSTART:20241105T012000Z
DTEND:20241105T022000Z
LOCATION:Premier Sports Court 2
CONTACT:
SUMMARY:Explosion White VS. At The Buzzer
DESCRIPTION:League Name: 2024 Premier Basketball Boys JV Fall League\nGame 
 Type: Regular\nGame Status: Complete\nHome Team: Explosion White\nAway Tea
 m: At The Buzzer\nHome Score: 63\nAway Score: 65
END:VEVENT
END:VCALENDAR
