BEGIN:VCALENDAR
VERSION:2.0
PRODID:-//EZFacility.com, Inc.//EZL 2.5.5.28621
BEGIN:VEVENT
UID:16044523@ezleagues.ezfacility.com
DTSTAMP:20260422T143810Z
CREATED:20260422T143810Z
DTSTART:20241123T130000Z
DTEND:20241123T135000Z
LOCATION:Premier Sports Court 3
CONTACT:
SUMMARY:2nd VS. 4th
DESCRIPTION:League Name: County Basketball\nGame Type: Regular\nGame Status
 : Complete\nHome Team: 2nd\nAway Team: 4th\nHome Score: 51\nAway Score: 48
END:VEVENT
BEGIN:VEVENT
UID:16044557@ezleagues.ezfacility.com
DTSTAMP:20260422T143810Z
CREATED:20260422T143810Z
DTSTART:20241207T120000Z
DTEND:20241207T125000Z
LOCATION:Premier Sports Court 3
CONTACT:
SUMMARY:1st VS. 4th
DESCRIPTION:League Name: County Basketball\nGame Type: Regular\nGame Status
 : Complete\nHome Team: 1st\nAway Team: 4th\nHome Score: 42\nAway Score: 57
END:VEVENT
BEGIN:VEVENT
UID:16044563@ezleagues.ezfacility.com
DTSTAMP:20260422T143810Z
CREATED:20260422T143810Z
DTSTART:20241214T130000Z
DTEND:20241214T135000Z
LOCATION:Premier Sports Court 3
CONTACT:
SUMMARY:5th VS. 4th
DESCRIPTION:League Name: County Basketball\nGame Type: Regular\nGame Status
 : Complete\nHome Team: 5th\nAway Team: 4th\nHome Score: 28\nAway Score: 46
END:VEVENT
BEGIN:VEVENT
UID:16044572@ezleagues.ezfacility.com
DTSTAMP:20260422T143810Z
CREATED:20260422T143810Z
DTSTART:20241221T120000Z
DTEND:20241221T125000Z
LOCATION:Premier Sports Court 2
CONTACT:
SUMMARY:3rd VS. 4th
DESCRIPTION:League Name: County Basketball\nGame Type: Regular\nGame Status
 : Complete\nHome Team: 3rd\nAway Team: 4th\nHome Score: 63\nAway Score: 50
END:VEVENT
BEGIN:VEVENT
UID:16044582@ezleagues.ezfacility.com
DTSTAMP:20260422T143810Z
CREATED:20260422T143810Z
DTSTART:20250104T130000Z
DTEND:20250104T135000Z
LOCATION:Premier Sports Court 3
CONTACT:
SUMMARY:Sheriff's VS. 4th
DESCRIPTION:League Name: County Basketball\nGame Type: Regular\nGame Status
 : Complete\nHome Team: Sheriff's\nAway Team: 4th\nHome Score: 47\nAway Sco
 re: 44
END:VEVENT
BEGIN:VEVENT
UID:16044589@ezleagues.ezfacility.com
DTSTAMP:20260422T143810Z
CREATED:20260422T143810Z
DTSTART:20250111T120000Z
DTEND:20250111T125000Z
LOCATION:Premier Sports Court 3
CONTACT:
SUMMARY:7th VS. 4th
DESCRIPTION:League Name: County Basketball\nGame Type: Regular\nGame Status
 : Complete\nHome Team: 7th\nAway Team: 4th\nHome Score: 56\nAway Score: 60
END:VEVENT
BEGIN:VEVENT
UID:16044598@ezleagues.ezfacility.com
DTSTAMP:20260422T143810Z
CREATED:20260422T143810Z
DTSTART:20250118T130000Z
DTEND:20250118T135000Z
LOCATION:Premier Sports Court 2
CONTACT:
SUMMARY:6th VS. 4th
DESCRIPTION:League Name: County Basketball\nGame Type: Regular\nGame Status
 : Complete\nHome Team: 6th\nAway Team: 4th\nHome Score: 37\nAway Score: 50
END:VEVENT
BEGIN:VEVENT
UID:16044602@ezleagues.ezfacility.com
DTSTAMP:20260422T143810Z
CREATED:20260422T143810Z
DTSTART:20250125T120000Z
DTEND:20250125T125000Z
LOCATION:Premier Sports Court 2
CONTACT:
SUMMARY:4th VS. Command
DESCRIPTION:League Name: County Basketball\nGame Type: Regular\nGame Status
 : Complete\nHome Team: 4th\nAway Team: Command\nHome Score: 48\nAway Score
 : 58
END:VEVENT
END:VCALENDAR
