BEGIN:VCALENDAR
VERSION:2.0
PRODID:-//EZFacility.com, Inc.//EZL 2.5.5.28621
BEGIN:VEVENT
UID:16051972@ezleagues.ezfacility.com
DTSTAMP:20260424T221557Z
CREATED:20260424T221557Z
DTSTART:20241116T010000Z
DTEND:20241116T020000Z
LOCATION:Harmans Premier Field #4
CONTACT:
SUMMARY:Lightning - red VS. Liverpool - white/black
DESCRIPTION:League Name: Fri Moms D2\nGame Type: Regular\nGame Status: Comp
 lete\nHome Team: Lightning - red\nAway Team: Liverpool - white/black\nHome
  Score: 3\nAway Score: 6
END:VEVENT
BEGIN:VEVENT
UID:16051977@ezleagues.ezfacility.com
DTSTAMP:20260424T221557Z
CREATED:20260424T221557Z
DTSTART:20241123T000000Z
DTEND:20241123T010000Z
LOCATION:Harmans Premier Field #4
CONTACT:
SUMMARY:Liverpool - white/black VS. The International Ladies
DESCRIPTION:League Name: Fri Moms D2\nGame Type: Regular\nGame Status: Comp
 lete\nHome Team: Liverpool - white/black\nAway Team: The International Lad
 ies\nHome Score: 10\nAway Score: 2
END:VEVENT
BEGIN:VEVENT
UID:16051982@ezleagues.ezfacility.com
DTSTAMP:20260424T221557Z
CREATED:20260424T221557Z
DTSTART:20241207T010000Z
DTEND:20241207T020000Z
LOCATION:Harmans Premier Field #4
CONTACT:
SUMMARY:Liverpool - white/black VS. ADJE - gray
DESCRIPTION:League Name: Fri Moms D2\nGame Type: Regular\nGame Status: Comp
 lete\nHome Team: Liverpool - white/black\nAway Team: ADJE - gray\nHome Sco
 re: 7\nAway Score: 6
END:VEVENT
BEGIN:VEVENT
UID:16051986@ezleagues.ezfacility.com
DTSTAMP:20260424T221557Z
CREATED:20260424T221557Z
DTSTART:20241214T020000Z
DTEND:20241214T030000Z
LOCATION:Harmans Premier Field #4
CONTACT:
SUMMARY:Union Azteca - black VS. Liverpool - white/black
DESCRIPTION:League Name: Fri Moms D2\nGame Type: Regular\nGame Status: Comp
 lete\nHome Team: Union Azteca - black\nAway Team: Liverpool - white/black\
 nHome Score: 7\nAway Score: 5
END:VEVENT
BEGIN:VEVENT
UID:16051989@ezleagues.ezfacility.com
DTSTAMP:20260424T221557Z
CREATED:20260424T221557Z
DTSTART:20241220T080000Z
DTEND:20241220T090000Z
LOCATION:Harmans Premier Field #4
CONTACT:
SUMMARY:Lady Ballers - green VS. Liverpool - white/black
DESCRIPTION:League Name: Fri Moms D2\nGame Type: Regular\nGame Status: Comp
 lete\nHome Team: Lady Ballers - green\nAway Team: Liverpool - white/black\
 nHome Score: 3\nAway Score: 0
END:VEVENT
BEGIN:VEVENT
UID:16051992@ezleagues.ezfacility.com
DTSTAMP:20260424T221557Z
CREATED:20260424T221557Z
DTSTART:20250104T020000Z
DTEND:20250104T030000Z
LOCATION:Harmans Premier Field #4
CONTACT:
SUMMARY:Las Toxicas - pink/white VS. Liverpool - white/black
DESCRIPTION:League Name: Fri Moms D2\nGame Type: Regular\nGame Status: Comp
 lete\nHome Team: Las Toxicas - pink/white\nAway Team: Liverpool - white/bl
 ack\nHome Score: 0\nAway Score: 0
END:VEVENT
BEGIN:VEVENT
UID:16051995@ezleagues.ezfacility.com
DTSTAMP:20260424T221557Z
CREATED:20260424T221557Z
DTSTART:20250111T030000Z
DTEND:20250111T040000Z
LOCATION:Harmans Premier Field #4
CONTACT:
SUMMARY:Liverpool - white/black VS. Baltimore FC - blue/white
DESCRIPTION:League Name: Fri Moms D2\nGame Type: Regular\nGame Status: Comp
 lete\nHome Team: Liverpool - white/black\nAway Team: Baltimore FC - blue/w
 hite\nHome Score: 6\nAway Score: 3
END:VEVENT
BEGIN:VEVENT
UID:16052000@ezleagues.ezfacility.com
DTSTAMP:20260424T221557Z
CREATED:20260424T221557Z
DTSTART:20250117T080000Z
DTEND:20250117T090000Z
LOCATION:Harmans Premier Field #4
CONTACT:
SUMMARY:Liverpool - white/black VS. Lightning - red
DESCRIPTION:League Name: Fri Moms D2\nGame Type: Regular\nGame Status: Comp
 lete\nHome Team: Liverpool - white/black\nAway Team: Lightning - red\nHome
  Score: 0\nAway Score: 3
END:VEVENT
BEGIN:VEVENT
UID:16052005@ezleagues.ezfacility.com
DTSTAMP:20260424T221557Z
CREATED:20260424T221557Z
DTSTART:20250125T000000Z
DTEND:20250125T010000Z
LOCATION:Harmans Premier Field #4
CONTACT:
SUMMARY:Liverpool - white/black VS. The International Ladies
DESCRIPTION:League Name: Fri Moms D2\nGame Type: Regular\nGame Status: Comp
 lete\nHome Team: Liverpool - white/black\nAway Team: The International Lad
 ies\nHome Score: 4\nAway Score: 2
END:VEVENT
END:VCALENDAR
