BEGIN:VCALENDAR
VERSION:2.0
PRODID:-//EZFacility.com, Inc.//EZL 2.5.5.28621
BEGIN:VEVENT
UID:16046304@ezleagues.ezfacility.com
DTSTAMP:20260426T033903Z
CREATED:20260426T033903Z
DTSTART:20241208T004500Z
DTEND:20241208T012800Z
LOCATION:Field 2
CONTACT:
SUMMARY:NSA 2013 Boys Black  VS. Galaxy 2014 Boys Blue
DESCRIPTION:League Name: Travel Soccer-Boys-2013\nGame Type: Regular\nGame 
 Status: Complete\nHome Team: NSA 2013 Boys Black \nAway Team: Galaxy 2014 
 Boys Blue\nHome Score: 0\nAway Score: 2
END:VEVENT
BEGIN:VEVENT
UID:16046315@ezleagues.ezfacility.com
DTSTAMP:20260426T033903Z
CREATED:20260426T033903Z
DTSTART:20241222T134500Z
DTEND:20241222T142800Z
LOCATION:Field 2
CONTACT:
SUMMARY:Galaxy 2014 Boys Blue VS. West Chicago F.C. 2014 Boys
DESCRIPTION:League Name: Travel Soccer-Boys-2013\nGame Type: Regular\nGame 
 Status: Complete\nHome Team: Galaxy 2014 Boys Blue\nAway Team: West Chicag
 o F.C. 2014 Boys\nHome Score: 0\nAway Score: 6
END:VEVENT
BEGIN:VEVENT
UID:16046331@ezleagues.ezfacility.com
DTSTAMP:20260426T033903Z
CREATED:20260426T033903Z
DTSTART:20250105T173000Z
DTEND:20250105T181300Z
LOCATION:Field 2
CONTACT:
SUMMARY:Wheaton United 2013G Academy VS. Galaxy 2014 Boys Blue
DESCRIPTION:League Name: Travel Soccer-Boys-2013\nGame Type: Regular\nGame 
 Status: Complete\nHome Team: Wheaton United 2013G Academy\nAway Team: Gala
 xy 2014 Boys Blue\nHome Score: 2\nAway Score: 3
END:VEVENT
BEGIN:VEVENT
UID:16046337@ezleagues.ezfacility.com
DTSTAMP:20260426T033903Z
CREATED:20260426T033903Z
DTSTART:20250118T223000Z
DTEND:20250118T231300Z
LOCATION:Field 2
CONTACT:
SUMMARY:Galaxy 2014 Boys Blue VS. Sonic United 2013
DESCRIPTION:League Name: Travel Soccer-Boys-2013\nGame Type: Regular\nGame 
 Status: Complete\nHome Team: Galaxy 2014 Boys Blue\nAway Team: Sonic Unite
 d 2013\nHome Score: 7\nAway Score: 1
END:VEVENT
BEGIN:VEVENT
UID:16046347@ezleagues.ezfacility.com
DTSTAMP:20260426T033903Z
CREATED:20260426T033903Z
DTSTART:20250202T013000Z
DTEND:20250202T021300Z
LOCATION:Field 2
CONTACT:
SUMMARY:Galaxy 2014 Boys Blue VS. OLYMPIACOS BU12PR PREMIER
DESCRIPTION:League Name: Travel Soccer-Boys-2013\nGame Type: Regular\nGame 
 Status: Complete\nHome Team: Galaxy 2014 Boys Blue\nAway Team: OLYMPIACOS 
 BU12PR PREMIER\nHome Score: 2\nAway Score: 1
END:VEVENT
BEGIN:VEVENT
UID:16046346@ezleagues.ezfacility.com
DTSTAMP:20260426T033903Z
CREATED:20260426T033903Z
DTSTART:20250215T233000Z
DTEND:20250216T001300Z
LOCATION:Field 1
CONTACT:
SUMMARY:Galaxy 2014 Boys Blue VS. Eclipse 2014 Pre-ECNL Darien Boys
DESCRIPTION:League Name: Travel Soccer-Boys-2013\nGame Type: Regular\nGame 
 Status: Complete\nHome Team: Galaxy 2014 Boys Blue\nAway Team: Eclipse 201
 4 Pre-ECNL Darien Boys\nHome Score: 4\nAway Score: 0
END:VEVENT
BEGIN:VEVENT
UID:16046354@ezleagues.ezfacility.com
DTSTAMP:20260426T033903Z
CREATED:20260426T033903Z
DTSTART:20250222T220000Z
DTEND:20250222T224300Z
LOCATION:Field 1
CONTACT:
SUMMARY:Galaxy 2014 Boys Blue VS. Eclipse 2014 Pre-ECNL Naperville Boys
DESCRIPTION:League Name: Travel Soccer-Boys-2013\nGame Type: Regular\nGame 
 Status: Complete\nHome Team: Galaxy 2014 Boys Blue\nAway Team: Eclipse 201
 4 Pre-ECNL Naperville Boys\nHome Score: 1\nAway Score: 3
END:VEVENT
BEGIN:VEVENT
UID:16046367@ezleagues.ezfacility.com
DTSTAMP:20260426T033903Z
CREATED:20260426T033903Z
DTSTART:20250302T151500Z
DTEND:20250302T155800Z
LOCATION:Field 2
CONTACT:
SUMMARY:2013 Addison United  VS. Galaxy 2014 Boys Blue
DESCRIPTION:League Name: Travel Soccer-Boys-2013\nGame Type: Regular\nGame 
 Status: Complete\nHome Team: 2013 Addison United \nAway Team: Galaxy 2014 
 Boys Blue\nHome Score: 3\nAway Score: 5
END:VEVENT
BEGIN:VEVENT
UID:16046326@ezleagues.ezfacility.com
DTSTAMP:20260426T033903Z
CREATED:20260426T033903Z
DTSTART:20250308T231500Z
DTEND:20250308T235800Z
LOCATION:Field 2
CONTACT:
SUMMARY:Carol Stream Panthers SC 2013 PA1 VS. Galaxy 2014 Boys Blue
DESCRIPTION:League Name: Travel Soccer-Boys-2013\nGame Type: Regular\nGame 
 Status: Complete\nHome Team: Carol Stream Panthers SC 2013 PA1\nAway Team:
  Galaxy 2014 Boys Blue\nHome Score: 3\nAway Score: 2
END:VEVENT
BEGIN:VEVENT
UID:16046375@ezleagues.ezfacility.com
DTSTAMP:20260426T033903Z
CREATED:20260426T033903Z
DTSTART:20250316T124500Z
DTEND:20250316T132800Z
LOCATION:Field 2
CONTACT:
SUMMARY:Black Wolves FC 2013 VS. Galaxy 2014 Boys Blue
DESCRIPTION:League Name: Travel Soccer-Boys-2013\nGame Type: Regular\nGame 
 Status: Complete\nHome Team: Black Wolves FC 2013\nAway Team: Galaxy 2014 
 Boys Blue\nHome Score: 2\nAway Score: 1
END:VEVENT
END:VCALENDAR
