BEGIN:VCALENDAR
VERSION:2.0
PRODID:-//EZFacility.com, Inc.//EZL 2.5.5.28621
BEGIN:VEVENT
UID:16046180@ezleagues.ezfacility.com
DTSTAMP:20260424T043255Z
CREATED:20260424T043255Z
DTSTART:20241215T181500Z
DTEND:20241215T185800Z
LOCATION:Field 2
CONTACT:
SUMMARY:Eclipse 2014 Solar Darien Boys VS. 2015/2014 Addison United 
DESCRIPTION:League Name: Travel Soccer-Boys-2014\nGame Type: Regular\nGame 
 Status: Complete\nHome Team: Eclipse 2014 Solar Darien Boys\nAway Team: 20
 15/2014 Addison United \nHome Score: 2\nAway Score: 3
END:VEVENT
BEGIN:VEVENT
UID:16046187@ezleagues.ezfacility.com
DTSTAMP:20260424T043255Z
CREATED:20260424T043255Z
DTSTART:20241222T210000Z
DTEND:20241222T214300Z
LOCATION:Field 1
CONTACT:
SUMMARY:2015/2014 Addison United  VS. Chicago Strikers 2014 Boys Red
DESCRIPTION:League Name: Travel Soccer-Boys-2014\nGame Type: Regular\nGame 
 Status: Complete\nHome Team: 2015/2014 Addison United \nAway Team: Chicago
  Strikers 2014 Boys Red\nHome Score: 2\nAway Score: 2
END:VEVENT
BEGIN:VEVENT
UID:16046200@ezleagues.ezfacility.com
DTSTAMP:20260424T043255Z
CREATED:20260424T043255Z
DTSTART:20250105T143000Z
DTEND:20250105T151300Z
LOCATION:Field 2
CONTACT:
SUMMARY:Glen Ellyn Lakers 2014B Premier VS. 2015/2014 Addison United 
DESCRIPTION:League Name: Travel Soccer-Boys-2014\nGame Type: Regular\nGame 
 Status: Complete\nHome Team: Glen Ellyn Lakers 2014B Premier\nAway Team: 2
 015/2014 Addison United \nHome Score: 5\nAway Score: 3
END:VEVENT
BEGIN:VEVENT
UID:16046205@ezleagues.ezfacility.com
DTSTAMP:20260424T043255Z
CREATED:20260424T043255Z
DTSTART:20250112T194500Z
DTEND:20250112T202800Z
LOCATION:Field 2
CONTACT:
SUMMARY:2015/2014 Addison United  VS. Midway Soccer Club 2014 Boys
DESCRIPTION:League Name: Travel Soccer-Boys-2014\nGame Type: Regular\nGame 
 Status: Complete\nHome Team: 2015/2014 Addison United \nAway Team: Midway 
 Soccer Club 2014 Boys\nHome Score: 5\nAway Score: 8
END:VEVENT
BEGIN:VEVENT
UID:16046222@ezleagues.ezfacility.com
DTSTAMP:20260424T043255Z
CREATED:20260424T043255Z
DTSTART:20250126T160000Z
DTEND:20250126T164300Z
LOCATION:Field 2
CONTACT:
SUMMARY:NSA 2014 Boys Black I VS. 2015/2014 Addison United 
DESCRIPTION:League Name: Travel Soccer-Boys-2014\nGame Type: Regular\nGame 
 Status: Complete\nHome Team: NSA 2014 Boys Black I\nAway Team: 2015/2014 A
 ddison United \nHome Score: 6\nAway Score: 2
END:VEVENT
BEGIN:VEVENT
UID:16046229@ezleagues.ezfacility.com
DTSTAMP:20260424T043255Z
CREATED:20260424T043255Z
DTSTART:20250202T211500Z
DTEND:20250202T215800Z
LOCATION:Field 2
CONTACT:
SUMMARY:2015/2014 Addison United  VS. Carol Stream Panthers 2014 Academy
DESCRIPTION:League Name: Travel Soccer-Boys-2014\nGame Type: Regular\nGame 
 Status: Complete\nHome Team: 2015/2014 Addison United \nAway Team: Carol S
 tream Panthers 2014 Academy\nHome Score: 3\nAway Score: 6
END:VEVENT
BEGIN:VEVENT
UID:16046192@ezleagues.ezfacility.com
DTSTAMP:20260424T043255Z
CREATED:20260424T043255Z
DTSTART:20250216T220000Z
DTEND:20250216T224300Z
LOCATION:Field 2
CONTACT:
SUMMARY:2015/2014 Addison United  VS. Black Wolves FC 2014
DESCRIPTION:League Name: Travel Soccer-Boys-2014\nGame Type: Regular\nGame 
 Status: Complete\nHome Team: 2015/2014 Addison United \nAway Team: Black W
 olves FC 2014\nHome Score: 3\nAway Score: 0
END:VEVENT
BEGIN:VEVENT
UID:16046202@ezleagues.ezfacility.com
DTSTAMP:20260424T043255Z
CREATED:20260424T043255Z
DTSTART:20250223T194500Z
DTEND:20250223T202800Z
LOCATION:Field 2
CONTACT:
SUMMARY:NSA 2014 Boys Black II VS. 2015/2014 Addison United 
DESCRIPTION:League Name: Travel Soccer-Boys-2014\nGame Type: Regular\nGame 
 Status: Complete\nHome Team: NSA 2014 Boys Black II\nAway Team: 2015/2014 
 Addison United \nHome Score: 3\nAway Score: 7
END:VEVENT
BEGIN:VEVENT
UID:16046219@ezleagues.ezfacility.com
DTSTAMP:20260424T043255Z
CREATED:20260424T043255Z
DTSTART:20250309T180000Z
DTEND:20250309T184300Z
LOCATION:Field 2
CONTACT:
SUMMARY:2015/2014 Addison United  VS. Chicago Strikers 2014 Boys Blue
DESCRIPTION:League Name: Travel Soccer-Boys-2014\nGame Type: Regular\nGame 
 Status: Complete\nHome Team: 2015/2014 Addison United \nAway Team: Chicago
  Strikers 2014 Boys Blue\nHome Score: 5\nAway Score: 2
END:VEVENT
BEGIN:VEVENT
UID:16046194@ezleagues.ezfacility.com
DTSTAMP:20260424T043255Z
CREATED:20260424T043255Z
DTSTART:20250323T193000Z
DTEND:20250323T201300Z
LOCATION:Field 2
CONTACT:
SUMMARY:OLYMPIACOS BU11PR SELECT VS. 2015/2014 Addison United 
DESCRIPTION:League Name: Travel Soccer-Boys-2014\nGame Type: Regular\nGame 
 Status: Complete\nHome Team: OLYMPIACOS BU11PR SELECT\nAway Team: 2015/201
 4 Addison United \nHome Score: 4\nAway Score: 1
END:VEVENT
END:VCALENDAR
