BEGIN:VCALENDAR
VERSION:2.0
PRODID:-//EZFacility.com, Inc.//EZL 2.5.5.28621
BEGIN:VEVENT
UID:16047416@ezleagues.ezfacility.com
DTSTAMP:20260424T043913Z
CREATED:20260424T043913Z
DTSTART:20241122T043000Z
DTEND:20241122T052000Z
LOCATION:TBKBSC South indoor B
CONTACT:
SUMMARY:Park rangers VS. Scrub squad
DESCRIPTION:League Name: Winter 2024-2025- Men's Adult Soccer League Sessio
 n 1\nGame Type: Regular\nGame Status: Complete\nHome Team: Park rangers\nA
 way Team: Scrub squad\nHome Score: 5\nAway Score: 5
END:VEVENT
BEGIN:VEVENT
UID:16047434@ezleagues.ezfacility.com
DTSTAMP:20260424T043913Z
CREATED:20260424T043913Z
DTSTART:20241206T043000Z
DTEND:20241206T052000Z
LOCATION:TBKBSC North indoor A
CONTACT:
SUMMARY:Park rangers VS. Rovers FC
DESCRIPTION:League Name: Winter 2024-2025- Men's Adult Soccer League Sessio
 n 1\nGame Type: Regular\nGame Status: Complete\nHome Team: Park rangers\nA
 way Team: Rovers FC\nHome Score: 9\nAway Score: 3
END:VEVENT
BEGIN:VEVENT
UID:16047442@ezleagues.ezfacility.com
DTSTAMP:20260424T043913Z
CREATED:20260424T043913Z
DTSTART:20241213T043000Z
DTEND:20241213T052000Z
LOCATION:TBKBSC South indoor B
CONTACT:
SUMMARY:Mandem FC VS. Park rangers
DESCRIPTION:League Name: Winter 2024-2025- Men's Adult Soccer League Sessio
 n 1\nGame Type: Regular\nGame Status: Complete\nHome Team: Mandem FC\nAway
  Team: Park rangers\nHome Score: 5\nAway Score: 7
END:VEVENT
BEGIN:VEVENT
UID:16047449@ezleagues.ezfacility.com
DTSTAMP:20260424T043913Z
CREATED:20260424T043913Z
DTSTART:20241220T043000Z
DTEND:20241220T052000Z
LOCATION:TBKCSB South indoor D
CONTACT:
SUMMARY:EMFC VS. Park rangers
DESCRIPTION:League Name: Winter 2024-2025- Men's Adult Soccer League Sessio
 n 1\nGame Type: Regular\nGame Status: Complete\nHome Team: EMFC\nAway Team
 : Park rangers\nHome Score: 2\nAway Score: 9
END:VEVENT
BEGIN:VEVENT
UID:16047463@ezleagues.ezfacility.com
DTSTAMP:20260424T043913Z
CREATED:20260424T043913Z
DTSTART:20250110T020000Z
DTEND:20250110T025000Z
LOCATION:TBKBSC South indoor B
CONTACT:
SUMMARY:LÉquipe FC VS. Park rangers
DESCRIPTION:League Name: Winter 2024-2025- Men's Adult Soccer League Sessio
 n 1\nGame Type: Regular\nGame Status: Complete\nHome Team: LÉquipe FC\nAw
 ay Team: Park rangers\nHome Score: 4\nAway Score: 10
END:VEVENT
BEGIN:VEVENT
UID:16047425@ezleagues.ezfacility.com
DTSTAMP:20260424T043913Z
CREATED:20260424T043913Z
DTSTART:20250117T025000Z
DTEND:20250117T034000Z
LOCATION:Forest Grove Sports Complex C
CONTACT:
SUMMARY:Park rangers VS. Washed FC
DESCRIPTION:League Name: Winter 2024-2025- Men's Adult Soccer League Sessio
 n 1\nGame Type: Regular\nGame Status: Complete\nHome Team: Park rangers\nA
 way Team: Washed FC\nHome Score: 3\nAway Score: 6
END:VEVENT
END:VCALENDAR
