BEGIN:VCALENDAR
VERSION:2.0
PRODID:-//EZFacility.com, Inc.//EZL 2.5.5.28621
BEGIN:VEVENT
UID:16050665@ezleagues.ezfacility.com
DTSTAMP:20260424T184908Z
CREATED:20260424T184908Z
DTSTART:20241119T020000Z
DTEND:20241119T030000Z
LOCATION:Court 3
CONTACT:
SUMMARY:Gone Fishin' VS. Chewblockas
DESCRIPTION:League Name: S5 Mon Coed 4's VB Nov 18, 2024\nGame Type: Regula
 r\nGame Status: Complete\nHome Team: Gone Fishin'\nAway Team: Chewblockas\
 nHome Score: 1\nAway Score: 0
END:VEVENT
BEGIN:VEVENT
UID:16050671@ezleagues.ezfacility.com
DTSTAMP:20260424T184908Z
CREATED:20260424T184908Z
DTSTART:20241119T030000Z
DTEND:20241119T040000Z
LOCATION:Court 4
CONTACT:
SUMMARY:Spike this VS. Chewblockas
DESCRIPTION:League Name: S5 Mon Coed 4's VB Nov 18, 2024\nGame Type: Regula
 r\nGame Status: Complete\nHome Team: Spike this\nAway Team: Chewblockas\nH
 ome Score: 1\nAway Score: 0
END:VEVENT
BEGIN:VEVENT
UID:16050677@ezleagues.ezfacility.com
DTSTAMP:20260424T184908Z
CREATED:20260424T184908Z
DTSTART:20241126T020000Z
DTEND:20241126T030000Z
LOCATION:Court 2
CONTACT:
SUMMARY:Cloud Surfers VS. Chewblockas
DESCRIPTION:League Name: S5 Mon Coed 4's VB Nov 18, 2024\nGame Type: Regula
 r\nGame Status: Complete\nHome Team: Cloud Surfers\nAway Team: Chewblockas
 \nHome Score: 0\nAway Score: 1
END:VEVENT
BEGIN:VEVENT
UID:16050682@ezleagues.ezfacility.com
DTSTAMP:20260424T184908Z
CREATED:20260424T184908Z
DTSTART:20241126T030000Z
DTEND:20241126T040000Z
LOCATION:Court 5
CONTACT:
SUMMARY:Chewblockas VS. Balls Deep
DESCRIPTION:League Name: S5 Mon Coed 4's VB Nov 18, 2024\nGame Type: Regula
 r\nGame Status: Complete\nHome Team: Chewblockas\nAway Team: Balls Deep\nH
 ome Score: 0\nAway Score: 1
END:VEVENT
BEGIN:VEVENT
UID:16050686@ezleagues.ezfacility.com
DTSTAMP:20260424T184908Z
CREATED:20260424T184908Z
DTSTART:20241203T020000Z
DTEND:20241203T030000Z
LOCATION:Court 4
CONTACT:
SUMMARY:Chewblockas VS. Clever Beaches
DESCRIPTION:League Name: S5 Mon Coed 4's VB Nov 18, 2024\nGame Type: Regula
 r\nGame Status: Complete\nHome Team: Chewblockas\nAway Team: Clever Beache
 s\nHome Score: 1\nAway Score: 0
END:VEVENT
BEGIN:VEVENT
UID:16050690@ezleagues.ezfacility.com
DTSTAMP:20260424T184908Z
CREATED:20260424T184908Z
DTSTART:20241203T030000Z
DTEND:20241203T040000Z
LOCATION:Court 3
CONTACT:
SUMMARY:Sets on the Beach VS. Chewblockas
DESCRIPTION:League Name: S5 Mon Coed 4's VB Nov 18, 2024\nGame Type: Regula
 r\nGame Status: Complete\nHome Team: Sets on the Beach\nAway Team: Chewblo
 ckas\nHome Score: 0\nAway Score: 1
END:VEVENT
BEGIN:VEVENT
UID:16050694@ezleagues.ezfacility.com
DTSTAMP:20260424T184908Z
CREATED:20260424T184908Z
DTSTART:20241210T020000Z
DTEND:20241210T030000Z
LOCATION:Court 2
CONTACT:
SUMMARY:I'd Hit That VS. Chewblockas
DESCRIPTION:League Name: S5 Mon Coed 4's VB Nov 18, 2024\nGame Type: Regula
 r\nGame Status: Complete\nHome Team: I'd Hit That\nAway Team: Chewblockas\
 nHome Score: 0\nAway Score: 1
END:VEVENT
BEGIN:VEVENT
UID:16050698@ezleagues.ezfacility.com
DTSTAMP:20260424T184908Z
CREATED:20260424T184908Z
DTSTART:20241210T030000Z
DTEND:20241210T040000Z
LOCATION:Court 1
CONTACT:
SUMMARY:Chewblockas VS. Aceholes
DESCRIPTION:League Name: S5 Mon Coed 4's VB Nov 18, 2024\nGame Type: Regula
 r\nGame Status: Complete\nHome Team: Chewblockas\nAway Team: Aceholes\nHom
 e Score: 1\nAway Score: 0
END:VEVENT
BEGIN:VEVENT
UID:16050704@ezleagues.ezfacility.com
DTSTAMP:20260424T184908Z
CREATED:20260424T184908Z
DTSTART:20241217T020000Z
DTEND:20241217T030000Z
LOCATION:Court 1
CONTACT:
SUMMARY:Chewblockas VS. Casual Sets
DESCRIPTION:League Name: S5 Mon Coed 4's VB Nov 18, 2024\nGame Type: Regula
 r\nGame Status: Complete\nHome Team: Chewblockas\nAway Team: Casual Sets\n
 Home Score: 1\nAway Score: 0
END:VEVENT
BEGIN:VEVENT
UID:16050710@ezleagues.ezfacility.com
DTSTAMP:20260424T184908Z
CREATED:20260424T184908Z
DTSTART:20241217T030000Z
DTEND:20241217T040000Z
LOCATION:Court 5
CONTACT:
SUMMARY:Chewblockas VS. Gone Fishin'
DESCRIPTION:League Name: S5 Mon Coed 4's VB Nov 18, 2024\nGame Type: Regula
 r\nGame Status: Complete\nHome Team: Chewblockas\nAway Team: Gone Fishin'\
 nHome Score: 1\nAway Score: 0
END:VEVENT
BEGIN:VEVENT
UID:16050716@ezleagues.ezfacility.com
DTSTAMP:20260424T184908Z
CREATED:20260424T184908Z
DTSTART:20250107T020000Z
DTEND:20250107T030000Z
LOCATION:Court 4
CONTACT:
SUMMARY:Chewblockas VS. Spike this
DESCRIPTION:League Name: S5 Mon Coed 4's VB Nov 18, 2024\nGame Type: Regula
 r\nGame Status: Complete\nHome Team: Chewblockas\nAway Team: Spike this\nH
 ome Score: 1\nAway Score: 0
END:VEVENT
BEGIN:VEVENT
UID:16050722@ezleagues.ezfacility.com
DTSTAMP:20260424T184908Z
CREATED:20260424T184908Z
DTSTART:20250107T030000Z
DTEND:20250107T040000Z
LOCATION:Court 3
CONTACT:
SUMMARY:Chewblockas VS. Cloud Surfers
DESCRIPTION:League Name: S5 Mon Coed 4's VB Nov 18, 2024\nGame Type: Regula
 r\nGame Status: Complete\nHome Team: Chewblockas\nAway Team: Cloud Surfers
 \nHome Score: 1\nAway Score: 0
END:VEVENT
BEGIN:VEVENT
UID:16050727@ezleagues.ezfacility.com
DTSTAMP:20260424T184908Z
CREATED:20260424T184908Z
DTSTART:20250114T020000Z
DTEND:20250114T030000Z
LOCATION:Court 5
CONTACT:
SUMMARY:Balls Deep VS. Chewblockas
DESCRIPTION:League Name: S5 Mon Coed 4's VB Nov 18, 2024\nGame Type: Regula
 r\nGame Status: Complete\nHome Team: Balls Deep\nAway Team: Chewblockas\nH
 ome Score: 0\nAway Score: 1
END:VEVENT
BEGIN:VEVENT
UID:16050731@ezleagues.ezfacility.com
DTSTAMP:20260424T184908Z
CREATED:20260424T184908Z
DTSTART:20250114T030000Z
DTEND:20250114T040000Z
LOCATION:Court 2
CONTACT:
SUMMARY:Clever Beaches VS. Chewblockas
DESCRIPTION:League Name: S5 Mon Coed 4's VB Nov 18, 2024\nGame Type: Regula
 r\nGame Status: Complete\nHome Team: Clever Beaches\nAway Team: Chewblocka
 s\nHome Score: 1\nAway Score: 0
END:VEVENT
END:VCALENDAR
