BEGIN:VCALENDAR
VERSION:2.0
PRODID:-//EZFacility.com, Inc.//EZL 2.5.5.28621
BEGIN:VEVENT
UID:16051654@ezleagues.ezfacility.com
DTSTAMP:20260426T034807Z
CREATED:20260426T034807Z
DTSTART:20241115T040000Z
DTEND:20241115T050000Z
LOCATION:Field 2
CONTACT:
SUMMARY:Extra Anejo VS. Relic FC
DESCRIPTION:League Name: Men's 40 and Over\nGame Type: Regular\nGame Status
 : Complete\nHome Team: Extra Anejo\nAway Team: Relic FC\nHome Score: 8\nAw
 ay Score: 2
END:VEVENT
BEGIN:VEVENT
UID:16051659@ezleagues.ezfacility.com
DTSTAMP:20260426T034807Z
CREATED:20260426T034807Z
DTSTART:20241122T055500Z
DTEND:20241122T065500Z
LOCATION:Field 1
CONTACT:
SUMMARY:Torrecillas F.C.  VS. Relic FC
DESCRIPTION:League Name: Men's 40 and Over\nGame Type: Regular\nGame Status
 : Complete\nHome Team: Torrecillas F.C. \nAway Team: Relic FC\nHome Score:
  5\nAway Score: 4
END:VEVENT
BEGIN:VEVENT
UID:16051669@ezleagues.ezfacility.com
DTSTAMP:20260426T034807Z
CREATED:20260426T034807Z
DTSTART:20241206T020000Z
DTEND:20241206T030000Z
LOCATION:Field 2
CONTACT:
SUMMARY:Los Platanos Viejos VS. Relic FC
DESCRIPTION:League Name: Men's 40 and Over\nGame Type: Regular\nGame Status
 : Complete\nHome Team: Los Platanos Viejos\nAway Team: Relic FC\nHome Scor
 e: 2\nAway Score: 2
END:VEVENT
BEGIN:VEVENT
UID:16051676@ezleagues.ezfacility.com
DTSTAMP:20260426T034807Z
CREATED:20260426T034807Z
DTSTART:20241213T020000Z
DTEND:20241213T030000Z
LOCATION:Field 2
CONTACT:
SUMMARY:Relic FC VS. Fosiles
DESCRIPTION:League Name: Men's 40 and Over\nGame Type: Regular\nGame Status
 : Complete\nHome Team: Relic FC\nAway Team: Fosiles\nHome Score: 1\nAway S
 core: 5
END:VEVENT
BEGIN:VEVENT
UID:16051683@ezleagues.ezfacility.com
DTSTAMP:20260426T034807Z
CREATED:20260426T034807Z
DTSTART:20241220T030000Z
DTEND:20241220T040000Z
LOCATION:Field 2
CONTACT:
SUMMARY:Relic FC VS. Cuervos F.C.
DESCRIPTION:League Name: Men's 40 and Over\nGame Type: Regular\nGame Status
 : Complete\nHome Team: Relic FC\nAway Team: Cuervos F.C.\nHome Score: 5\nA
 way Score: 8
END:VEVENT
BEGIN:VEVENT
UID:16051697@ezleagues.ezfacility.com
DTSTAMP:20260426T034807Z
CREATED:20260426T034807Z
DTSTART:20250103T050000Z
DTEND:20250103T060000Z
LOCATION:Field 2
CONTACT:
SUMMARY:Relic FC VS. Jacona
DESCRIPTION:League Name: Men's 40 and Over\nGame Type: Regular\nGame Status
 : Complete\nHome Team: Relic FC\nAway Team: Jacona\nHome Score: 12\nAway S
 core: 4
END:VEVENT
BEGIN:VEVENT
UID:16051664@ezleagues.ezfacility.com
DTSTAMP:20260426T034807Z
CREATED:20260426T034807Z
DTSTART:20250110T050000Z
DTEND:20250110T060000Z
LOCATION:Field 2
CONTACT:
SUMMARY:Artilleros  FC VS. Relic FC
DESCRIPTION:League Name: Men's 40 and Over\nGame Type: Regular\nGame Status
 : Complete\nHome Team: Artilleros  FC\nAway Team: Relic FC\nHome Score: 14
 \nAway Score: 0
END:VEVENT
BEGIN:VEVENT
UID:16051690@ezleagues.ezfacility.com
DTSTAMP:20260426T034807Z
CREATED:20260426T034807Z
DTSTART:20250117T040000Z
DTEND:20250117T050000Z
LOCATION:Field 2
CONTACT:
SUMMARY:Relic FC VS. Inter Modesto
DESCRIPTION:League Name: Men's 40 and Over\nGame Type: Regular\nGame Status
 : Complete\nHome Team: Relic FC\nAway Team: Inter Modesto\nHome Score: 0\n
 Away Score: 5
END:VEVENT
END:VCALENDAR
