BEGIN:VCALENDAR
VERSION:2.0
PRODID:-//EZFacility.com, Inc.//EZL 2.5.5.28621
BEGIN:VEVENT
UID:16105498@ezleagues.ezfacility.com
DTSTAMP:20260424T184838Z
CREATED:20260424T184838Z
DTSTART:20250105T164000Z
DTEND:20250105T173500Z
LOCATION:Soccer Field 3A
CONTACT:
SUMMARY:FC1974 U12G Select VS. FCX 2013 U12G Black
DESCRIPTION:League Name: YISL 2014/13 (U11/U12) Girls Group 1\nGame Type: R
 egular\nGame Status: Complete\nHome Team: FC1974 U12G Select\nAway Team: F
 CX 2013 U12G Black\nHome Score: 2\nAway Score: 5
END:VEVENT
BEGIN:VEVENT
UID:16105516@ezleagues.ezfacility.com
DTSTAMP:20260424T184838Z
CREATED:20260424T184838Z
DTSTART:20250112T211500Z
DTEND:20250112T221000Z
LOCATION:Soccer Field 3A
CONTACT:
SUMMARY:FCX 2013 U12G Black VS. FC Lake County 2014G Select 1
DESCRIPTION:League Name: YISL 2014/13 (U11/U12) Girls Group 1\nGame Type: R
 egular\nGame Status: Complete\nHome Team: FCX 2013 U12G Black\nAway Team: 
 FC Lake County 2014G Select 1\nHome Score: 0\nAway Score: 5
END:VEVENT
BEGIN:VEVENT
UID:16105486@ezleagues.ezfacility.com
DTSTAMP:20260424T184838Z
CREATED:20260424T184838Z
DTSTART:20250202T145000Z
DTEND:20250202T154500Z
LOCATION:Soccer Field 3A
CONTACT:
SUMMARY:FCX 2013 U12G Black VS. FC1974 U12G Select
DESCRIPTION:League Name: YISL 2014/13 (U11/U12) Girls Group 1\nGame Type: R
 egular\nGame Status: Complete\nHome Team: FCX 2013 U12G Black\nAway Team: 
 FC1974 U12G Select\nHome Score: 0\nAway Score: 4
END:VEVENT
BEGIN:VEVENT
UID:16105507@ezleagues.ezfacility.com
DTSTAMP:20260424T184838Z
CREATED:20260424T184838Z
DTSTART:20250216T192500Z
DTEND:20250216T202000Z
LOCATION:Soccer Field 1A
CONTACT:
SUMMARY:FCX 2013 U12G Black VS. IP-NUFC 2013 Girls Black
DESCRIPTION:League Name: YISL 2014/13 (U11/U12) Girls Group 1\nGame Type: R
 egular\nGame Status: Complete\nHome Team: FCX 2013 U12G Black\nAway Team: 
 IP-NUFC 2013 Girls Black\nHome Score: 5\nAway Score: 0
END:VEVENT
BEGIN:VEVENT
UID:16105512@ezleagues.ezfacility.com
DTSTAMP:20260424T184838Z
CREATED:20260424T184838Z
DTSTART:20250223T192500Z
DTEND:20250223T202000Z
LOCATION:Soccer Field 2A
CONTACT:
SUMMARY:FC Lake County 2014G Select 1 VS. FCX 2013 U12G Black
DESCRIPTION:League Name: YISL 2014/13 (U11/U12) Girls Group 1\nGame Type: R
 egular\nGame Status: Complete\nHome Team: FC Lake County 2014G Select 1\nA
 way Team: FCX 2013 U12G Black\nHome Score: 6\nAway Score: 2
END:VEVENT
BEGIN:VEVENT
UID:16105513@ezleagues.ezfacility.com
DTSTAMP:20260424T184838Z
CREATED:20260424T184838Z
DTSTART:20250302T221000Z
DTEND:20250302T230500Z
LOCATION:Soccer Field 1A
CONTACT:
SUMMARY:FCX 2013 U12G Black VS. Pegasus U11 Girls A
DESCRIPTION:League Name: YISL 2014/13 (U11/U12) Girls Group 1\nGame Type: R
 egular\nGame Status: Complete\nHome Team: FCX 2013 U12G Black\nAway Team: 
 Pegasus U11 Girls A\nHome Score: 0\nAway Score: 5
END:VEVENT
BEGIN:VEVENT
UID:16105510@ezleagues.ezfacility.com
DTSTAMP:20260424T184838Z
CREATED:20260424T184838Z
DTSTART:20250309T201500Z
DTEND:20250309T211000Z
LOCATION:Soccer Field 3A
CONTACT:
SUMMARY:FC1974 U12G Select VS. FCX 2013 U12G Black
DESCRIPTION:League Name: YISL 2014/13 (U11/U12) Girls Group 1\nGame Type: R
 egular\nGame Status: Complete\nHome Team: FC1974 U12G Select\nAway Team: F
 CX 2013 U12G Black\nHome Score: 3\nAway Score: 3
END:VEVENT
BEGIN:VEVENT
UID:16105514@ezleagues.ezfacility.com
DTSTAMP:20260424T184838Z
CREATED:20260424T184838Z
DTSTART:20250316T135000Z
DTEND:20250316T144500Z
LOCATION:Soccer Field 4A
CONTACT:
SUMMARY:IP-NUFC 2013 Girls Black VS. FCX 2013 U12G Black
DESCRIPTION:League Name: YISL 2014/13 (U11/U12) Girls Group 1\nGame Type: R
 egular\nGame Status: Complete\nHome Team: IP-NUFC 2013 Girls Black\nAway T
 eam: FCX 2013 U12G Black\nHome Score: 0\nAway Score: 3
END:VEVENT
END:VCALENDAR
