BEGIN:VCALENDAR
VERSION:2.0
PRODID:-//EZFacility.com, Inc.//EZL 2.5.5.28621
BEGIN:VEVENT
UID:16105453@ezleagues.ezfacility.com
DTSTAMP:20260420T100612Z
CREATED:20260420T100612Z
DTSTART:20250105T202000Z
DTEND:20250105T211500Z
LOCATION:Soccer Field 3A
CONTACT:
SUMMARY:Inferno 2014/15 Premier Girls VS. FC Lake County 2013G Select
DESCRIPTION:League Name: YISL 2014/13 (U11/U12) Girls Group 2\nGame Type: R
 egular\nGame Status: Complete\nHome Team: Inferno 2014/15 Premier Girls\nA
 way Team: FC Lake County 2013G Select\nHome Score: 0\nAway Score: 3
END:VEVENT
BEGIN:VEVENT
UID:16105458@ezleagues.ezfacility.com
DTSTAMP:20260420T100612Z
CREATED:20260420T100612Z
DTSTART:20250112T221000Z
DTEND:20250112T230500Z
LOCATION:Soccer Field 3A
CONTACT:
SUMMARY:FC Lake County 2013G Select VS. Pegasus U11 Girls B
DESCRIPTION:League Name: YISL 2014/13 (U11/U12) Girls Group 2\nGame Type: R
 egular\nGame Status: Complete\nHome Team: FC Lake County 2013G Select\nAwa
 y Team: Pegasus U11 Girls B\nHome Score: 3\nAway Score: 1
END:VEVENT
BEGIN:VEVENT
UID:16105463@ezleagues.ezfacility.com
DTSTAMP:20260420T100612Z
CREATED:20260420T100612Z
DTSTART:20250119T135500Z
DTEND:20250119T145000Z
LOCATION:Soccer Field 4A
CONTACT:
SUMMARY:FC Lake County 2013G Select VS. IP-NUFC 2014 Girls Black
DESCRIPTION:League Name: YISL 2014/13 (U11/U12) Girls Group 2\nGame Type: R
 egular\nGame Status: Pending\nHome Team: FC Lake County 2013G Select\nAway
  Team: IP-NUFC 2014 Girls Black\n
END:VEVENT
BEGIN:VEVENT
UID:16105470@ezleagues.ezfacility.com
DTSTAMP:20260420T100612Z
CREATED:20260420T100612Z
DTSTART:20250202T135500Z
DTEND:20250202T145000Z
LOCATION:Soccer Field 4A
CONTACT:
SUMMARY:FCX 2014 U11G Red VS. FC Lake County 2013G Select
DESCRIPTION:League Name: YISL 2014/13 (U11/U12) Girls Group 2\nGame Type: R
 egular\nGame Status: Complete\nHome Team: FCX 2014 U11G Red\nAway Team: FC
  Lake County 2013G Select\nHome Score: 2\nAway Score: 7
END:VEVENT
BEGIN:VEVENT
UID:16105467@ezleagues.ezfacility.com
DTSTAMP:20260420T100612Z
CREATED:20260420T100612Z
DTSTART:20250209T183000Z
DTEND:20250209T192500Z
LOCATION:Soccer Field 4A
CONTACT:
SUMMARY:Elite SC 2013 Girls Black VS. FC Lake County 2013G Select
DESCRIPTION:League Name: YISL 2014/13 (U11/U12) Girls Group 2\nGame Type: R
 egular\nGame Status: Complete\nHome Team: Elite SC 2013 Girls Black\nAway 
 Team: FC Lake County 2013G Select\nHome Score: 6\nAway Score: 7
END:VEVENT
BEGIN:VEVENT
UID:16105476@ezleagues.ezfacility.com
DTSTAMP:20260420T100612Z
CREATED:20260420T100612Z
DTSTART:20250216T211500Z
DTEND:20250216T221000Z
LOCATION:Soccer Field 2A
CONTACT:
SUMMARY:FC Lake County 2013G Select VS. FVB 2013/14 Girls
DESCRIPTION:League Name: YISL 2014/13 (U11/U12) Girls Group 2\nGame Type: R
 egular\nGame Status: Complete\nHome Team: FC Lake County 2013G Select\nAwa
 y Team: FVB 2013/14 Girls\nHome Score: 3\nAway Score: 5
END:VEVENT
BEGIN:VEVENT
UID:16105473@ezleagues.ezfacility.com
DTSTAMP:20260420T100612Z
CREATED:20260420T100612Z
DTSTART:20250223T145000Z
DTEND:20250223T154500Z
LOCATION:Soccer Field 4A
CONTACT:
SUMMARY:FCX 2013 U12G Red VS. FC Lake County 2013G Select
DESCRIPTION:League Name: YISL 2014/13 (U11/U12) Girls Group 2\nGame Type: R
 egular\nGame Status: Complete\nHome Team: FCX 2013 U12G Red\nAway Team: FC
  Lake County 2013G Select\nHome Score: 0\nAway Score: 5
END:VEVENT
BEGIN:VEVENT
UID:16105481@ezleagues.ezfacility.com
DTSTAMP:20260420T100612Z
CREATED:20260420T100612Z
DTSTART:20250302T145000Z
DTEND:20250302T154500Z
LOCATION:Soccer Field 2A
CONTACT:
SUMMARY:FC Lake County 2013G Select VS. Inferno 2014/15 Premier Girls
DESCRIPTION:League Name: YISL 2014/13 (U11/U12) Girls Group 2\nGame Type: R
 egular\nGame Status: Complete\nHome Team: FC Lake County 2013G Select\nAwa
 y Team: Inferno 2014/15 Premier Girls\nHome Score: 3\nAway Score: 0
END:VEVENT
END:VCALENDAR
