BEGIN:VCALENDAR
VERSION:2.0
PRODID:-//EZFacility.com, Inc.//EZL 2.5.5.28621
BEGIN:VEVENT
UID:16059882@ezleagues.ezfacility.com
DTSTAMP:20260423T083728Z
CREATED:20260423T083728Z
DTSTART:20241118T035000Z
DTEND:20241118T044000Z
LOCATION:INDOOR FIELD
CONTACT:Back
SUMMARY:Jabronis VS. Yogis Heroes
DESCRIPTION:League Name: Adult Soccer Fall/Winter S2 2024-Coed A\nGame Type
 : Regular\nGame Status: Complete\nHome Team: Jabronis\nAway Team: Yogis He
 roes\nHome Score: 6\nAway Score: 5
END:VEVENT
BEGIN:VEVENT
UID:16059883@ezleagues.ezfacility.com
DTSTAMP:20260423T083728Z
CREATED:20260423T083728Z
DTSTART:20241202T030000Z
DTEND:20241202T035000Z
LOCATION:INDOOR FIELD
CONTACT:Guiterrez
SUMMARY:Blue Peppers VS. Jabronis
DESCRIPTION:League Name: Adult Soccer Fall/Winter S2 2024-Coed A\nGame Type
 : Regular\nGame Status: Complete\nHome Team: Blue Peppers\nAway Team: Jabr
 onis\nHome Score: 4\nAway Score: 8
END:VEVENT
BEGIN:VEVENT
UID:16059889@ezleagues.ezfacility.com
DTSTAMP:20260423T083728Z
CREATED:20260423T083728Z
DTSTART:20241209T030000Z
DTEND:20241209T035000Z
LOCATION:INDOOR FIELD
CONTACT:Farr\, Back
SUMMARY:The Podskiers VS. Jabronis
DESCRIPTION:League Name: Adult Soccer Fall/Winter S2 2024-Coed A\nGame Type
 : Regular\nGame Status: Complete\nHome Team: The Podskiers\nAway Team: Jab
 ronis\nHome Score: 11\nAway Score: 9
END:VEVENT
BEGIN:VEVENT
UID:16059891@ezleagues.ezfacility.com
DTSTAMP:20260423T083728Z
CREATED:20260423T083728Z
DTSTART:20241216T030000Z
DTEND:20241216T035000Z
LOCATION:INDOOR FIELD
CONTACT:Back
SUMMARY:Jabronis VS. Coras FC
DESCRIPTION:League Name: Adult Soccer Fall/Winter S2 2024-Coed A\nGame Type
 : Regular\nGame Status: Complete\nHome Team: Jabronis\nAway Team: Coras FC
 \nHome Score: 6\nAway Score: 5
END:VEVENT
BEGIN:VEVENT
UID:16059921@ezleagues.ezfacility.com
DTSTAMP:20260423T083728Z
CREATED:20260423T083728Z
DTSTART:20250106T035000Z
DTEND:20250106T044000Z
LOCATION:INDOOR FIELD
CONTACT:Back\, Valceschini
SUMMARY:Jabronis VS. Yogis Heroes
DESCRIPTION:League Name: Adult Soccer Fall/Winter S2 2024-Coed A\nGame Type
 : Regular\nGame Status: Complete\nHome Team: Jabronis\nAway Team: Yogis He
 roes\nHome Score: 6\nAway Score: 5
END:VEVENT
BEGIN:VEVENT
UID:16059933@ezleagues.ezfacility.com
DTSTAMP:20260423T083728Z
CREATED:20260423T083728Z
DTSTART:20250113T035000Z
DTEND:20250113T044000Z
LOCATION:INDOOR FIELD
CONTACT:Valceschini
SUMMARY:Jabronis VS. Blue Peppers
DESCRIPTION:League Name: Adult Soccer Fall/Winter S2 2024-Coed A\nGame Type
 : Regular\nGame Status: Complete\nHome Team: Jabronis\nAway Team: Blue Pep
 pers\nHome Score: 7\nAway Score: 3
END:VEVENT
BEGIN:VEVENT
UID:16059934@ezleagues.ezfacility.com
DTSTAMP:20260423T083728Z
CREATED:20260423T083728Z
DTSTART:20250120T035000Z
DTEND:20250120T044000Z
LOCATION:INDOOR FIELD
CONTACT:Valceschini
SUMMARY:Jabronis VS. The Podskiers
DESCRIPTION:League Name: Adult Soccer Fall/Winter S2 2024-Coed A\nGame Type
 : Regular\nGame Status: Complete\nHome Team: Jabronis\nAway Team: The Pods
 kiers\nHome Score: 8\nAway Score: 4
END:VEVENT
BEGIN:VEVENT
UID:16059936@ezleagues.ezfacility.com
DTSTAMP:20260423T083728Z
CREATED:20260423T083728Z
DTSTART:20250127T035000Z
DTEND:20250127T044000Z
LOCATION:INDOOR FIELD
CONTACT:Valceschini
SUMMARY:Jabronis VS. Coras FC
DESCRIPTION:League Name: Adult Soccer Fall/Winter S2 2024-Coed A\nGame Type
 : Regular\nGame Status: Complete\nHome Team: Jabronis\nAway Team: Coras FC
 \nHome Score: 11\nAway Score: 1
END:VEVENT
BEGIN:VEVENT
UID:16214819@ezleagues.ezfacility.com
DTSTAMP:20260423T083728Z
CREATED:20260423T083728Z
DTSTART:20250203T041500Z
DTEND:20250203T044000Z
LOCATION:INDOOR FIELD
CONTACT:
SUMMARY:Jabronis VS. Winner Play In 1
DESCRIPTION:League Name: Adult Soccer Fall/Winter S2 2024-Coed A\nGame Type
 : Postseason\nGame Status: Pending\nHome Team: Jabronis\nAway Team: Winner
  Play In 1\n
END:VEVENT
END:VCALENDAR
