BEGIN:VCALENDAR
VERSION:2.0
PRODID:-//EZFacility.com, Inc.//EZL 2.5.5.28621
BEGIN:VEVENT
UID:16086043@ezleagues.ezfacility.com
DTSTAMP:20260426T035012Z
CREATED:20260426T035012Z
DTSTART:20250202T220000Z
DTEND:20250202T230000Z
LOCATION:Field 1
CONTACT:
SUMMARY:Fusion FC Coyotes VS. Keystone FC Premier 16G
DESCRIPTION:League Name: S2 - U10/11G 2024/25\nGame Type: Regular\nGame Sta
 tus: Complete\nHome Team: Fusion FC Coyotes\nAway Team: Keystone FC Premie
 r 16G\nHome Score: 4\nAway Score: 3
END:VEVENT
BEGIN:VEVENT
UID:16085985@ezleagues.ezfacility.com
DTSTAMP:20260426T035012Z
CREATED:20260426T035012Z
DTSTART:20250216T160000Z
DTEND:20250216T170000Z
LOCATION:Field 1
CONTACT:
SUMMARY:DASC Purple Tornadoes VS. Keystone FC Premier 16G
DESCRIPTION:League Name: S2 - U10/11G 2024/25\nGame Type: Regular\nGame Sta
 tus: Complete\nHome Team: DASC Purple Tornadoes\nAway Team: Keystone FC Pr
 emier 16G\nHome Score: 2\nAway Score: 9
END:VEVENT
BEGIN:VEVENT
UID:16085956@ezleagues.ezfacility.com
DTSTAMP:20260426T035012Z
CREATED:20260426T035012Z
DTSTART:20250223T230000Z
DTEND:20250224T000000Z
LOCATION:Field 1
CONTACT:
SUMMARY:Iron Valley Wolves VS. Keystone FC Premier 16G
DESCRIPTION:League Name: S2 - U10/11G 2024/25\nGame Type: Regular\nGame Sta
 tus: Complete\nHome Team: Iron Valley Wolves\nAway Team: Keystone FC Premi
 er 16G\nHome Score: 3\nAway Score: 7
END:VEVENT
BEGIN:VEVENT
UID:16086014@ezleagues.ezfacility.com
DTSTAMP:20260426T035012Z
CREATED:20260426T035012Z
DTSTART:20250302T230000Z
DTEND:20250303T000000Z
LOCATION:Field 3
CONTACT:
SUMMARY:NEYSA Lady Bobcats VS. Keystone FC Premier 16G
DESCRIPTION:League Name: S2 - U10/11G 2024/25\nGame Type: Regular\nGame Sta
 tus: Complete\nHome Team: NEYSA Lady Bobcats\nAway Team: Keystone FC Premi
 er 16G\nHome Score: 0\nAway Score: 8
END:VEVENT
BEGIN:VEVENT
UID:16085927@ezleagues.ezfacility.com
DTSTAMP:20260426T035012Z
CREATED:20260426T035012Z
DTSTART:20250309T180000Z
DTEND:20250309T190000Z
LOCATION:Field 3
CONTACT:
SUMMARY:Keystone FC Premier 16G VS. East Penn Fury
DESCRIPTION:League Name: S2 - U10/11G 2024/25\nGame Type: Regular\nGame Sta
 tus: Complete\nHome Team: Keystone FC Premier 16G\nAway Team: East Penn Fu
 ry\nHome Score: 3\nAway Score: 2
END:VEVENT
BEGIN:VEVENT
UID:16085869@ezleagues.ezfacility.com
DTSTAMP:20260426T035012Z
CREATED:20260426T035012Z
DTSTART:20250323T220000Z
DTEND:20250323T230000Z
LOCATION:Field 1
CONTACT:
SUMMARY:Keystone FC Premier 16G VS. Eagle FC 14G Black
DESCRIPTION:League Name: S2 - U10/11G 2024/25\nGame Type: Regular\nGame Sta
 tus: Complete\nHome Team: Keystone FC Premier 16G\nAway Team: Eagle FC 14G
  Black\nHome Score: 2\nAway Score: 10
END:VEVENT
BEGIN:VEVENT
UID:16085898@ezleagues.ezfacility.com
DTSTAMP:20260426T035012Z
CREATED:20260426T035012Z
DTSTART:20250328T210000Z
DTEND:20250328T220000Z
LOCATION:Field 2
CONTACT:
SUMMARY:Keystone FC Premier 16G VS. Camp Hill Lady Lions
DESCRIPTION:League Name: S2 - U10/11G 2024/25\nGame Type: Regular\nGame Sta
 tus: Complete\nHome Team: Keystone FC Premier 16G\nAway Team: Camp Hill La
 dy Lions\nHome Score: 7\nAway Score: 2
END:VEVENT
BEGIN:VEVENT
UID:16085840@ezleagues.ezfacility.com
DTSTAMP:20260426T035012Z
CREATED:20260426T035012Z
DTSTART:20250330T170000Z
DTEND:20250330T180000Z
LOCATION:Field 1
CONTACT:
SUMMARY:Keystone FC Premier 16G VS. Fusion Warriors
DESCRIPTION:League Name: S2 - U10/11G 2024/25\nGame Type: Regular\nGame Sta
 tus: Complete\nHome Team: Keystone FC Premier 16G\nAway Team: Fusion Warri
 ors\nHome Score: 2\nAway Score: 4
END:VEVENT
END:VCALENDAR
